From mboxrd@z Thu Jan 1 00:00:00 1970 Return-Path: Received: from mails.dpdk.org (mails.dpdk.org [217.70.189.124]) by inbox.dpdk.org (Postfix) with ESMTP id 3C52B46BA5 for ; Fri, 18 Jul 2025 06:23:38 +0200 (CEST) Received: from mails.dpdk.org (localhost [127.0.0.1]) by mails.dpdk.org (Postfix) with ESMTP id 1B1A140144; Fri, 18 Jul 2025 06:23:38 +0200 (CEST) Received: from mail-il1-f225.google.com (mail-il1-f225.google.com [209.85.166.225]) by mails.dpdk.org (Postfix) with ESMTP id 0F82740144 for ; Fri, 18 Jul 2025 06:23:37 +0200 (CEST) Received: by mail-il1-f225.google.com with SMTP id e9e14a558f8ab-3df2e7cdc69so5012815ab.2 for ; Thu, 17 Jul 2025 21:23:36 -0700 (PDT) DKIM-Signature: v=1; a=rsa-sha256; c=relaxed/relaxed; d=iol.unh.edu; s=unh-iol; t=1752812616; x=1753417416; darn=dpdk.org; h=references:in-reply-to:cc:to:from:subject:message-id:date:from:to :cc:subject:date:message-id:reply-to; bh=3frdxTaCMJPNb0bcNDYsGOkfsXHXlMDF1rUQOuDrixA=; b=OS/iT79Q7xXF8yIH+Vb0fjn5g7UXo+ZMQp95v36iPhBmqnl7xV1PhLvCOcgzanj2fC j9UCsM6DmMzCkogyOw09HMwQM1nqXOhYeeC9jzZcRU96i8qVfRSm3YX+1nEvtTzIYyM8 FezUGVF3DwCjy4IgE43b4AUor5nzCB2R5PPKY= X-Google-DKIM-Signature: v=1; a=rsa-sha256; c=relaxed/relaxed; d=1e100.net; s=20230601; t=1752812616; x=1753417416; h=references:in-reply-to:cc:to:from:subject:message-id:date :x-gm-message-state:from:to:cc:subject:date:message-id:reply-to; bh=3frdxTaCMJPNb0bcNDYsGOkfsXHXlMDF1rUQOuDrixA=; b=RgIrk6d0Xvx+xv3oS7E2rZ78hz2323G2xPDGJhFjt8jBk5sOIEVkq4RpdGnlWq+b9s giQ9lxqoeDLytSF8XAbuPSHuL29Mg2bZ4w3CfeI90iQBVqICZnhRTW11Cwj0nuJcR1pI 9eQMk63gfhllq39Ct7z1hACoKz255AiE1HWUajnDS23nV4i/hL4zykx09DUNiZtD4XJH tP8aHvrQ6z4L03St9oC5Xn9AZpOYyvEZR0ZJ3kSDJU0Xa1vtfxDc6udZTckhCijsr3mk 2LQpHUvpWz60DUkd0nGgsFn5c5CCmu81q1N92/UR9lwSdMSIKj23g2HbKTGVBOIxunD3 nwjw== X-Gm-Message-State: AOJu0YxaFuheFPalJLeQwW5UXm4aHaPjY7gPj95MbGDzMk9FGZLW61Hj SU2B2phnPD5bsFDKvFolJlLoAtrEmoNdn2KTNaBLYdVBhgoxYrbXBSHQCoqKjoCPYhATTkOcbDo YHvhKQYAhsxgS7flJiBTGTG3ZsbF2gb/e3aAzamugHsPl X-Gm-Gg: ASbGnctQiGKmZDPRRpkMgZiq/HXmFStLwF3tc2pwqYlEbtOOh00lVTgyZ7xv0L7Bf5H ArZwNLDFKuwO8n4zPmRF7jza4zcFlP3vuA1RwUsdBQCj4hpoUKi3OAufEcUP2HVtZmazlbeG/mD tFBS+DTtCTVQZ7XvMIU3zZJ1nGVtjm2AUdCy7OHc2wii4nXMUZtfyiFNQhN8Y+DfCNhVz7C025G VdXuEbiBJ4L47xfuavrbPBVLd/WMoRQRypULvAzrXFhZAI+YqzY6yQ6QiP+Iucisaq547PJJOiI xDbpVPPY83bBS0JS3OIoEDe4B5mybhKxELU5zNSzHODN6NRi/nW61JulmfkXsGN8TK2JxeJZ X-Google-Smtp-Source: AGHT+IEM1O3YD9Ih1m1FEQVBxuf6ZT++WgeJU5E9cOSNTxRGjoIaaRRUB45TZ9Etw592vEsGQWx2g38inRMz X-Received: by 2002:a92:c26c:0:b0:3e2:9442:925f with SMTP id e9e14a558f8ab-3e297458a5cmr13635785ab.18.1752812616301; Thu, 17 Jul 2025 21:23:36 -0700 (PDT) Received: from postal.iol.unh.edu (postal.iol.unh.edu. [132.177.123.84]) by smtp-relay.gmail.com with ESMTPS id e9e14a558f8ab-3e298353c1bsm349865ab.33.2025.07.17.21.23.36 (version=TLS1_2 cipher=ECDHE-ECDSA-AES128-GCM-SHA256 bits=128/128); Thu, 17 Jul 2025 21:23:36 -0700 (PDT) X-Relaying-Domain: iol.unh.edu Date: Thu, 17 Jul 2025 21:23:36 -0700 (PDT) Message-ID: <6879cc48.050a0220.afe8b.3a05SMTPIN_ADDED_MISSING@mx.google.com> Received: from [172.21.0.3] (unknown [172.18.0.240]) by postal.iol.unh.edu (Postfix) with ESMTP id D39A96051830; Fri, 18 Jul 2025 00:23:35 -0400 (EDT) Subject: |SUCCESS| pw155207 [PATCH] [v1] mailmap: add new email to DPDK From: dpdklab@iol.unh.edu To: Test Report Cc: dpdk-test-reports@iol.unh.edu In-Reply-To: <20250714191141.1243467-1-pravin.pathak@intel.com> References: <20250714191141.1243467-1-pravin.pathak@intel.com> Content-Type: text/plain X-BeenThere: test-report@dpdk.org X-Mailman-Version: 2.1.29 Precedence: list List-Id: automatic DPDK test reports List-Unsubscribe: , List-Archive: List-Post: List-Help: List-Subscribe: , Errors-To: test-report-bounces@dpdk.org Test-Label: iol-compile-arm64-testing Test-Status: SUCCESS http://dpdk.org/patch/155207 _Testing PASS RETEST #2_ Submitter: Pravin Pathak Date: Monday, July 14 2025 19:11:41 DPDK git baseline: Repo:dpdk Branch: master CommitID:20a053a223db35244b6daee98d71fdab631646b6 155207 --> testing pass Upstream job id: Generic-DPDK-Compile-Meson#409584 Test environment and result as below: +------------------------------+--------------------+ | Environment | dpdk_meson_compile | +==============================+====================+ | Red Hat Enterprise Linux 9.5 | PASS | +------------------------------+--------------------+ | Ubuntu 20.04 | PASS | +------------------------------+--------------------+ | Debian GNU/Linux 12 | PASS | +------------------------------+--------------------+ | Fedora Linux 40 | PASS | +------------------------------+--------------------+ | Fedora Linux 41 | PASS | +------------------------------+--------------------+ | CentOS Stream 9 | PASS | +------------------------------+--------------------+ | CentOS Stream 10 | PASS | +------------------------------+--------------------+ | Ubuntu 22.04 | PASS | +------------------------------+--------------------+ | Ubuntu 24.04 | PASS | +------------------------------+--------------------+ Red Hat Enterprise Linux 9.5 Kernel: 5.4 Compiler: gcc gcc (GCC) 11.5.0 20240719 (Red Hat 11.5.0-2) Ubuntu 20.04 Kernel: 5.4 Compiler: gcc gcc (Ubuntu 9.4.0-1ubuntu1~20.04.2) 9.4.0 Debian GNU/Linux 12 Kernel: 5.4 Compiler: gcc gcc (Debian 12.2.0-14+deb12u1) 12.2.0 Fedora Linux 40 Kernel: 5.4 Compiler: gcc gcc (GCC) 14.2.1 20240912 (Red Hat 14.2.1-3) Fedora Linux 41 Kernel: 5.4 Compiler: gcc gcc (GCC) 14.3.1 20250523 (Red Hat 14.3.1-1) CentOS Stream 9 Kernel: 5.4 Compiler: gcc gcc (GCC) 11.5.0 20240719 (Red Hat 11.5.0-7) CentOS Stream 10 Kernel: 5.4 Compiler: gcc gcc (GCC) 14.2.1 20250110 (Red Hat 14.2.1-8) Ubuntu 22.04 Kernel: 5.4 Compiler: gcc gcc (Ubuntu 11.4.0-1ubuntu1~22.04) 11.4.0 Ubuntu 24.04 Kernel: 5.4 Compiler: gcc gcc (Ubuntu 13.3.0-6ubuntu2~24.04) 13.3.0 To view detailed results, visit: https://lab.dpdk.org/results/dashboard/patchsets/33652/ UNH-IOL DPDK Community Lab To manage your email subscriptions, visit: https://lab.dpdk.org/results/dashboard/preferences/subscriptions/