From mboxrd@z Thu Jan 1 00:00:00 1970 Return-Path: Received: from mails.dpdk.org (mails.dpdk.org [217.70.189.124]) by inbox.dpdk.org (Postfix) with ESMTP id C3B9A46BAA for ; Fri, 18 Jul 2025 12:35:16 +0200 (CEST) Received: from mails.dpdk.org (localhost [127.0.0.1]) by mails.dpdk.org (Postfix) with ESMTP id A4D084013F; Fri, 18 Jul 2025 12:35:16 +0200 (CEST) Received: from mail-il1-f228.google.com (mail-il1-f228.google.com [209.85.166.228]) by mails.dpdk.org (Postfix) with ESMTP id F3D724013F for ; Fri, 18 Jul 2025 12:35:15 +0200 (CEST) Received: by mail-il1-f228.google.com with SMTP id e9e14a558f8ab-3df2d8cb8d2so7486115ab.2 for ; Fri, 18 Jul 2025 03:35:15 -0700 (PDT) DKIM-Signature: v=1; a=rsa-sha256; c=relaxed/relaxed; d=iol.unh.edu; s=unh-iol; t=1752834915; x=1753439715; darn=dpdk.org; h=references:in-reply-to:cc:to:from:subject:message-id:date:from:to :cc:subject:date:message-id:reply-to; bh=eX8+3ySmc0Z2mRqzKpyUFPiXg9xADTFq9fSPnaf+XjY=; b=XLNPxZ6OdU5SRD+E6gNaA9cHj2sG8w2PNEWOXFw2KJi0XBj1hBY0mX1DcJ330/+/fE eQ8NI1Vi8F8aYhqbFHEsiX9byuYP/qen9PZqmnQK2JJt/sI1h0d+xU8D9TbYxzL4hzWB GXGelfcHOpA4VmUqgHwfkLt4Aw5SU53pK5ABc= X-Google-DKIM-Signature: v=1; a=rsa-sha256; c=relaxed/relaxed; d=1e100.net; s=20230601; t=1752834915; x=1753439715; h=references:in-reply-to:cc:to:from:subject:message-id:date :x-gm-message-state:from:to:cc:subject:date:message-id:reply-to; bh=eX8+3ySmc0Z2mRqzKpyUFPiXg9xADTFq9fSPnaf+XjY=; b=j7YZiOJrw8O1tp2NNm1PJVifBsiimJqs4q6gzb0seJMhMeD8I8ZVF+fRperofO9zcS lOue8xMCKGlhRgAEUfB+i7TmwkNNuOWSkigUsZ1iGDg26HIgWo0RUPDhKFtpUu7UBAN4 0bqw1KhbWMBTdovcVkkUwzP59GgbIVwgdNIFxcXqLmF/EmYQeVH5kuyRr7dPLfPhdItu miC1Tu/OrgGZdbPxv9kRyCqMV//uZCkVRphi8Plb24Syg4VB1UHz8YbYcIc9QRPoCDWQ MjQ/domxq3uq2ne/2pJwbF+w3aSFu6TaxzahYZdrvElxptvdBu4NtYV+ZMzPDmgkylME YAIA== X-Gm-Message-State: AOJu0YzxCrFyeXa6OAQSnI09vn4kQGQYYTWUXvsUgfiSSOu9U+mkL5vw louOKACi7OadttKZyqXPJeIcOVNA7Gpy+Fgjkew6Q3zbZmBqaXxzVoTphyN41J/Klb7g/TObcII VvR0k0Sen6vmxKKZLyQU4sNhs6Ca2SqC5FhNleq373FuIwI07PSvPbqxfO9m6 X-Gm-Gg: ASbGncstbcnNh7yp6msDF/ALGB8mk9PKjGOEzgxkivz3sLAfqCUO1Hr68pEMIgUJidQ PP4e/NKa2NLlLutDyKIdV6tpDRm16qyy4QuNZ2TxoTUzGR4YkOWNXQaFsaw19IGhMO5aD9IO7H1 /CCkOyMmrwtWo73Nue7DWNDVixRqWQhTiUviLgkbLKyQEcDW7scAZEjkgk4Phj6pHBIyDP/6BN7 OjSz3n0smg8FDCHX6QAwiCYvV18XJSRWSqGbG9nAWzqjNpNLNsrUE8BzQjwxzgSz20JSlHK3gTA i9d4hY7iJLQcIJx6y856bHjig94HcaYRYM8ZzpuSRRbVHqZaIw== X-Google-Smtp-Source: AGHT+IF6aiHL4FSRyPEjOKUaAmUfuCxUJEZ/pCJZsOKPpKPt3Bp0aIUQuyvbSZyjl88XnpqWMceBPowt/oSr X-Received: by 2002:a05:6e02:3b84:b0:3e2:9873:6e39 with SMTP id e9e14a558f8ab-3e298736ff8mr13838905ab.16.1752834915111; Fri, 18 Jul 2025 03:35:15 -0700 (PDT) Received: from postal.iol.unh.edu (postal.iol.unh.edu. [2606:4100:3880:1234::84]) by smtp-relay.gmail.com with ESMTPS id e9e14a558f8ab-3e29836f8e0sm727955ab.44.2025.07.18.03.35.15 (version=TLS1_2 cipher=ECDHE-ECDSA-AES128-GCM-SHA256 bits=128/128); Fri, 18 Jul 2025 03:35:15 -0700 (PDT) X-Relaying-Domain: iol.unh.edu Date: Fri, 18 Jul 2025 03:35:15 -0700 (PDT) Message-ID: <687a2363.050a0220.3343d9.3d4cSMTPIN_ADDED_MISSING@mx.google.com> Received: from [172.21.0.2] (unknown [172.18.0.240]) by postal.iol.unh.edu (Postfix) with ESMTP id A4A0C6051830; Fri, 18 Jul 2025 06:35:14 -0400 (EDT) Subject: |SUCCESS| pw155320 [PATCH] net/ixgbe: fix SCTP port support on E610 From: dpdklab@iol.unh.edu To: Test Report Cc: dpdk-test-reports@iol.unh.edu In-Reply-To: <20250718085335.648078-1-yuanx.wang@intel.com> References: <20250718085335.648078-1-yuanx.wang@intel.com> Content-Type: text/plain X-BeenThere: test-report@dpdk.org X-Mailman-Version: 2.1.29 Precedence: list List-Id: automatic DPDK test reports List-Unsubscribe: , List-Archive: List-Post: List-Help: List-Subscribe: , Errors-To: test-report-bounces@dpdk.org Test-Label: iol-unit-arm64-testing Test-Status: SUCCESS http://dpdk.org/patch/155320 _Testing PASS_ Submitter: Yuan Wang Date: Friday, July 18 2025 08:53:35 DPDK git baseline: Repo:dpdk Branch: master CommitID:a6b10031d251fcc7dadede461f7e1d005024b139 155320 --> testing pass Upstream job id: Generic-Unit-Test-DPDK#356199 Test environment and result as below: +------------------------------+--------------+---------------------------+------------------------------+----------------+ | Environment | lpm_autotest | cryptodev_sw_zuc_autotest | cryptodev_sw_snow3g_autotest | dpdk_unit_test | +==============================+==============+===========================+==============================+================+ | Ubuntu 20.04 | PASS | SKIPPED | SKIPPED | PASS | +------------------------------+--------------+---------------------------+------------------------------+----------------+ | Debian 12 (arm) | SKIPPED | PASS | PASS | SKIPPED | +------------------------------+--------------+---------------------------+------------------------------+----------------+ | CentOS Stream 9 | SKIPPED | SKIPPED | SKIPPED | PASS | +------------------------------+--------------+---------------------------+------------------------------+----------------+ | Fedora Linux 40 | SKIPPED | SKIPPED | SKIPPED | PASS | +------------------------------+--------------+---------------------------+------------------------------+----------------+ | Debian GNU/Linux 12 | SKIPPED | SKIPPED | SKIPPED | PASS | +------------------------------+--------------+---------------------------+------------------------------+----------------+ | CentOS Stream 10 | SKIPPED | SKIPPED | SKIPPED | PASS | +------------------------------+--------------+---------------------------+------------------------------+----------------+ | Fedora Linux 41 | SKIPPED | SKIPPED | SKIPPED | PASS | +------------------------------+--------------+---------------------------+------------------------------+----------------+ | Red Hat Enterprise Linux 9.5 | SKIPPED | SKIPPED | SKIPPED | PASS | +------------------------------+--------------+---------------------------+------------------------------+----------------+ | Ubuntu 22.04 | SKIPPED | SKIPPED | SKIPPED | PASS | +------------------------------+--------------+---------------------------+------------------------------+----------------+ | Ubuntu 24.04 | SKIPPED | SKIPPED | SKIPPED | PASS | +------------------------------+--------------+---------------------------+------------------------------+----------------+ Ubuntu 20.04 Kernel: 5.4 Compiler: gcc gcc (Ubuntu 9.4.0-1ubuntu1~20.04.2) 9.4.0 Debian 12 (arm) Kernel: Depends on container host Compiler: gcc (Debian 12.2.0-14) 12.2.0 CentOS Stream 9 Kernel: 5.4 Compiler: gcc gcc (GCC) 11.5.0 20240719 (Red Hat 11.5.0-7) Fedora Linux 40 Kernel: 5.4 Compiler: clang gcc (GCC) 14.2.1 20240912 (Red Hat 14.2.1-3) Debian GNU/Linux 12 Kernel: 5.4 Compiler: gcc gcc (Debian 12.2.0-14+deb12u1) 12.2.0 CentOS Stream 10 Kernel: 5.4 Compiler: gcc gcc (GCC) 14.2.1 20250110 (Red Hat 14.2.1-8) Fedora Linux 41 Kernel: 5.4 Compiler: gcc gcc (GCC) 14.3.1 20250523 (Red Hat 14.3.1-1) Red Hat Enterprise Linux 9.5 Kernel: 5.4 Compiler: gcc gcc (GCC) 11.5.0 20240719 (Red Hat 11.5.0-2) Ubuntu 22.04 Kernel: 5.4 Compiler: gcc gcc (Ubuntu 11.4.0-1ubuntu1~22.04) 11.4.0 Ubuntu 24.04 Kernel: 5.4 Compiler: gcc gcc (Ubuntu 13.3.0-6ubuntu2~24.04) 13.3.0 To view detailed results, visit: https://lab.dpdk.org/results/dashboard/patchsets/33684/ UNH-IOL DPDK Community Lab To manage your email subscriptions, visit: https://lab.dpdk.org/results/dashboard/preferences/subscriptions/