From mboxrd@z Thu Jan 1 00:00:00 1970 Return-Path: Received: from mails.dpdk.org (mails.dpdk.org [217.70.189.124]) by inbox.dpdk.org (Postfix) with ESMTP id CF91C46BAA for ; Fri, 18 Jul 2025 12:36:34 +0200 (CEST) Received: from mails.dpdk.org (localhost [127.0.0.1]) by mails.dpdk.org (Postfix) with ESMTP id C8B694013F; Fri, 18 Jul 2025 12:36:34 +0200 (CEST) Received: from mail-oa1-f98.google.com (mail-oa1-f98.google.com [209.85.160.98]) by mails.dpdk.org (Postfix) with ESMTP id B5F4E4013F for ; Fri, 18 Jul 2025 12:36:33 +0200 (CEST) Received: by mail-oa1-f98.google.com with SMTP id 586e51a60fabf-2ebb72384dbso640976fac.1 for ; Fri, 18 Jul 2025 03:36:33 -0700 (PDT) DKIM-Signature: v=1; a=rsa-sha256; c=relaxed/relaxed; d=iol.unh.edu; s=unh-iol; t=1752834993; x=1753439793; darn=dpdk.org; h=references:in-reply-to:cc:to:from:subject:message-id:date:from:to :cc:subject:date:message-id:reply-to; bh=uIIhL7sQGfM3XjQ+EaS0slEMoVvUT3O9/agXg6OTaw8=; b=QbVwQo+n2UHZbR6KKdyQ3Lf4gjN8jgwUUWFtJHcyCkp6XniibhkRgDy5/GNn9ZE1zV Dv6Ynvn/7CZ8/Ci+j9V9HIvkpNc/1Fl7F23vIRzfqlrFCK+TY8sHlLKQB0/xw/KQKfy1 RcB9MJkHw3vc7ig8fIXHGO1rSYftUsfkNxnOA= X-Google-DKIM-Signature: v=1; a=rsa-sha256; c=relaxed/relaxed; d=1e100.net; s=20230601; t=1752834993; x=1753439793; h=references:in-reply-to:cc:to:from:subject:message-id:date :x-gm-message-state:from:to:cc:subject:date:message-id:reply-to; bh=uIIhL7sQGfM3XjQ+EaS0slEMoVvUT3O9/agXg6OTaw8=; b=kf8+jI/7keu+djqYlisme5+nvJM5eGT7nIhz/DxlvGejamhZgQwQcxG9BOkglicaLr WVziOAVmW/U7jTDrMu0BBc0vsoOJWAhTPp/WohV/vt2/NpI6bp7RTV8YqHQfwVU0jSc5 038EW208qOuQttmmSykEQuT5NzCjBcIbRYiIDS2aLw+aOyyYmAponifnPYFsDhOl91lk LEfqvynY2ogqvOCoGivMW0QhIwA1ONK7jyRUs4vnxh5tzMkJOXtwxxWC4XQZ+R4DD8m5 bidscMg4TcbwPlaVY3UIstowNAFSTuOo5PLZq9kQmPTmSnQL0ipgD0Bnm2MofQVeEkwJ s/Zg== X-Gm-Message-State: AOJu0YxRSX9TB1LEWQ68q3uRF2V9Xnl/TG/6vu236zPaGJky11TfXxhc BXX7pYrQwSh4aJDZBo8nxAUuEZzMOebA8bgOa/BLOMLr7nrgUG6eM6bk/Ggy7iEnKvIJWZzXhTf w0ccAsRmRTMtq8wAzpRGCXHyKyzzq2MHoUU9Z30JaNEVd X-Gm-Gg: ASbGnct36JyNB5c/p5jferoV5qkhfSf+gk9q8Bh9MuAHhh9wPZpGuzAoIo9K73xe8W3 Z5I6zQzU614cfIZZlYuU8XK6scNSPeuTaGvVJdn5KNcetSJtVlsv0wTKLFN3qSICn5jxZrYJScq FClxcCn8k/DodN9uXqoreBYEH5N7wSRXLXUdtd3OkkyRo8srhEoetssERtKT/zdFSwSTTywUigH pIkl15cc0XrH6ByYPjcBtzOpjQSIAr3F2r6gGWRCB13IwQodLkO+nu3MlXnbJpEm91k983hhMm1 0xNGzP5g6tLZAO0rAPfj268J3kRfV+yslGH/vZLGFP0eoRTSJJtEjntY3WKj61GQRhCYQXgw X-Google-Smtp-Source: AGHT+IE3SGo9Qfb31vdMRnCo7IbXSjqCxYPHyoIN5XCWIP1kKfdoCPG6NZKCUrBU/+Pqirv7HsnK1c46kon0 X-Received: by 2002:a05:687c:2f0d:b0:2c2:27c8:5865 with SMTP id 586e51a60fabf-300e8d20ba9mr1629030fac.9.1752834992834; Fri, 18 Jul 2025 03:36:32 -0700 (PDT) Received: from postal.iol.unh.edu (postal.iol.unh.edu. [132.177.123.84]) by smtp-relay.gmail.com with ESMTPS id 586e51a60fabf-30105f126d6sm96721fac.24.2025.07.18.03.36.32 (version=TLS1_2 cipher=ECDHE-ECDSA-AES128-GCM-SHA256 bits=128/128); Fri, 18 Jul 2025 03:36:32 -0700 (PDT) X-Relaying-Domain: iol.unh.edu Date: Fri, 18 Jul 2025 03:36:32 -0700 (PDT) Message-ID: <687a23b0.050a0220.a12dc.519cSMTPIN_ADDED_MISSING@mx.google.com> Received: from [172.21.0.2] (unknown [172.18.0.240]) by postal.iol.unh.edu (Postfix) with ESMTP id 51E746051830; Fri, 18 Jul 2025 06:36:32 -0400 (EDT) Subject: |SUCCESS| pw155320 [PATCH] net/ixgbe: fix SCTP port support on E610 From: dpdklab@iol.unh.edu To: Test Report Cc: dpdk-test-reports@iol.unh.edu In-Reply-To: <20250718085335.648078-1-yuanx.wang@intel.com> References: <20250718085335.648078-1-yuanx.wang@intel.com> Content-Type: text/plain X-BeenThere: test-report@dpdk.org X-Mailman-Version: 2.1.29 Precedence: list List-Id: automatic DPDK test reports List-Unsubscribe: , List-Archive: List-Post: List-Help: List-Subscribe: , Errors-To: test-report-bounces@dpdk.org Test-Label: iol-abi-testing Test-Status: SUCCESS http://dpdk.org/patch/155320 _Testing PASS_ Submitter: Yuan Wang Date: Friday, July 18 2025 08:53:35 DPDK git baseline: Repo:dpdk Branch: master CommitID:a6b10031d251fcc7dadede461f7e1d005024b139 155320 --> testing pass Upstream job id: Generic-DPDK-Compile-ABI#134753 Test environment and result as below: +-------------------------------+----------+ | Environment | abi_test | +===============================+==========+ | CentOS Stream 10 | PASS | +-------------------------------+----------+ | CentOS Stream 9 | PASS | +-------------------------------+----------+ | Debian GNU/Linux 12 | PASS | +-------------------------------+----------+ | Fedora Linux 40 | PASS | +-------------------------------+----------+ | Fedora Linux 41 | PASS | +-------------------------------+----------+ | Red Hat Enterprise Linux 8.10 | PASS | +-------------------------------+----------+ | Ubuntu 22.04 | PASS | +-------------------------------+----------+ | Ubuntu 24.04 | PASS | +-------------------------------+----------+ | Red Hat Enterprise Linux 9.5 | PASS | +-------------------------------+----------+ | openSUSE Leap 15.6 | PASS | +-------------------------------+----------+ CentOS Stream 10 Kernel: 5.15 Compiler: gcc gcc (GCC) 14.2.1 20250110 (Red Hat 14.2.1-8) CentOS Stream 9 Kernel: 5.15 Compiler: gcc gcc (GCC) 11.5.0 20240719 (Red Hat 11.5.0-7) Debian GNU/Linux 12 Kernel: 5.15 Compiler: gcc gcc (Debian 12.2.0-14+deb12u1) 12.2.0 Fedora Linux 40 Kernel: 5.15 Compiler: clang gcc (GCC) 14.2.1 20240912 (Red Hat 14.2.1-3) Fedora Linux 41 Kernel: 5.15 Compiler: gcc gcc (GCC) 14.3.1 20250523 (Red Hat 14.3.1-1) Red Hat Enterprise Linux 8.10 Kernel: 5.15 Compiler: gcc gcc (GCC) 8.5.0 20210514 (Red Hat 8.5.0-22) Ubuntu 22.04 Kernel: 5.15 Compiler: gcc gcc (Ubuntu 11.4.0-1ubuntu1~22.04) 11.4.0 Ubuntu 24.04 Kernel: 5.15 Compiler: gcc gcc (Ubuntu 13.3.0-6ubuntu2~24.04) 13.3.0 Red Hat Enterprise Linux 9.5 Kernel: 5.15 Compiler: gcc gcc (GCC) 11.5.0 20240719 (Red Hat 11.5.0-2) openSUSE Leap 15.6 Kernel: 5.15 Compiler: gcc gcc (SUSE Linux) 7.5.0 To view detailed results, visit: https://lab.dpdk.org/results/dashboard/patchsets/33684/ UNH-IOL DPDK Community Lab To manage your email subscriptions, visit: https://lab.dpdk.org/results/dashboard/preferences/subscriptions/