From mboxrd@z Thu Jan 1 00:00:00 1970 Return-Path: Received: from mails.dpdk.org (mails.dpdk.org [217.70.189.124]) by inbox.dpdk.org (Postfix) with ESMTP id 69F0D46BAA for ; Fri, 18 Jul 2025 12:41:41 +0200 (CEST) Received: from mails.dpdk.org (localhost [127.0.0.1]) by mails.dpdk.org (Postfix) with ESMTP id 43AD34013F; Fri, 18 Jul 2025 12:41:41 +0200 (CEST) Received: from mail-qv1-f97.google.com (mail-qv1-f97.google.com [209.85.219.97]) by mails.dpdk.org (Postfix) with ESMTP id 5C4104013F for ; Fri, 18 Jul 2025 12:41:40 +0200 (CEST) Received: by mail-qv1-f97.google.com with SMTP id 6a1803df08f44-6fabe9446a0so18059026d6.2 for ; Fri, 18 Jul 2025 03:41:40 -0700 (PDT) DKIM-Signature: v=1; a=rsa-sha256; c=relaxed/relaxed; d=iol.unh.edu; s=unh-iol; t=1752835300; x=1753440100; darn=dpdk.org; h=references:in-reply-to:cc:to:from:subject:message-id:date:from:to :cc:subject:date:message-id:reply-to; bh=MVkwsIRCPyYeMxoyq6rc6XJBVtVtgmiW4YYtBQmekbg=; b=DkGkpK/tJds4c5pOKwx/G9pTAoZvaOeOnxZJf7c75OZii1u25/0yHHGCzVS6tI8ybk tZimpzRvA6LXSit5eNu3RmXoGWiWXlYeO+iyS+1EP5j6L2iSD52RKo2dG7cuEz8ymU7/ FtYB6XFOGV1vLtlrsOzbJtUmawcIP0flHTMq4= X-Google-DKIM-Signature: v=1; a=rsa-sha256; c=relaxed/relaxed; d=1e100.net; s=20230601; t=1752835300; x=1753440100; h=references:in-reply-to:cc:to:from:subject:message-id:date :x-gm-message-state:from:to:cc:subject:date:message-id:reply-to; bh=MVkwsIRCPyYeMxoyq6rc6XJBVtVtgmiW4YYtBQmekbg=; b=DzV2NfLs338oDxER4NSMyUnh+Yan8EiR2RBKCZPjpeDWrkuOH7Adl9qCOy/zPdjnXY 8ry+rnRao01MzQfyinXqLHb8zifhjEhaUFMimmSCmhxDJ3Cs3sudLb13VVVbb9BYWyMY W5pr/N4/m06iCKr4tuDDoCfuPuLSeYDJUkCiVV95miSGsuDSa6O6t1DZskRbr82hKFUL E6olopyOEQQOTgg4BDnCmHjOCMeJzxB0ODB8RpUNGtZ+YoixBZks0Js6JxJrqcz9WopI VYcsYDhYcYV/nEZVDjzlkZadN/NkDImK58aRTGpqDHOJVcAZIu2cdxpKSFM7JRCtfuT8 aOyQ== X-Gm-Message-State: AOJu0Yy95dsVElHdMi7CXezb+PVhCkGZm9DQg3ZxDTPKRtbs5vFamAVp 3lbIIblCHVJoIrQddHN/EaHPNmsmF062LwIJgztL0O+9g6hGwh9LUWlz8uYQnb1SdQlqMZl3j+d mt7zlaY5CN7BDZsuy/F1xpsHjsj8RsTAfEFhrj5WAv7Vv X-Gm-Gg: ASbGnctpYA9d7yOBdoIH+Jy30LUZcd4uoRk1fFvQ+O6z6H2ZpqV0nHxwVMoyX/9lPS8 P07uKyDqAt3Ot6/NZEFPX1aIOimG9VMBzOS1mN/bgnhB4aZ3PtsN+X3KR+FH2uA1uuT+3hmozqQ /3V8mjAUAUS5aGfSWzrF9MVPGQ5PQOgjGSDCqyjpebY8ck3MkP56eBho68QcYaqu27Wqxi/VhgJ BCi3a/CXm+CbydcDmwVYVAqzxdA3xC95nIVYgiggVTVm1io83++jF4RIrOKcfH/O1mk8aThDW10 TlTZ/yMypusXaK3qoD+BFfVq+oI8w15kM0wvCPYl7l6i6sKaMO1ZKP0kure7yndR+dJuAfvJ X-Google-Smtp-Source: AGHT+IGZeahtUPf0a/145aBJKudb0A0zoYNFZ0XMyab2HFzBwBISPpkDdx/kKTV2PBZmMD1JK73Llre0JSGG X-Received: by 2002:a05:6214:5d87:b0:704:f956:667a with SMTP id 6a1803df08f44-704f95668bfmr105962156d6.49.1752835299632; Fri, 18 Jul 2025 03:41:39 -0700 (PDT) Received: from postal.iol.unh.edu (postal.iol.unh.edu. [132.177.123.84]) by smtp-relay.gmail.com with ESMTPS id 6a1803df08f44-7051bd679edsm652296d6.55.2025.07.18.03.41.39 (version=TLS1_2 cipher=ECDHE-ECDSA-AES128-GCM-SHA256 bits=128/128); Fri, 18 Jul 2025 03:41:39 -0700 (PDT) X-Relaying-Domain: iol.unh.edu Date: Fri, 18 Jul 2025 03:41:39 -0700 (PDT) Message-ID: <687a24e3.050a0220.3a479d.33feSMTPIN_ADDED_MISSING@mx.google.com> Received: from [172.21.0.2] (unknown [172.18.0.240]) by postal.iol.unh.edu (Postfix) with ESMTP id 5F1256051830; Fri, 18 Jul 2025 06:41:39 -0400 (EDT) Subject: |SUCCESS| pw155320 [PATCH] net/ixgbe: fix SCTP port support on E610 From: dpdklab@iol.unh.edu To: Test Report Cc: dpdk-test-reports@iol.unh.edu In-Reply-To: <20250718085335.648078-1-yuanx.wang@intel.com> References: <20250718085335.648078-1-yuanx.wang@intel.com> Content-Type: text/plain X-BeenThere: test-report@dpdk.org X-Mailman-Version: 2.1.29 Precedence: list List-Id: automatic DPDK test reports List-Unsubscribe: , List-Archive: List-Post: List-Help: List-Subscribe: , Errors-To: test-report-bounces@dpdk.org Test-Label: iol-unit-amd64-testing Test-Status: SUCCESS http://dpdk.org/patch/155320 _Testing PASS_ Submitter: Yuan Wang Date: Friday, July 18 2025 08:53:35 DPDK git baseline: Repo:dpdk Branch: master CommitID:a6b10031d251fcc7dadede461f7e1d005024b139 155320 --> testing pass Upstream job id: Generic-Unit-Test-DPDK#356205 Test environment and result as below: +-------------------------------+----------------+ | Environment | dpdk_unit_test | +===============================+================+ | CentOS Stream 10 | PASS | +-------------------------------+----------------+ | CentOS Stream 9 | PASS | +-------------------------------+----------------+ | Debian GNU/Linux 12 | PASS | +-------------------------------+----------------+ | Fedora Linux 40 | PASS | +-------------------------------+----------------+ | Red Hat Enterprise Linux 9.5 | PASS | +-------------------------------+----------------+ | Red Hat Enterprise Linux 8.10 | PASS | +-------------------------------+----------------+ | Fedora Linux 41 | PASS | +-------------------------------+----------------+ | Ubuntu 20.04 | PASS | +-------------------------------+----------------+ | Ubuntu 22.04 | PASS | +-------------------------------+----------------+ | Ubuntu 24.04 | PASS | +-------------------------------+----------------+ | Windows Server 2022 | PASS | +-------------------------------+----------------+ CentOS Stream 10 Kernel: 5.15 Compiler: gcc gcc (GCC) 14.2.1 20250110 (Red Hat 14.2.1-8) CentOS Stream 9 Kernel: 5.15 Compiler: gcc gcc (GCC) 11.5.0 20240719 (Red Hat 11.5.0-7) Debian GNU/Linux 12 Kernel: 5.15 Compiler: gcc gcc (Debian 12.2.0-14+deb12u1) 12.2.0 Fedora Linux 40 Kernel: 5.15 Compiler: gcc gcc (GCC) 14.2.1 20240912 (Red Hat 14.2.1-3) Red Hat Enterprise Linux 9.5 Kernel: 5.15 Compiler: gcc gcc (GCC) 11.5.0 20240719 (Red Hat 11.5.0-2) Red Hat Enterprise Linux 8.10 Kernel: 5.15 Compiler: gcc gcc (GCC) 8.5.0 20210514 (Red Hat 8.5.0-22) Fedora Linux 41 Kernel: 5.15 Compiler: gcc gcc (GCC) 14.3.1 20250523 (Red Hat 14.3.1-1) Ubuntu 20.04 Kernel: 5.15 Compiler: gcc gcc (Ubuntu 9.4.0-1ubuntu1~20.04.2) 9.4.0 Ubuntu 22.04 Kernel: 5.15 Compiler: gcc gcc (Ubuntu 11.4.0-1ubuntu1~22.04) 11.4.0 Ubuntu 24.04 Kernel: 5.15 Compiler: gcc gcc (Ubuntu 13.3.0-6ubuntu2~24.04) 13.3.0 Windows Server 2022 Kernel: 10.0.20348.2031 Compiler: clang 15.0.7, gcc 14.1.0 (MinGW), and MSVC VS 19.39.33521 To view detailed results, visit: https://lab.dpdk.org/results/dashboard/patchsets/33684/ UNH-IOL DPDK Community Lab To manage your email subscriptions, visit: https://lab.dpdk.org/results/dashboard/preferences/subscriptions/