From mboxrd@z Thu Jan 1 00:00:00 1970 Return-Path: Received: from mails.dpdk.org (mails.dpdk.org [217.70.189.124]) by inbox.dpdk.org (Postfix) with ESMTP id 5B82A46BAA for ; Fri, 18 Jul 2025 12:56:43 +0200 (CEST) Received: from mails.dpdk.org (localhost [127.0.0.1]) by mails.dpdk.org (Postfix) with ESMTP id 563644013F; Fri, 18 Jul 2025 12:56:43 +0200 (CEST) Received: from mail-qt1-f228.google.com (mail-qt1-f228.google.com [209.85.160.228]) by mails.dpdk.org (Postfix) with ESMTP id 9EFC34013F for ; Fri, 18 Jul 2025 12:56:41 +0200 (CEST) Received: by mail-qt1-f228.google.com with SMTP id d75a77b69052e-4aba19f4398so25456041cf.1 for ; Fri, 18 Jul 2025 03:56:41 -0700 (PDT) DKIM-Signature: v=1; a=rsa-sha256; c=relaxed/relaxed; d=iol.unh.edu; s=unh-iol; t=1752836201; x=1753441001; darn=dpdk.org; h=references:in-reply-to:cc:to:from:subject:message-id:date:from:to :cc:subject:date:message-id:reply-to; bh=WZwY+8UDN2fv+o+GdDJKz5ihRUQZna1Z8MJr9VXRUcU=; b=OEsQC7F2TOTIelYPp2oi8UJ8aTnYOzI9lRwFLVH16kGkK/Z6ri8fKheCIyw2MIPR2t zjnRnJaBITgsO9P3OJT/k2/NlEXU24Ay3ZzBWnNcROMNmiqWjhxxCWgJiqDSE8X8KHkF MdXRb8dUnrMRLqE0j0ESb7NJGRLMrCoQEey+0= X-Google-DKIM-Signature: v=1; a=rsa-sha256; c=relaxed/relaxed; d=1e100.net; s=20230601; t=1752836201; x=1753441001; h=references:in-reply-to:cc:to:from:subject:message-id:date :x-gm-message-state:from:to:cc:subject:date:message-id:reply-to; bh=WZwY+8UDN2fv+o+GdDJKz5ihRUQZna1Z8MJr9VXRUcU=; b=FsEL+rKKl/Mw0gd0cuD4+Gzcb0iURkdxvVY49pOqgFwWvC/D0RUhh7/Mgt/CL4Hy77 J6QHmHxRmpbH12AZrHRkukg0RLGMUvdrVB4YFctU6+7JjeGT9fnE12rLm3CVqR+6yRZz h/lcsvuFIOid/1vffDe8sA8Uyq++m7HXwKEso9/9ahIpwqmkrqHQMIKwTNaUpEvUkozM gXct8uKev7zNOrfKdI9tORtsxZj8TcedcBZ/naK2hItvL9/RldvGgXyjrlTUfXulaaLA r4iQj7eVM3U/W/LjqvT6hzU++I7rL40212Cnve8E/T7PkunId2cjoxPA0CyaQ+vKHFHc 8m9Q== X-Gm-Message-State: AOJu0YwGm7N8wM9Oo47+Mv8NtFxk8jffUtNoFcThk7eZLUWaFQXxywPK Ffacr5pBX3f4GsCOWZnYeL1P7/3V8+pQAUq9skrQ6ppjQsiQtc9EDbz+oUbYH2vTbaQk8lOs8j0 8I3C0VZmtUfrxMyhHfrId/+EgYvNR9HNnP9Od7MOu06am X-Gm-Gg: ASbGnctcs22g/TEO6Gv4wG6LajwP8beyo6lxEE2auL4TRHfOXaG6iFaWb22zsBl3MaQ mVUFe6YRi1rI4mEsDR7qeZY7kdBA/NM1wFOPdOucmj4Fg6qpzk9FOxFTUvBNk4tlT9ltRJT86GZ TLr8z3tzf6k+liGGp7Rw+ad0n1H9//Lho6r/bkjhI+fy9LFRdaDl9bB5vtSGMvbkk0pk3drkNDE hPdex5rB67jYDsumv/hiRmlihHE1w+kiTQKA45qMZXbEvErpT188fnO2AAMFdDu2fgawmPnsMv+ ygGQ6bKhkxxCqDuBt5HCBZ+HwwWyAVi49P8HBwBWZx0vTxT171yMaRwmNdLLEYh0jXNlNV9D X-Google-Smtp-Source: AGHT+IESWo5MnTiZM0OrhtB8N8UiKtlJsnY/VuMVmw3nwuoMHmKguh6MA2tYONxKSzPP9ZQfKiyT2K7b5Xpo X-Received: by 2002:a05:6214:5d04:b0:704:ac29:dda0 with SMTP id 6a1803df08f44-704f4847877mr159203976d6.18.1752836200866; Fri, 18 Jul 2025 03:56:40 -0700 (PDT) Received: from postal.iol.unh.edu (postal.iol.unh.edu. [132.177.123.84]) by smtp-relay.gmail.com with ESMTPS id 6a1803df08f44-7051ba2c5b8sm683966d6.1.2025.07.18.03.56.40 (version=TLS1_2 cipher=ECDHE-ECDSA-AES128-GCM-SHA256 bits=128/128); Fri, 18 Jul 2025 03:56:40 -0700 (PDT) X-Relaying-Domain: iol.unh.edu Date: Fri, 18 Jul 2025 03:56:40 -0700 (PDT) Message-ID: <687a2868.d40a0220.19626b.37f0SMTPIN_ADDED_MISSING@mx.google.com> Received: from [172.21.0.3] (unknown [172.18.0.240]) by postal.iol.unh.edu (Postfix) with ESMTP id A0F226051830; Fri, 18 Jul 2025 06:56:40 -0400 (EDT) Subject: |SUCCESS| pw155320 [PATCH] net/ixgbe: fix SCTP port support on E610 From: dpdklab@iol.unh.edu To: Test Report Cc: dpdk-test-reports@iol.unh.edu In-Reply-To: <20250718085335.648078-1-yuanx.wang@intel.com> References: <20250718085335.648078-1-yuanx.wang@intel.com> Content-Type: text/plain X-BeenThere: test-report@dpdk.org X-Mailman-Version: 2.1.29 Precedence: list List-Id: automatic DPDK test reports List-Unsubscribe: , List-Archive: List-Post: List-Help: List-Subscribe: , Errors-To: test-report-bounces@dpdk.org Test-Label: iol-unit-amd64-testing Test-Status: SUCCESS http://dpdk.org/patch/155320 _Testing PASS_ Submitter: Yuan Wang Date: Friday, July 18 2025 08:53:35 DPDK git baseline: Repo:dpdk Branch: master CommitID:a6b10031d251fcc7dadede461f7e1d005024b139 155320 --> testing pass Upstream job id: Generic-VM-Unit-Test-DPDK#30011 Test environment and result as below: +-------------------------------+----------------+ | Environment | dpdk_unit_test | +===============================+================+ | CentOS Stream 10 | PASS | +-------------------------------+----------------+ | CentOS Stream 9 | PASS | +-------------------------------+----------------+ | Debian GNU/Linux 12 | PASS | +-------------------------------+----------------+ | Fedora Linux 40 | PASS | +-------------------------------+----------------+ | Red Hat Enterprise Linux 9.5 | PASS | +-------------------------------+----------------+ | Red Hat Enterprise Linux 8.10 | PASS | +-------------------------------+----------------+ | Fedora Linux 41 | PASS | +-------------------------------+----------------+ | Ubuntu 20.04 | PASS | +-------------------------------+----------------+ | Ubuntu 22.04 | PASS | +-------------------------------+----------------+ | Ubuntu 24.04 | PASS | +-------------------------------+----------------+ | Windows Server 2022 | PASS | +-------------------------------+----------------+ CentOS Stream 10 Kernel: 5.15 Compiler: gcc gcc (GCC) 14.2.1 20250110 (Red Hat 14.2.1-8) CentOS Stream 9 Kernel: 5.15 Compiler: gcc gcc (GCC) 11.5.0 20240719 (Red Hat 11.5.0-7) Debian GNU/Linux 12 Kernel: 5.15 Compiler: gcc gcc (Debian 12.2.0-14+deb12u1) 12.2.0 Fedora Linux 40 Kernel: 5.15 Compiler: gcc gcc (GCC) 14.2.1 20240912 (Red Hat 14.2.1-3) Red Hat Enterprise Linux 9.5 Kernel: 5.15 Compiler: gcc gcc (GCC) 11.5.0 20240719 (Red Hat 11.5.0-2) Red Hat Enterprise Linux 8.10 Kernel: 5.15 Compiler: gcc gcc (GCC) 8.5.0 20210514 (Red Hat 8.5.0-22) Fedora Linux 41 Kernel: 5.15 Compiler: gcc gcc (GCC) 14.3.1 20250523 (Red Hat 14.3.1-1) Ubuntu 20.04 Kernel: 5.15 Compiler: gcc gcc (Ubuntu 9.4.0-1ubuntu1~20.04.2) 9.4.0 Ubuntu 22.04 Kernel: 5.15 Compiler: gcc gcc (Ubuntu 11.4.0-1ubuntu1~22.04) 11.4.0 Ubuntu 24.04 Kernel: 5.15 Compiler: gcc gcc (Ubuntu 13.3.0-6ubuntu2~24.04) 13.3.0 Windows Server 2022 Kernel: 10.0.20348.2031 Compiler: clang 15.0.7, gcc 14.1.0 (MinGW), and MSVC VS 19.39.33521 To view detailed results, visit: https://lab.dpdk.org/results/dashboard/patchsets/33684/ UNH-IOL DPDK Community Lab To manage your email subscriptions, visit: https://lab.dpdk.org/results/dashboard/preferences/subscriptions/