From mboxrd@z Thu Jan 1 00:00:00 1970 Return-Path: Received: from mails.dpdk.org (mails.dpdk.org [217.70.189.124]) by inbox.dpdk.org (Postfix) with ESMTP id D96C646BAA for ; Fri, 18 Jul 2025 13:54:26 +0200 (CEST) Received: from mails.dpdk.org (localhost [127.0.0.1]) by mails.dpdk.org (Postfix) with ESMTP id CEB8F4013F; Fri, 18 Jul 2025 13:54:26 +0200 (CEST) Received: from mail-il1-f228.google.com (mail-il1-f228.google.com [209.85.166.228]) by mails.dpdk.org (Postfix) with ESMTP id D811D4013F for ; Fri, 18 Jul 2025 13:54:25 +0200 (CEST) Received: by mail-il1-f228.google.com with SMTP id e9e14a558f8ab-3e290cbe6d0so6559995ab.1 for ; Fri, 18 Jul 2025 04:54:25 -0700 (PDT) DKIM-Signature: v=1; a=rsa-sha256; c=relaxed/relaxed; d=iol.unh.edu; s=unh-iol; t=1752839665; x=1753444465; darn=dpdk.org; h=references:in-reply-to:cc:to:from:subject:message-id:date:from:to :cc:subject:date:message-id:reply-to; bh=GfgWh5e+gDHcRfv5DbLa6AirvrIml5VJUHf9i3j12Xo=; b=fPNxmvHYjVeWgSI0GBCSoF7v+CbzDTv+6ntCSKRONKgsNyLEbP0r84X5CmBp234Bsu 6If1cU64Nw4EvCJD21Zm5oh15OpnJhk2/+AkxVSbdFdMTf9YaHQHD7sMZjLyXQ6i+nAu HVkttogomhriq98qrjiKt4THfNlo2pArMFM+8= X-Google-DKIM-Signature: v=1; a=rsa-sha256; c=relaxed/relaxed; d=1e100.net; s=20230601; t=1752839665; x=1753444465; h=references:in-reply-to:cc:to:from:subject:message-id:date :x-gm-message-state:from:to:cc:subject:date:message-id:reply-to; bh=GfgWh5e+gDHcRfv5DbLa6AirvrIml5VJUHf9i3j12Xo=; b=fz5nQoCYgD8zzRNdaYpKa/yUoVWOgYHPP3P3CauqCBm8jY3FlAaAxsK+M8jU9YMOd5 QsekIXKxRt/Ib2wRA5tdat4LMEZZ4a5pLIyZs+3dThdwb9DPcqCjd2bvCblSGaQU6bbi +swWZZ7BQUbHpVEqeQawdU84/cfRRATEk1mGveSrWq05/LhQ2Do/uNYCOJqzW6wGqbOV 1/VFLw1Y+TMX24NgDIjH1CPPDZYgLnpw70FwpDvto6ZmrygcQD0jKh/9GpzQxgYu/551 py7A6wkvjdj83BhLlhNCw9sEO1EzSFieKpXnxv14s/tx1ng5c01sWomk2mID1BCg9W6s ar1Q== X-Gm-Message-State: AOJu0YzWAHjVMxOVSXYgfVyyH4AUUbuHqSMlQVwqale9hVK18W79dtR4 z3niE8+kS0M3hXisb8eND3Y0XyNeMpBl3WsU0cSDNIgPTIVPRQxjPtuvaWsJuE5T8V484Ft0NGw aiUFTTJVAkRp7mDYSWjoMLI1H9BQXIL/gPWSJuI9BGNb4mG+HsHMP6w14Sygi X-Gm-Gg: ASbGncsfVuZbGxbcLoZrykDIxP0ZTYexi7yMcJ2nc5Hli3coS+o3DNBv6rj7vQYyK49 s/c0ofv1t4yr94dT+Eu1Y/4iLoxjd/JL2w5RVj1g+56mlOGY29ua6xrjXBJPGohOf5pigvp0z3S C4oj7DkTHpO7jF0gnzB5NLb9YV0OFSA4hcNSMb0ArCjApXQGhcU++m8VOdpJ9aUovFuchoxLM/e rU39amshDoyq2dk6Szk1Z2SSeSjcyNrLhkkCN4q+kvVwzBXoT0LvHAZudElRfp8eyEDrAw7tNqv zH/smsDKFMMsJvC/HjKyR0Nb5vOEP8wJ+SJI0uTgKcjRWyA0mw== X-Google-Smtp-Source: AGHT+IHYTdCNCVO6jC0Eg7KsW0O8Vo35sv5TsKzHDya363e58z+RJts4mdUmeo2dl8eBUCSLRnHM5F7Vlc0j X-Received: by 2002:a05:6e02:2786:b0:3dd:8663:d182 with SMTP id e9e14a558f8ab-3e28d49a89amr58897705ab.13.1752839665170; Fri, 18 Jul 2025 04:54:25 -0700 (PDT) Received: from postal.iol.unh.edu (postal.iol.unh.edu. [2606:4100:3880:1234::84]) by smtp-relay.gmail.com with ESMTPS id e9e14a558f8ab-3e29820446dsm792115ab.7.2025.07.18.04.54.25 (version=TLS1_2 cipher=ECDHE-ECDSA-AES128-GCM-SHA256 bits=128/128); Fri, 18 Jul 2025 04:54:25 -0700 (PDT) X-Relaying-Domain: iol.unh.edu Date: Fri, 18 Jul 2025 04:54:25 -0700 (PDT) Message-ID: <687a35f1.050a0220.7eb98.415cSMTPIN_ADDED_MISSING@mx.google.com> Received: from [172.21.0.2] (unknown [172.18.0.240]) by postal.iol.unh.edu (Postfix) with ESMTP id C81186051830; Fri, 18 Jul 2025 07:54:24 -0400 (EDT) Subject: |SUCCESS| pw155321 [PATCH] net/ixgbe: fix port mask default value on From: dpdklab@iol.unh.edu To: Test Report Cc: dpdk-test-reports@iol.unh.edu In-Reply-To: <20250718090907.649202-1-yuanx.wang@intel.com> References: <20250718090907.649202-1-yuanx.wang@intel.com> Content-Type: text/plain X-BeenThere: test-report@dpdk.org X-Mailman-Version: 2.1.29 Precedence: list List-Id: automatic DPDK test reports List-Unsubscribe: , List-Archive: List-Post: List-Help: List-Subscribe: , Errors-To: test-report-bounces@dpdk.org Test-Label: iol-unit-amd64-testing Test-Status: SUCCESS http://dpdk.org/patch/155321 _Testing PASS_ Submitter: Yuan Wang Date: Friday, July 18 2025 09:09:07 DPDK git baseline: Repo:dpdk Branch: master CommitID:a6b10031d251fcc7dadede461f7e1d005024b139 155321 --> testing pass Upstream job id: Generic-VM-Unit-Test-DPDK#30013 Test environment and result as below: +-------------------------------+----------------+ | Environment | dpdk_unit_test | +===============================+================+ | Debian GNU/Linux 12 | PASS | +-------------------------------+----------------+ | CentOS Stream 9 | PASS | +-------------------------------+----------------+ | Fedora Linux 40 | PASS | +-------------------------------+----------------+ | CentOS Stream 10 | PASS | +-------------------------------+----------------+ | Fedora Linux 41 | PASS | +-------------------------------+----------------+ | Red Hat Enterprise Linux 9.5 | PASS | +-------------------------------+----------------+ | Red Hat Enterprise Linux 8.10 | PASS | +-------------------------------+----------------+ | Ubuntu 22.04 | PASS | +-------------------------------+----------------+ | Ubuntu 20.04 | PASS | +-------------------------------+----------------+ | Ubuntu 24.04 | PASS | +-------------------------------+----------------+ | Windows Server 2022 | PASS | +-------------------------------+----------------+ Debian GNU/Linux 12 Kernel: 5.15 Compiler: gcc gcc (Debian 12.2.0-14+deb12u1) 12.2.0 CentOS Stream 9 Kernel: 5.15 Compiler: gcc gcc (GCC) 11.5.0 20240719 (Red Hat 11.5.0-7) Fedora Linux 40 Kernel: 5.15 Compiler: gcc gcc (GCC) 14.2.1 20240912 (Red Hat 14.2.1-3) CentOS Stream 10 Kernel: 5.15 Compiler: gcc gcc (GCC) 14.2.1 20250110 (Red Hat 14.2.1-8) Fedora Linux 41 Kernel: 5.15 Compiler: gcc gcc (GCC) 14.3.1 20250523 (Red Hat 14.3.1-1) Red Hat Enterprise Linux 9.5 Kernel: 5.15 Compiler: gcc gcc (GCC) 11.5.0 20240719 (Red Hat 11.5.0-2) Red Hat Enterprise Linux 8.10 Kernel: 5.15 Compiler: gcc gcc (GCC) 8.5.0 20210514 (Red Hat 8.5.0-22) Ubuntu 22.04 Kernel: 5.15 Compiler: gcc gcc (Ubuntu 11.4.0-1ubuntu1~22.04) 11.4.0 Ubuntu 20.04 Kernel: 5.15 Compiler: gcc gcc (Ubuntu 9.4.0-1ubuntu1~20.04.2) 9.4.0 Ubuntu 24.04 Kernel: 5.15 Compiler: gcc gcc (Ubuntu 13.3.0-6ubuntu2~24.04) 13.3.0 Windows Server 2022 Kernel: 10.0.20348.2031 Compiler: clang 15.0.7, gcc 14.1.0 (MinGW), and MSVC VS 19.39.33521 To view detailed results, visit: https://lab.dpdk.org/results/dashboard/patchsets/33685/ UNH-IOL DPDK Community Lab To manage your email subscriptions, visit: https://lab.dpdk.org/results/dashboard/preferences/subscriptions/