From mboxrd@z Thu Jan 1 00:00:00 1970 Return-Path: Received: from mails.dpdk.org (mails.dpdk.org [217.70.189.124]) by inbox.dpdk.org (Postfix) with ESMTP id 363EB46BAB for ; Fri, 18 Jul 2025 14:01:27 +0200 (CEST) Received: from mails.dpdk.org (localhost [127.0.0.1]) by mails.dpdk.org (Postfix) with ESMTP id 1E09D4013F; Fri, 18 Jul 2025 14:01:27 +0200 (CEST) Received: from mail-vk1-f227.google.com (mail-vk1-f227.google.com [209.85.221.227]) by mails.dpdk.org (Postfix) with ESMTP id DA7444013F for ; Fri, 18 Jul 2025 14:01:25 +0200 (CEST) Received: by mail-vk1-f227.google.com with SMTP id 71dfb90a1353d-52b2290e292so804365e0c.3 for ; Fri, 18 Jul 2025 05:01:25 -0700 (PDT) DKIM-Signature: v=1; a=rsa-sha256; c=relaxed/relaxed; d=iol.unh.edu; s=unh-iol; t=1752840085; x=1753444885; darn=dpdk.org; h=references:in-reply-to:cc:to:from:subject:message-id:date:from:to :cc:subject:date:message-id:reply-to; bh=+piCjUOzJJWUFPhrifnfBRenneKHFiOQwfgdFO/wQpg=; b=Fx2cCUAWBEXaFjadDnQ3lrs7Vv4TXMxHhXshTZ6jO3uA0MIusOXf9UmKdZRlyRW1eP JkrhtfPewdg6rNBzeq2HNbp1KsHibchrSLJhbqXsiFTwnAeWDWFFpjauzwgyZ+Kh90Fu dj2ETNp5EeBlisWmTu4TNYaaYMydIsyF2i/co= X-Google-DKIM-Signature: v=1; a=rsa-sha256; c=relaxed/relaxed; d=1e100.net; s=20230601; t=1752840085; x=1753444885; h=references:in-reply-to:cc:to:from:subject:message-id:date :x-gm-message-state:from:to:cc:subject:date:message-id:reply-to; bh=+piCjUOzJJWUFPhrifnfBRenneKHFiOQwfgdFO/wQpg=; b=qdgaCMXccMwEEPp5kz3O01ZyTe7Y6g5PxM1GLTgYOgmz7Ldf/+/fPZbBgIUV7g2Ztw NYTQr4BsgC2JRqT7fWeG/XZsa6ORjNB7YS/blKTsETW/4J56e7B8KEP0a+mTsxQs84fi hO7SBf4i0kwPNJ/p7k1CWOCPhYXdkaOLehyiXts+5O9KrhvouDruHJDXOQFLWLj/s+El PhoARJXGn9tdh1WK4PxeKMtKuQvJ1qytbW3eGruQAKKwAGKVUGCP7D8UqFPiBkBIifiK Py8vXOCsd1D/onm4K178RxYNWm+CLdntnB76zd9j23mbFkcqDz0woZFl8isf5ZS8Z70y hhTw== X-Gm-Message-State: AOJu0Yy53PnoeSqFcwIgL/Do7sVacb4050e4udm0YLMjDj/CaCbO2w+8 SPwg0PAZnon3CAhm8ci85avjqPcHDOiayOFPbyoWOT1k14vmXOCIKBL5gWzlhfGeACk61QraO/u vewaiVeTW/LDtyaxl0fKSinVVFZIoxIOym9ZTnKRq7IDA6LSA95tC1qwVDE/C X-Gm-Gg: ASbGncvzZVJl2aNXL9qHUrFRRSL4TNC2h9c1vOT4tAgjwiJO2Y6xU4BEHvqOrq8ehnR JFmpim0/NrGvjrKC5O9X+SKmGUb/q5qvIpMKQdcFcb99KrDU6p8uhpTGxYE1A/ULkiinPTQUzZo ohB8ckGoKbpLgHCH854aNvqpxepdE89EXtjJu6Niz5mBNd1RAU8qhLMcCOX3Eg2y4j4Gtac4yRD nYnz2lYX98c64f7Dk2sa8VI/OHqoOlcgerQkVzXlC4xtvk6Xvfy29B9/59hBY84Chp9//bbplHO mVFCyDVm5gR9rgdBBT6btseAfk8E+zeKlBDJn/kudstrUWXGEg== X-Google-Smtp-Source: AGHT+IHmuUgtqsBJwzux0U4nBLPKR5bfuDRjnkzCDDur/WNIsmkcLB/9yuyvjRJI4RtXjf9HmXqIxki2dHEb X-Received: by 2002:a05:6122:8c1c:b0:531:172b:afe9 with SMTP id 71dfb90a1353d-5373fbb60e0mr5768698e0c.2.1752840083129; Fri, 18 Jul 2025 05:01:23 -0700 (PDT) Received: from postal.iol.unh.edu (postal.iol.unh.edu. [2606:4100:3880:1234::84]) by smtp-relay.gmail.com with ESMTPS id 71dfb90a1353d-53764d7f916sm97540e0c.3.2025.07.18.05.01.23 (version=TLS1_2 cipher=ECDHE-ECDSA-AES128-GCM-SHA256 bits=128/128); Fri, 18 Jul 2025 05:01:23 -0700 (PDT) X-Relaying-Domain: iol.unh.edu Date: Fri, 18 Jul 2025 05:01:23 -0700 (PDT) Message-ID: <687a3793.050a0220.2c69e9.54e1SMTPIN_ADDED_MISSING@mx.google.com> Received: from [172.21.0.3] (unknown [172.18.0.240]) by postal.iol.unh.edu (Postfix) with ESMTP id C8EED6051830; Fri, 18 Jul 2025 08:01:22 -0400 (EDT) Subject: |SUCCESS| pw155321 [PATCH] net/ixgbe: fix port mask default value on From: dpdklab@iol.unh.edu To: Test Report Cc: dpdk-test-reports@iol.unh.edu In-Reply-To: <20250718090907.649202-1-yuanx.wang@intel.com> References: <20250718090907.649202-1-yuanx.wang@intel.com> Content-Type: text/plain X-BeenThere: test-report@dpdk.org X-Mailman-Version: 2.1.29 Precedence: list List-Id: automatic DPDK test reports List-Unsubscribe: , List-Archive: List-Post: List-Help: List-Subscribe: , Errors-To: test-report-bounces@dpdk.org Test-Label: iol-abi-testing Test-Status: SUCCESS http://dpdk.org/patch/155321 _Testing PASS_ Submitter: Yuan Wang Date: Friday, July 18 2025 09:09:07 DPDK git baseline: Repo:dpdk Branch: master CommitID:a6b10031d251fcc7dadede461f7e1d005024b139 155321 --> testing pass Upstream job id: Generic-DPDK-Compile-ABI#134768 Test environment and result as below: +-------------------------------+----------+ | Environment | abi_test | +===============================+==========+ | CentOS Stream 9 | PASS | +-------------------------------+----------+ | Debian GNU/Linux 12 | PASS | +-------------------------------+----------+ | Fedora Linux 40 | PASS | +-------------------------------+----------+ | CentOS Stream 10 | PASS | +-------------------------------+----------+ | Fedora Linux 41 | PASS | +-------------------------------+----------+ | Red Hat Enterprise Linux 9.5 | PASS | +-------------------------------+----------+ | Red Hat Enterprise Linux 8.10 | PASS | +-------------------------------+----------+ | openSUSE Leap 15.6 | PASS | +-------------------------------+----------+ | Ubuntu 22.04 | PASS | +-------------------------------+----------+ | Ubuntu 24.04 | PASS | +-------------------------------+----------+ CentOS Stream 9 Kernel: 5.15 Compiler: gcc gcc (GCC) 11.5.0 20240719 (Red Hat 11.5.0-7) Debian GNU/Linux 12 Kernel: 5.15 Compiler: gcc gcc (Debian 12.2.0-14+deb12u1) 12.2.0 Fedora Linux 40 Kernel: 5.15 Compiler: clang gcc (GCC) 14.2.1 20240912 (Red Hat 14.2.1-3) CentOS Stream 10 Kernel: 5.15 Compiler: gcc gcc (GCC) 14.2.1 20250110 (Red Hat 14.2.1-8) Fedora Linux 41 Kernel: 5.15 Compiler: clang gcc (GCC) 14.3.1 20250523 (Red Hat 14.3.1-1) Red Hat Enterprise Linux 9.5 Kernel: 5.15 Compiler: gcc gcc (GCC) 11.5.0 20240719 (Red Hat 11.5.0-2) Red Hat Enterprise Linux 8.10 Kernel: 5.15 Compiler: gcc gcc (GCC) 8.5.0 20210514 (Red Hat 8.5.0-22) openSUSE Leap 15.6 Kernel: 5.15 Compiler: gcc gcc (SUSE Linux) 7.5.0 Ubuntu 22.04 Kernel: 5.15 Compiler: gcc gcc (Ubuntu 11.4.0-1ubuntu1~22.04) 11.4.0 Ubuntu 24.04 Kernel: 5.15 Compiler: gcc gcc (Ubuntu 13.3.0-6ubuntu2~24.04) 13.3.0 To view detailed results, visit: https://lab.dpdk.org/results/dashboard/patchsets/33685/ UNH-IOL DPDK Community Lab To manage your email subscriptions, visit: https://lab.dpdk.org/results/dashboard/preferences/subscriptions/