From mboxrd@z Thu Jan 1 00:00:00 1970 Return-Path: Received: from mails.dpdk.org (mails.dpdk.org [217.70.189.124]) by inbox.dpdk.org (Postfix) with ESMTP id 3D98446BAB for ; Fri, 18 Jul 2025 14:01:49 +0200 (CEST) Received: from mails.dpdk.org (localhost [127.0.0.1]) by mails.dpdk.org (Postfix) with ESMTP id 3588F4013F; Fri, 18 Jul 2025 14:01:49 +0200 (CEST) Received: from mail-io1-f99.google.com (mail-io1-f99.google.com [209.85.166.99]) by mails.dpdk.org (Postfix) with ESMTP id F33864013F for ; Fri, 18 Jul 2025 14:01:47 +0200 (CEST) Received: by mail-io1-f99.google.com with SMTP id ca18e2360f4ac-879c3222a14so52418039f.1 for ; Fri, 18 Jul 2025 05:01:47 -0700 (PDT) DKIM-Signature: v=1; a=rsa-sha256; c=relaxed/relaxed; d=iol.unh.edu; s=unh-iol; t=1752840107; x=1753444907; darn=dpdk.org; h=references:in-reply-to:cc:to:from:subject:message-id:date:from:to :cc:subject:date:message-id:reply-to; bh=Yjy/A+Q2mOvraLsPrdHbIdsthuOuBoaRfC9mqmkuWN4=; b=daYp00/pRDN7kKDf8e7jsyXF4dv/xpoEuDnp7EIiHGRh5KR2aGkqyVNmvZLNbqKBWB 1KVlTz49IZfpF+vGx27guPfiQK3kbUOAtRGzov5zLBn9EidygqKjuEUk5V4Bp3npr8Ib PlYmePYbTklogIkWA/1Umxi5YOhyCphWP4MaA= X-Google-DKIM-Signature: v=1; a=rsa-sha256; c=relaxed/relaxed; d=1e100.net; s=20230601; t=1752840107; x=1753444907; h=references:in-reply-to:cc:to:from:subject:message-id:date :x-gm-message-state:from:to:cc:subject:date:message-id:reply-to; bh=Yjy/A+Q2mOvraLsPrdHbIdsthuOuBoaRfC9mqmkuWN4=; b=BraBM66iLDrVwEXwbAsICAxc083WYSTMGtmiIQ0G5716RuYGAQo9i/Yjjd1p9I59uA q/ZudIzTGmqWacpMkQ8Tnu9ItnLf/Jb6d0gDXg45k6DfFanongTW6gRUFjwOc+fzfjxy LTNgUsP93O83E+UV6mVnsWywtYEmfHYq6drpSsxEx45IdLYRgcYzFE6VHToaqnELO9lO rmUEbcJBItj+95xwOEw8/lORotPsnMWHCrJY/28qMFjdVbOPISS5MARGQXa88CVFgEX3 coBecALeD9go3nEjhmc+hSfa174HWM/fM+U97WzVawVg/kgt7V6tbdIsmpfzT31vRLWp FFyg== X-Gm-Message-State: AOJu0YxnqsoS3JVTEzFziz+nbNeQrmEi+ZoBIr/vX0OI59HwxzRTXDKO wTSIWmwzJbC6rxbS1UJEkXU4uDiuvTgkNHFjYdjk2VPtxYIT+BhS1VZjj8NvKmd0MyHRqkA/6h3 QWERmDZFqqM/NZ0O32o25bYO9fLPx5ZahMOgUmXvOKWo6GuTzFiy2ksIdNcP1 X-Gm-Gg: ASbGnctS012PqiOAVZtny3URcjbCYdzkkY9p1rYjLiCoTBkFMDqURV2YRM437iNHAZd gTzCOG1rxGtSiT7GdncEgfpRywweonqfcD7XLYSU0Pt4aJxP8x2wN1u654Ed4aKjFcQx7S/ITO/ 6WMvt7Fj7NjRI2jS5f29vn/+5OZMaQgxa26o+uyYy+5AnY/6u+iK7iI9K4EgKn8SL0zyokMtiSx Cqu1f8Kzz0U/jV2zYDykHkbNTNA/GAdILLBfbPeh88crOPScXZkxCunJz8KjSOY/NWTej3JYZH9 EISjWc1BZoi5DB3oeEWibSK3Nw4R3BB0u9Q8jO1fxIz7iiVZ5w== X-Google-Smtp-Source: AGHT+IHjScG1iaFOg8bU5H9r004lt3UVQ8AD6+yiQb3F10b8A2MECFgbKeIUf++CJVl7+sezVgXnOq/dggYg X-Received: by 2002:a05:6602:751b:b0:864:9cc7:b847 with SMTP id ca18e2360f4ac-87c0f409cb4mr252533739f.14.1752840107095; Fri, 18 Jul 2025 05:01:47 -0700 (PDT) Received: from postal.iol.unh.edu (postal.iol.unh.edu. [2606:4100:3880:1234::84]) by smtp-relay.gmail.com with ESMTPS id ca18e2360f4ac-87c0e75c85asm8620639f.27.2025.07.18.05.01.47 (version=TLS1_2 cipher=ECDHE-ECDSA-AES128-GCM-SHA256 bits=128/128); Fri, 18 Jul 2025 05:01:47 -0700 (PDT) X-Relaying-Domain: iol.unh.edu Date: Fri, 18 Jul 2025 05:01:47 -0700 (PDT) Message-ID: <687a37ab.5e0a0220.3b8195.4588SMTPIN_ADDED_MISSING@mx.google.com> Received: from [172.21.0.3] (unknown [172.18.0.240]) by postal.iol.unh.edu (Postfix) with ESMTP id A70AE6051830; Fri, 18 Jul 2025 08:01:46 -0400 (EDT) Subject: |SUCCESS| pw155321 [PATCH] net/ixgbe: fix port mask default value on From: dpdklab@iol.unh.edu To: Test Report Cc: dpdk-test-reports@iol.unh.edu In-Reply-To: <20250718090907.649202-1-yuanx.wang@intel.com> References: <20250718090907.649202-1-yuanx.wang@intel.com> Content-Type: text/plain X-BeenThere: test-report@dpdk.org X-Mailman-Version: 2.1.29 Precedence: list List-Id: automatic DPDK test reports List-Unsubscribe: , List-Archive: List-Post: List-Help: List-Subscribe: , Errors-To: test-report-bounces@dpdk.org Test-Label: iol-abi-testing Test-Status: SUCCESS http://dpdk.org/patch/155321 _Testing PASS_ Submitter: Yuan Wang Date: Friday, July 18 2025 09:09:07 DPDK git baseline: Repo:dpdk Branch: master CommitID:a6b10031d251fcc7dadede461f7e1d005024b139 155321 --> testing pass Upstream job id: Generic-DPDK-Compile-ABI#134770 Test environment and result as below: +-------------------------------+----------+ | Environment | abi_test | +===============================+==========+ | CentOS Stream 9 | PASS | +-------------------------------+----------+ | Debian GNU/Linux 12 | PASS | +-------------------------------+----------+ | Fedora Linux 40 | PASS | +-------------------------------+----------+ | CentOS Stream 10 | PASS | +-------------------------------+----------+ | Fedora Linux 41 | PASS | +-------------------------------+----------+ | Red Hat Enterprise Linux 9.5 | PASS | +-------------------------------+----------+ | Red Hat Enterprise Linux 8.10 | PASS | +-------------------------------+----------+ | openSUSE Leap 15.6 | PASS | +-------------------------------+----------+ | Ubuntu 22.04 | PASS | +-------------------------------+----------+ | Ubuntu 24.04 | PASS | +-------------------------------+----------+ CentOS Stream 9 Kernel: 5.15 Compiler: gcc gcc (GCC) 11.5.0 20240719 (Red Hat 11.5.0-7) Debian GNU/Linux 12 Kernel: 5.15 Compiler: gcc gcc (Debian 12.2.0-14+deb12u1) 12.2.0 Fedora Linux 40 Kernel: 5.15 Compiler: clang gcc (GCC) 14.2.1 20240912 (Red Hat 14.2.1-3) CentOS Stream 10 Kernel: 5.15 Compiler: gcc gcc (GCC) 14.2.1 20250110 (Red Hat 14.2.1-8) Fedora Linux 41 Kernel: 5.15 Compiler: clang gcc (GCC) 14.3.1 20250523 (Red Hat 14.3.1-1) Red Hat Enterprise Linux 9.5 Kernel: 5.15 Compiler: gcc gcc (GCC) 11.5.0 20240719 (Red Hat 11.5.0-2) Red Hat Enterprise Linux 8.10 Kernel: 5.15 Compiler: gcc gcc (GCC) 8.5.0 20210514 (Red Hat 8.5.0-22) openSUSE Leap 15.6 Kernel: 5.15 Compiler: gcc gcc (SUSE Linux) 7.5.0 Ubuntu 22.04 Kernel: 5.15 Compiler: gcc gcc (Ubuntu 11.4.0-1ubuntu1~22.04) 11.4.0 Ubuntu 24.04 Kernel: 5.15 Compiler: gcc gcc (Ubuntu 13.3.0-6ubuntu2~24.04) 13.3.0 To view detailed results, visit: https://lab.dpdk.org/results/dashboard/patchsets/33685/ UNH-IOL DPDK Community Lab To manage your email subscriptions, visit: https://lab.dpdk.org/results/dashboard/preferences/subscriptions/