From mboxrd@z Thu Jan 1 00:00:00 1970 Return-Path: Received: from mails.dpdk.org (mails.dpdk.org [217.70.189.124]) by inbox.dpdk.org (Postfix) with ESMTP id 2DD8D46BAB for ; Fri, 18 Jul 2025 14:06:46 +0200 (CEST) Received: from mails.dpdk.org (localhost [127.0.0.1]) by mails.dpdk.org (Postfix) with ESMTP id 092834013F; Fri, 18 Jul 2025 14:06:46 +0200 (CEST) Received: from mail-il1-f228.google.com (mail-il1-f228.google.com [209.85.166.228]) by mails.dpdk.org (Postfix) with ESMTP id 74A3E4013F for ; Fri, 18 Jul 2025 14:06:44 +0200 (CEST) Received: by mail-il1-f228.google.com with SMTP id e9e14a558f8ab-3df210930f7so9510935ab.1 for ; Fri, 18 Jul 2025 05:06:44 -0700 (PDT) DKIM-Signature: v=1; a=rsa-sha256; c=relaxed/relaxed; d=iol.unh.edu; s=unh-iol; t=1752840404; x=1753445204; darn=dpdk.org; h=references:in-reply-to:cc:to:from:subject:message-id:date:from:to :cc:subject:date:message-id:reply-to; bh=EmGbBQWxbTTeqpMWabGs7FU48bnYtP3JruN0lKw1dMw=; b=cpXVyi6Y5x/R2gdzMDCHV47HsPwcsoM7ImjMIEr3+kQ9stROAHgGgqRJbt6JEGVwWB DqFrlXSN0r8MagckDjOdMIdU9EFl1X0pktv4vXNR2sh8joWuyu0ImrXj3k5z9UZ6p+nm IBUgsFx7fkQGujJW6W6/kKEzLnDta0QJ+0JVE= X-Google-DKIM-Signature: v=1; a=rsa-sha256; c=relaxed/relaxed; d=1e100.net; s=20230601; t=1752840404; x=1753445204; h=references:in-reply-to:cc:to:from:subject:message-id:date :x-gm-message-state:from:to:cc:subject:date:message-id:reply-to; bh=EmGbBQWxbTTeqpMWabGs7FU48bnYtP3JruN0lKw1dMw=; b=swO7rlFZt6JfVqe/fIT8gxvqo50BI5GdxXTX4lD0vew0V+LA5xkhRmqVDRYiURnQER ZUt5gvi7s/30GbEgIhISAl0KqVCyvvMm5Qa5DkBydDXmWIO+QVgLJpt3Yvnt39SkaVcN laFuRYLcG+va0NsMzR6ggcqKSkbZTWuyOEoLRTONHTDU8ai+vQU9WEXMjbAIst9Dwr3X Kayx3jZC6yUYovzrYPVofTjJX4pgAjA/bGp0C3W+0i5m0NP56m7AU4sud/mGJGKhq7ZE gWMnka91udxH101fgCTu3pjEHJwIjIywVI8iCPaGs7kFRpo8JBr+pI5HvnGRWmdUZrj5 ZQAw== X-Gm-Message-State: AOJu0YygnTIWVw/P5KWbq7hx8NOZhmBBOhiZgLqWYfrDIsJNOTLtQiF1 lUqAOw3suJeRpio1isk1wkpjaNzJjEAoavRDHswVjqEnKstHPJfO68WNzOQ3C6xroncsdxPqPGl EpQ/RYUeaI3/syNhr0i55X0FyhPtWm8GH+oRHHmi1ZPpEsnwoVX2lkO5Sntls X-Gm-Gg: ASbGncv9KU9I7AGbv7y6R6Q0dRc4TvGfIF0vnJx0cNvqltarBpNfM/tsqsP4VNB9ji0 r6FtxPUxfr3ZvgLLdD/dPu49g0WE7vLN//8eE+EZqSs+fARMy6A9yzbaWp/h8/sGzW4g4y5tCNo hp1MpYJDPPpDdI5OAzF86tQfFOhuy0RZEAWYy0XwGsKkir1g/W9r1Izybym9bQMvG7nREfX+WJ/ t6yAq/aXQlcW0lsCw7hYj1Ff1EJVnmW7tRWozrbBOQUSOGmySYI7hMiMhf3MqqLkn84cR13uSzV 6C6X9JXdXybCKglGnS9J7BwOTMDd8oXWrKaJRFzoPhJWg5zlIQ== X-Google-Smtp-Source: AGHT+IF+6OIm5lE5QEK8LWXGW0BQiW5NTEWenuaQyftWnoPuPACQubTHjfZ2me30V+alTfzdt+31O4EB/z1u X-Received: by 2002:a05:6e02:380d:b0:3e1:25b6:2a9a with SMTP id e9e14a558f8ab-3e295a1c481mr32057795ab.6.1752840400986; Fri, 18 Jul 2025 05:06:40 -0700 (PDT) Received: from postal.iol.unh.edu (postal.iol.unh.edu. [2606:4100:3880:1234::84]) by smtp-relay.gmail.com with ESMTPS id e9e14a558f8ab-3e2983547b7sm835495ab.41.2025.07.18.05.06.40 (version=TLS1_2 cipher=ECDHE-ECDSA-AES128-GCM-SHA256 bits=128/128); Fri, 18 Jul 2025 05:06:40 -0700 (PDT) X-Relaying-Domain: iol.unh.edu Date: Fri, 18 Jul 2025 05:06:40 -0700 (PDT) Message-ID: <687a38d0.050a0220.123f2b.4490SMTPIN_ADDED_MISSING@mx.google.com> Received: from [172.21.0.2] (unknown [172.18.0.240]) by postal.iol.unh.edu (Postfix) with ESMTP id 797BC60003F7; Fri, 18 Jul 2025 08:06:40 -0400 (EDT) Subject: |SUCCESS| pw155321 [PATCH] net/ixgbe: fix port mask default value on From: dpdklab@iol.unh.edu To: Test Report Cc: dpdk-test-reports@iol.unh.edu In-Reply-To: <20250718090907.649202-1-yuanx.wang@intel.com> References: <20250718090907.649202-1-yuanx.wang@intel.com> Content-Type: text/plain X-BeenThere: test-report@dpdk.org X-Mailman-Version: 2.1.29 Precedence: list List-Id: automatic DPDK test reports List-Unsubscribe: , List-Archive: List-Post: List-Help: List-Subscribe: , Errors-To: test-report-bounces@dpdk.org Test-Label: iol-compile-amd64-testing Test-Status: SUCCESS http://dpdk.org/patch/155321 _Testing PASS_ Submitter: Yuan Wang Date: Friday, July 18 2025 09:09:07 DPDK git baseline: Repo:dpdk Branch: master CommitID:a6b10031d251fcc7dadede461f7e1d005024b139 155321 --> testing pass Upstream job id: Generic-DPDK-Compile-Meson#409717 Test environment and result as below: +-------------------------------+--------------------+-------------------+------------------+-------------------------+-------------------+----------------------+ | Environment | dpdk_meson_compile | dpdk_compile_spdk | dpdk_compile_ovs | dpdk_llvm_clang_compile | dpdk_msvc_compile | dpdk_mingw64_compile | +===============================+====================+===================+==================+=========================+===================+======================+ | Debian GNU/Linux 12 | PASS | PASS | SKIPPED | SKIPPED | SKIPPED | SKIPPED | +-------------------------------+--------------------+-------------------+------------------+-------------------------+-------------------+----------------------+ | Fedora Linux 40 | PASS | PASS | SKIPPED | SKIPPED | SKIPPED | SKIPPED | +-------------------------------+--------------------+-------------------+------------------+-------------------------+-------------------+----------------------+ | CentOS Stream 10 | PASS | SKIPPED | SKIPPED | SKIPPED | SKIPPED | SKIPPED | +-------------------------------+--------------------+-------------------+------------------+-------------------------+-------------------+----------------------+ | Fedora Linux 41 | PASS | PASS | PASS | SKIPPED | SKIPPED | SKIPPED | +-------------------------------+--------------------+-------------------+------------------+-------------------------+-------------------+----------------------+ | openSUSE Leap 15.6 | PASS | SKIPPED | SKIPPED | SKIPPED | SKIPPED | SKIPPED | +-------------------------------+--------------------+-------------------+------------------+-------------------------+-------------------+----------------------+ | Red Hat Enterprise Linux 8.10 | PASS | SKIPPED | SKIPPED | SKIPPED | SKIPPED | SKIPPED | +-------------------------------+--------------------+-------------------+------------------+-------------------------+-------------------+----------------------+ | Red Hat Enterprise Linux 9.5 | PASS | SKIPPED | SKIPPED | SKIPPED | SKIPPED | SKIPPED | +-------------------------------+--------------------+-------------------+------------------+-------------------------+-------------------+----------------------+ | Ubuntu 20.04 | PASS | SKIPPED | SKIPPED | SKIPPED | SKIPPED | SKIPPED | +-------------------------------+--------------------+-------------------+------------------+-------------------------+-------------------+----------------------+ | Ubuntu 22.04 | PASS | PASS | SKIPPED | SKIPPED | SKIPPED | SKIPPED | +-------------------------------+--------------------+-------------------+------------------+-------------------------+-------------------+----------------------+ | Ubuntu 24.04 | PASS | PASS | PASS | SKIPPED | SKIPPED | SKIPPED | +-------------------------------+--------------------+-------------------+------------------+-------------------------+-------------------+----------------------+ | Alpine Linux 3.22.0 | PASS | SKIPPED | SKIPPED | SKIPPED | SKIPPED | SKIPPED | +-------------------------------+--------------------+-------------------+------------------+-------------------------+-------------------+----------------------+ | FreeBSD 14.2 | PASS | SKIPPED | SKIPPED | SKIPPED | SKIPPED | SKIPPED | +-------------------------------+--------------------+-------------------+------------------+-------------------------+-------------------+----------------------+ | Windows Server 2022 | SKIPPED | SKIPPED | SKIPPED | PASS | PASS | PASS | +-------------------------------+--------------------+-------------------+------------------+-------------------------+-------------------+----------------------+ Debian GNU/Linux 12 Kernel: 5.15 Compiler: gcc gcc (Debian 12.2.0-14+deb12u1) 12.2.0 Fedora Linux 40 Kernel: 5.15 Compiler: clang gcc (GCC) 14.2.1 20240912 (Red Hat 14.2.1-3) CentOS Stream 10 Kernel: 5.15 Compiler: gcc gcc (GCC) 14.2.1 20250110 (Red Hat 14.2.1-8) Fedora Linux 41 Kernel: 5.15 Compiler: gcc gcc (GCC) 14.3.1 20250523 (Red Hat 14.3.1-1) openSUSE Leap 15.6 Kernel: 5.15 Compiler: gcc gcc (SUSE Linux) 7.5.0 Red Hat Enterprise Linux 8.10 Kernel: 5.15 Compiler: gcc gcc (GCC) 8.5.0 20210514 (Red Hat 8.5.0-22) Red Hat Enterprise Linux 9.5 Kernel: 5.15 Compiler: gcc gcc (GCC) 11.5.0 20240719 (Red Hat 11.5.0-2) Ubuntu 20.04 Kernel: 5.15 Compiler: gcc gcc (Ubuntu 9.4.0-1ubuntu1~20.04.2) 9.4.0 Ubuntu 22.04 Kernel: 5.15 Compiler: gcc gcc (Ubuntu 11.4.0-1ubuntu1~22.04) 11.4.0 Ubuntu 24.04 Kernel: 5.15 Compiler: gcc gcc (Ubuntu 13.3.0-6ubuntu2~24.04) 13.3.0 Alpine Linux 3.22.0 Kernel: 5.15 Compiler: gcc gcc (Alpine 14.2.0) 14.2.0 FreeBSD 14.2 Kernel: 14.2-RELEASE Compiler: clang 18.1.6 Windows Server 2022 Kernel: 10.0.20348.2031 Compiler: clang 15.0.7, gcc 14.1.0 (MinGW), and MSVC VS 19.39.33521 To view detailed results, visit: https://lab.dpdk.org/results/dashboard/patchsets/33685/ UNH-IOL DPDK Community Lab To manage your email subscriptions, visit: https://lab.dpdk.org/results/dashboard/preferences/subscriptions/