From mboxrd@z Thu Jan 1 00:00:00 1970 Return-Path: Received: from mails.dpdk.org (mails.dpdk.org [217.70.189.124]) by inbox.dpdk.org (Postfix) with ESMTP id B7DBE46BAB for ; Fri, 18 Jul 2025 14:13:06 +0200 (CEST) Received: from mails.dpdk.org (localhost [127.0.0.1]) by mails.dpdk.org (Postfix) with ESMTP id 90C224013F; Fri, 18 Jul 2025 14:13:06 +0200 (CEST) Received: from mail-io1-f98.google.com (mail-io1-f98.google.com [209.85.166.98]) by mails.dpdk.org (Postfix) with ESMTP id E42B64013F for ; Fri, 18 Jul 2025 14:13:04 +0200 (CEST) Received: by mail-io1-f98.google.com with SMTP id ca18e2360f4ac-87653e3adc6so79550339f.3 for ; Fri, 18 Jul 2025 05:13:04 -0700 (PDT) DKIM-Signature: v=1; a=rsa-sha256; c=relaxed/relaxed; d=iol.unh.edu; s=unh-iol; t=1752840784; x=1753445584; darn=dpdk.org; h=references:in-reply-to:cc:to:from:subject:message-id:date:from:to :cc:subject:date:message-id:reply-to; bh=4AfFz46EvG1q1DbJnWYVW+BN+Qv3JIJoBuK0X+FkLR4=; b=hrnZfxO7Q4+2egg5XajFpoiybTJRRnskr8BfcUh+ZVycW2/GNMk6YtPTihDb3FbQY+ 7n7A+MTjOv0n9ZspWEoOTj25W4YctcKjguj1kbrjNXmmOYF/4l+Lerpcyl8Ls483f0e+ EMDzx+yXFlGk6p/qhnTVmNg2kToiw5oEYQN/0= X-Google-DKIM-Signature: v=1; a=rsa-sha256; c=relaxed/relaxed; d=1e100.net; s=20230601; t=1752840784; x=1753445584; h=references:in-reply-to:cc:to:from:subject:message-id:date :x-gm-message-state:from:to:cc:subject:date:message-id:reply-to; bh=4AfFz46EvG1q1DbJnWYVW+BN+Qv3JIJoBuK0X+FkLR4=; b=lQcdtqdSULKTSGJ4ruDfl4nm0GIGHCfK/nkhi3CZHtUUUaGQs7wdYzLQ7LWQlWb1jU 75GOBzwFDDK1RRUTe/K9/RN4F9ukpp7ZRgZjAUNYkfpuHYxzxUsXzXHmx/5lnyUvD4PZ jNgJzfbPnwNM6qPZKD4d9EKdlt4ZHgn6rO1ws/bA54/Q/r70rkWPFhbomFHniwcH01BH MDJ61BQWfdKQT3hZxVB3b0WtYM4PTkGTi6F6NbNMrRrqlLpRC6pL3cmWlN0c2kSSNnl7 NPsqF+0S4BbQ25H3QPnr2CMJyWeNPSehLcLJmHqpObwJPPIikBtp3ZdhoJzl4LgOUFgB bNRw== X-Gm-Message-State: AOJu0YxN2Fka2iyM1S65a+9D9HNvrMDkftlQABIND4Ozg/tHNGuIz2Uv k/pOOG2lRYv6vk3l3edavs5BSh2291GUs+qv2fPMXwDa1ppyXeCvOk8d2Zu9qLIqPXz5Jg0NLut Unh/Vvjrb43HTj/cUc1E+8L8GSIsvBsoNKWW07OZiG9dpveeDlRsDmgpDvXuj X-Gm-Gg: ASbGncvrqXDrp5QPJkqgbQKJLlGkh3fuiCz4ybgYpPgsC1SFuX3qqulbd6rzjDeew01 +KfRuXgxSytpNopYokIDUTXvLTgQg316Wal1LVfXpEu3W9syhFiRVaO7O2tqHZwK/b+ZsUIbeUU XXBCndJuuM7DomOuc9oc+hgg/LAFNTDma0mGVaJCzt3ENanD1Wv2dIg/oa6KVhVIrQbQaiWjW/m u8zpkWYST6sWECm4DxETxCUeVs4ityj5u2FK8phpMWrOLhU70OQsZAaLiIZH2g1zvUaMLHEIsCF LCCZfekMZGxUfZCrMGtfprdpsFTOm6njff8IIqSEXr3ssvmjZw== X-Google-Smtp-Source: AGHT+IETnUWA/bVTvQ7Vu5oXeW89LNrDXkPlnsq411VVflC7heVBv5vodxm3avSWzWmBMcLKNmJ09+NjNYTC X-Received: by 2002:a05:6602:3a13:b0:86d:71:d9a with SMTP id ca18e2360f4ac-879c284b37fmr1199378939f.2.1752840784189; Fri, 18 Jul 2025 05:13:04 -0700 (PDT) Received: from postal.iol.unh.edu (postal.iol.unh.edu. [2606:4100:3880:1234::84]) by smtp-relay.gmail.com with ESMTPS id ca18e2360f4ac-87c0e716afasm8560439f.20.2025.07.18.05.13.04 (version=TLS1_2 cipher=ECDHE-ECDSA-AES128-GCM-SHA256 bits=128/128); Fri, 18 Jul 2025 05:13:04 -0700 (PDT) X-Relaying-Domain: iol.unh.edu Date: Fri, 18 Jul 2025 05:13:04 -0700 (PDT) Message-ID: <687a3a50.050a0220.cacf.4676SMTPIN_ADDED_MISSING@mx.google.com> Received: from [172.21.0.2] (unknown [172.18.0.240]) by postal.iol.unh.edu (Postfix) with ESMTP id 78EA06051830; Fri, 18 Jul 2025 08:13:03 -0400 (EDT) Subject: |SUCCESS| pw155321 [PATCH] net/ixgbe: fix port mask default value on From: dpdklab@iol.unh.edu To: Test Report Cc: dpdk-test-reports@iol.unh.edu In-Reply-To: <20250718090907.649202-1-yuanx.wang@intel.com> References: <20250718090907.649202-1-yuanx.wang@intel.com> Content-Type: text/plain X-BeenThere: test-report@dpdk.org X-Mailman-Version: 2.1.29 Precedence: list List-Id: automatic DPDK test reports List-Unsubscribe: , List-Archive: List-Post: List-Help: List-Subscribe: , Errors-To: test-report-bounces@dpdk.org Test-Label: iol-unit-arm64-testing Test-Status: SUCCESS http://dpdk.org/patch/155321 _Testing PASS_ Submitter: Yuan Wang Date: Friday, July 18 2025 09:09:07 DPDK git baseline: Repo:dpdk Branch: master CommitID:a6b10031d251fcc7dadede461f7e1d005024b139 155321 --> testing pass Upstream job id: Generic-Unit-Test-DPDK#356225 Test environment and result as below: +------------------------------+----------------+---------------------------+--------------+------------------------------+ | Environment | dpdk_unit_test | cryptodev_sw_zuc_autotest | lpm_autotest | cryptodev_sw_snow3g_autotest | +==============================+================+===========================+==============+==============================+ | CentOS Stream 9 | PASS | SKIPPED | SKIPPED | SKIPPED | +------------------------------+----------------+---------------------------+--------------+------------------------------+ | Debian GNU/Linux 12 | PASS | SKIPPED | SKIPPED | SKIPPED | +------------------------------+----------------+---------------------------+--------------+------------------------------+ | CentOS Stream 10 | PASS | SKIPPED | SKIPPED | SKIPPED | +------------------------------+----------------+---------------------------+--------------+------------------------------+ | Fedora Linux 41 | PASS | SKIPPED | SKIPPED | SKIPPED | +------------------------------+----------------+---------------------------+--------------+------------------------------+ | Fedora Linux 40 | PASS | SKIPPED | SKIPPED | SKIPPED | +------------------------------+----------------+---------------------------+--------------+------------------------------+ | Red Hat Enterprise Linux 9.5 | PASS | SKIPPED | SKIPPED | SKIPPED | +------------------------------+----------------+---------------------------+--------------+------------------------------+ | Ubuntu 24.04 | PASS | SKIPPED | SKIPPED | SKIPPED | +------------------------------+----------------+---------------------------+--------------+------------------------------+ | Ubuntu 20.04 | PASS | SKIPPED | PASS | SKIPPED | +------------------------------+----------------+---------------------------+--------------+------------------------------+ | Ubuntu 22.04 | PASS | SKIPPED | SKIPPED | SKIPPED | +------------------------------+----------------+---------------------------+--------------+------------------------------+ | Debian 12 (arm) | SKIPPED | PASS | SKIPPED | PASS | +------------------------------+----------------+---------------------------+--------------+------------------------------+ CentOS Stream 9 Kernel: 5.4 Compiler: gcc gcc (GCC) 11.5.0 20240719 (Red Hat 11.5.0-7) Debian GNU/Linux 12 Kernel: 5.4 Compiler: gcc gcc (Debian 12.2.0-14+deb12u1) 12.2.0 CentOS Stream 10 Kernel: 5.4 Compiler: gcc gcc (GCC) 14.2.1 20250110 (Red Hat 14.2.1-8) Fedora Linux 41 Kernel: 5.4 Compiler: gcc gcc (GCC) 14.3.1 20250523 (Red Hat 14.3.1-1) Fedora Linux 40 Kernel: 5.4 Compiler: clang gcc (GCC) 14.2.1 20240912 (Red Hat 14.2.1-3) Red Hat Enterprise Linux 9.5 Kernel: 5.4 Compiler: gcc gcc (GCC) 11.5.0 20240719 (Red Hat 11.5.0-2) Ubuntu 24.04 Kernel: 5.4 Compiler: gcc gcc (Ubuntu 13.3.0-6ubuntu2~24.04) 13.3.0 Ubuntu 20.04 Kernel: 5.4 Compiler: gcc gcc (Ubuntu 9.4.0-1ubuntu1~20.04.2) 9.4.0 Ubuntu 22.04 Kernel: 5.4 Compiler: gcc gcc (Ubuntu 11.4.0-1ubuntu1~22.04) 11.4.0 Debian 12 (arm) Kernel: Depends on container host Compiler: gcc (Debian 12.2.0-14) 12.2.0 To view detailed results, visit: https://lab.dpdk.org/results/dashboard/patchsets/33685/ UNH-IOL DPDK Community Lab To manage your email subscriptions, visit: https://lab.dpdk.org/results/dashboard/preferences/subscriptions/