From mboxrd@z Thu Jan 1 00:00:00 1970 Return-Path: Received: from mails.dpdk.org (mails.dpdk.org [217.70.189.124]) by inbox.dpdk.org (Postfix) with ESMTP id 9DFDD46BAB for ; Fri, 18 Jul 2025 15:50:38 +0200 (CEST) Received: from mails.dpdk.org (localhost [127.0.0.1]) by mails.dpdk.org (Postfix) with ESMTP id 761794014F; Fri, 18 Jul 2025 15:50:38 +0200 (CEST) Received: from mail-oa1-f97.google.com (mail-oa1-f97.google.com [209.85.160.97]) by mails.dpdk.org (Postfix) with ESMTP id E72A94014F for ; Fri, 18 Jul 2025 15:50:37 +0200 (CEST) Received: by mail-oa1-f97.google.com with SMTP id 586e51a60fabf-2eb6c422828so2320055fac.1 for ; Fri, 18 Jul 2025 06:50:37 -0700 (PDT) DKIM-Signature: v=1; a=rsa-sha256; c=relaxed/relaxed; d=iol.unh.edu; s=unh-iol; t=1752846637; x=1753451437; darn=dpdk.org; h=references:in-reply-to:cc:to:from:subject:message-id:date:from:to :cc:subject:date:message-id:reply-to; bh=UaBLQxfRyfOdEE40VmM6Xsl2p4XnZ8fhvGDEgHerLJU=; b=RNFvYZ7pmfoc33peC27p7KbINP8wpLFFsJOkU1MdcikJNktCIlMksMCwy8D6Lsk8YL 52mcbhYmbtehNe44Jwm6Xs67ngO2k4mFkMo9O+z86EDOZrQQf4pCMs1fBqnWCWCNlF/N 8df/0Oqn3QBsqE4vlI+pCzfCWdy2oCiuZH7rQ= X-Google-DKIM-Signature: v=1; a=rsa-sha256; c=relaxed/relaxed; d=1e100.net; s=20230601; t=1752846637; x=1753451437; h=references:in-reply-to:cc:to:from:subject:message-id:date :x-gm-message-state:from:to:cc:subject:date:message-id:reply-to; bh=UaBLQxfRyfOdEE40VmM6Xsl2p4XnZ8fhvGDEgHerLJU=; b=UPKiGT3NC+ykPnWhWiQtqSQqNK4Jeqg8nMYCwHfI6j5hjQEKpDlTLYFFXMzH5DbZLo 9T56DNKeZEndbLB3bR114/1By5HgWAhMNQYsDSes3HkkAT1Q+QqTJHyN1qTXlCM92je1 1FLH6vrPzucgNRkCMSSk6G4Mp4JpOg7PtywDZc6JVTOQKLsiKdjCEAqeA6Bnbpz/MaXC 2An0+lXpUc+2zyYM+H7morjNeJ0zgnwuBPQ8rvQBe5+guGqaBFSsVbTUx54/azz0UH99 E1+gtA0Xi38S8G2S2phgBy5JCFwHcDkf9ZoCJEH4NE/WUtLQDyy3OvXmyhAi2+5m0+fu fpqA== X-Gm-Message-State: AOJu0Yy+SdWmgAvcbMVqnnKZu1mqMipHryemJA4pD1DASQlfIghS4RFr klvlVpa06aWMi5OyrDBXwRGcE5KyGQeBKvmFSHHXIKHdqOKobtW/qQKsPBRjwlBfgbVuXWquO74 RJjx8RwKKBdUR/0Z3NMxzczBTSn4S6C8EAC69XBU5729C X-Gm-Gg: ASbGncuxpZtkzoBcgmbQQzMgDdRamyCI3lXySTuQEsV908PekHmUSspAxwPXLZfGicZ gYjSqvKckefXUIDliHOuDSybsNbLYBNX0ehv9z/N8EpaRPlZsdUnksQiL2X96Oi54DvyVAiIfGF NeppUXyruYJbrZvyDcuXofi/wCo9xmE381BzBchjdzeI3EMlrOuyzD5t4uiZfuBpNqlpSLtqpQm JtNOo85OQSYpMGsSROppLOD33esUIc5TrQ5ehMOybqfezFfwAm1iWN2DRKxk6U9kwbAfijGRsuj uGYfJ/LATKBqWHgRQc+uGavGOjZFGHaYDINCSf58O4hRpcvWt61lxrsIO8JVRIUPW1aks1/g X-Google-Smtp-Source: AGHT+IEQkqhyAdVnNOQ6prgsle607DIRK6pof8VNAvjaTzj9r18y8jk14fR7ohtAAHi0I318FWsJUpvArrH7 X-Received: by 2002:a05:6871:e585:b0:2f7:53e7:1131 with SMTP id 586e51a60fabf-2ffcc229e63mr5715956fac.10.1752846636804; Fri, 18 Jul 2025 06:50:36 -0700 (PDT) Received: from postal.iol.unh.edu (postal.iol.unh.edu. [132.177.123.84]) by smtp-relay.gmail.com with ESMTPS id 46e09a7af769-73e8336e6dfsm33919a34.0.2025.07.18.06.50.36 (version=TLS1_2 cipher=ECDHE-ECDSA-AES128-GCM-SHA256 bits=128/128); Fri, 18 Jul 2025 06:50:36 -0700 (PDT) X-Relaying-Domain: iol.unh.edu Date: Fri, 18 Jul 2025 06:50:36 -0700 (PDT) Message-ID: <687a512c.050a0220.f14d3.1b32SMTPIN_ADDED_MISSING@mx.google.com> Received: from [172.21.0.3] (unknown [172.18.0.240]) by postal.iol.unh.edu (Postfix) with ESMTP id 50C1A604D420; Fri, 18 Jul 2025 09:50:36 -0400 (EDT) Subject: |SUCCESS| pw155323 [PATCH] build: remove obsolete compiler checks From: dpdklab@iol.unh.edu To: Test Report Cc: dpdk-test-reports@iol.unh.edu In-Reply-To: <20250718121402.856265-1-bruce.richardson@intel.com> References: <20250718121402.856265-1-bruce.richardson@intel.com> Content-Type: text/plain X-BeenThere: test-report@dpdk.org X-Mailman-Version: 2.1.29 Precedence: list List-Id: automatic DPDK test reports List-Unsubscribe: , List-Archive: List-Post: List-Help: List-Subscribe: , Errors-To: test-report-bounces@dpdk.org Test-Label: iol-abi-testing Test-Status: SUCCESS http://dpdk.org/patch/155323 _Testing PASS_ Submitter: Bruce Richardson Date: Friday, July 18 2025 12:14:02 DPDK git baseline: Repo:dpdk Branch: master CommitID:20a053a223db35244b6daee98d71fdab631646b6 155323 --> testing pass Upstream job id: Generic-DPDK-Compile-ABI#134778 Test environment and result as below: +-------------------------------+----------+ | Environment | abi_test | +===============================+==========+ | Debian GNU/Linux 12 | PASS | +-------------------------------+----------+ | CentOS Stream 10 | PASS | +-------------------------------+----------+ | CentOS Stream 9 | PASS | +-------------------------------+----------+ | openSUSE Leap 15.6 | PASS | +-------------------------------+----------+ | Fedora Linux 41 | PASS | +-------------------------------+----------+ | Fedora Linux 40 | PASS | +-------------------------------+----------+ | Ubuntu 24.04 | PASS | +-------------------------------+----------+ | Red Hat Enterprise Linux 8.10 | PASS | +-------------------------------+----------+ | Red Hat Enterprise Linux 9.5 | PASS | +-------------------------------+----------+ | Ubuntu 22.04 | PASS | +-------------------------------+----------+ Debian GNU/Linux 12 Kernel: 5.15 Compiler: gcc gcc (Debian 12.2.0-14+deb12u1) 12.2.0 CentOS Stream 10 Kernel: 5.15 Compiler: gcc gcc (GCC) 14.2.1 20250110 (Red Hat 14.2.1-8) CentOS Stream 9 Kernel: 5.15 Compiler: gcc gcc (GCC) 11.5.0 20240719 (Red Hat 11.5.0-7) openSUSE Leap 15.6 Kernel: 5.15 Compiler: gcc gcc (SUSE Linux) 7.5.0 Fedora Linux 41 Kernel: 5.15 Compiler: gcc gcc (GCC) 14.3.1 20250523 (Red Hat 14.3.1-1) Fedora Linux 40 Kernel: 5.15 Compiler: clang gcc (GCC) 14.2.1 20240912 (Red Hat 14.2.1-3) Ubuntu 24.04 Kernel: 5.15 Compiler: gcc gcc (Ubuntu 13.3.0-6ubuntu2~24.04) 13.3.0 Red Hat Enterprise Linux 8.10 Kernel: 5.15 Compiler: gcc gcc (GCC) 8.5.0 20210514 (Red Hat 8.5.0-22) Red Hat Enterprise Linux 9.5 Kernel: 5.15 Compiler: gcc gcc (GCC) 11.5.0 20240719 (Red Hat 11.5.0-2) Ubuntu 22.04 Kernel: 5.15 Compiler: gcc gcc (Ubuntu 11.4.0-1ubuntu1~22.04) 11.4.0 To view detailed results, visit: https://lab.dpdk.org/results/dashboard/patchsets/33687/ UNH-IOL DPDK Community Lab To manage your email subscriptions, visit: https://lab.dpdk.org/results/dashboard/preferences/subscriptions/