From mboxrd@z Thu Jan 1 00:00:00 1970 Return-Path: Received: from mails.dpdk.org (mails.dpdk.org [217.70.189.124]) by inbox.dpdk.org (Postfix) with ESMTP id 9FFC546BAB for ; Fri, 18 Jul 2025 15:51:03 +0200 (CEST) Received: from mails.dpdk.org (localhost [127.0.0.1]) by mails.dpdk.org (Postfix) with ESMTP id 996E64014F; Fri, 18 Jul 2025 15:51:03 +0200 (CEST) Received: from mail-pg1-f228.google.com (mail-pg1-f228.google.com [209.85.215.228]) by mails.dpdk.org (Postfix) with ESMTP id 858C84014F for ; Fri, 18 Jul 2025 15:51:02 +0200 (CEST) Received: by mail-pg1-f228.google.com with SMTP id 41be03b00d2f7-b3bdab4bf19so1599489a12.2 for ; Fri, 18 Jul 2025 06:51:02 -0700 (PDT) DKIM-Signature: v=1; a=rsa-sha256; c=relaxed/relaxed; d=iol.unh.edu; s=unh-iol; t=1752846661; x=1753451461; darn=dpdk.org; h=references:in-reply-to:cc:to:from:subject:message-id:date:from:to :cc:subject:date:message-id:reply-to; bh=PAl4biwcyA5hyzahh0qmLKOoomnknFAZHp1ZDSSFKgE=; b=Fl5EswG3koRdH9rBmeWzdGj1mLtBf6lOCVbHFGhCIAqi548tIqUh687wh1wBN5Lk4T LcF5lHVeDv5Ze0MF2MV+PEyW1fQJq5fTUX/23Rc9pO0TQjBO8e2vAytMCsFisbBJgG0S Ptug+CKblAs4Hu55yoD9t2m59zvoVRVxoqefo= X-Google-DKIM-Signature: v=1; a=rsa-sha256; c=relaxed/relaxed; d=1e100.net; s=20230601; t=1752846661; x=1753451461; h=references:in-reply-to:cc:to:from:subject:message-id:date :x-gm-message-state:from:to:cc:subject:date:message-id:reply-to; bh=PAl4biwcyA5hyzahh0qmLKOoomnknFAZHp1ZDSSFKgE=; b=Wl6iYY7vHFrwsLHpH4XMhiOkcKv17nDoaQxfr2cgIoamiBi7eKYOUfgwNOh261+YDE bfSc+GOnD1/lyznDMVrzgedTabiQjqh0/ijZP9LfiUDZJM5OUFmk1ieYYEs40FiA4Xbz s3QKVFB1A8zSEhWi3BRFamvF6gi0Tu8Mf/x4N+77xumxtbl5shKFdGkF3ujq/sntXAHk Ud6aIGvc5WaLVTba6V3tu41LsJ/4p2P5JORpLvFEzmomHjOc98cR7+eFrFcLvU5EBaRt /upfvNanHl0O/90+Za/3JBWcXfxqoxe53LsgDhp/X9IrjKAoobKeqafp6YxCvetYpj+J DZ5Q== X-Gm-Message-State: AOJu0YzNAaaOV/J+RQXv+aCcy+/XmmfztWc3YreGm92TM0eR/OnTFk9r 22iJNC8zvkLutsV+vlglfO99Zoohg8nThH/unQmNJwGrknRMl3h5SNaWgbjoC8U3K3gfHcB8JGL FaNouweYh/XnioWFxjblnZ4SP8yKVF1swyo2Hlz5o3M+zbb8WElecWP01tLiQ X-Gm-Gg: ASbGncviS5tPiZInk+kbhHBTaVDPFy7lMENXKs1QKe9yVTFtcE+yKYqD9zIdjuDS+3Q i4e9cLfeb4HlXRg5kXTNI4Yu/cZzZMUKgHIMsVTy2/qClvIPsTWR/6ho4Mt8ueT1ejCc69bZg4N kCMN0fAbYY7moQ45TaLBoE3yDyyrnYus0GGbP4BQuqHAEQ45Eclgfxsf6ZMivq+/dzp26O4dRD4 mh6t8Ey3UoG4f/h+4EQ/JLcePANfpyFRg/jefO8qlohZ9XPY1sg9TjXZHmRXmQe7xWEawGbX199 oP3SWRoayuWxTeB+Zci9awpbmvdnt9LSAHLT2irRjIeJLaThmQ== X-Google-Smtp-Source: AGHT+IEFi2FYzmeeXzCIuajGFs6hdbg7koc3IrfD3jtneCKQMSqOvHSY46AVMvQQv46y/jrWWDTqs4VNreiY X-Received: by 2002:a17:903:2ed0:b0:23d:d0e7:754b with SMTP id d9443c01a7336-23e24f4a246mr130077135ad.18.1752846661531; Fri, 18 Jul 2025 06:51:01 -0700 (PDT) Received: from postal.iol.unh.edu (postal.iol.unh.edu. [2606:4100:3880:1234::84]) by smtp-relay.gmail.com with ESMTPS id d9443c01a7336-23e3b61b99esm896545ad.28.2025.07.18.06.51.01 (version=TLS1_2 cipher=ECDHE-ECDSA-AES128-GCM-SHA256 bits=128/128); Fri, 18 Jul 2025 06:51:01 -0700 (PDT) X-Relaying-Domain: iol.unh.edu Date: Fri, 18 Jul 2025 06:51:01 -0700 (PDT) Message-ID: <687a5145.170a0220.11adef.492aSMTPIN_ADDED_MISSING@mx.google.com> Received: from [172.21.0.4] (unknown [172.18.0.240]) by postal.iol.unh.edu (Postfix) with ESMTP id 08F12604D420; Fri, 18 Jul 2025 09:51:01 -0400 (EDT) Subject: |SUCCESS| pw155323 [PATCH] build: remove obsolete compiler checks From: dpdklab@iol.unh.edu To: Test Report Cc: dpdk-test-reports@iol.unh.edu In-Reply-To: <20250718121402.856265-1-bruce.richardson@intel.com> References: <20250718121402.856265-1-bruce.richardson@intel.com> Content-Type: text/plain X-BeenThere: test-report@dpdk.org X-Mailman-Version: 2.1.29 Precedence: list List-Id: automatic DPDK test reports List-Unsubscribe: , List-Archive: List-Post: List-Help: List-Subscribe: , Errors-To: test-report-bounces@dpdk.org Test-Label: iol-abi-testing Test-Status: SUCCESS http://dpdk.org/patch/155323 _Testing PASS_ Submitter: Bruce Richardson Date: Friday, July 18 2025 12:14:02 DPDK git baseline: Repo:dpdk Branch: master CommitID:20a053a223db35244b6daee98d71fdab631646b6 155323 --> testing pass Upstream job id: Generic-DPDK-Compile-ABI#134784 Test environment and result as below: +-------------------------------+----------+ | Environment | abi_test | +===============================+==========+ | Debian GNU/Linux 12 | PASS | +-------------------------------+----------+ | CentOS Stream 10 | PASS | +-------------------------------+----------+ | CentOS Stream 9 | PASS | +-------------------------------+----------+ | openSUSE Leap 15.6 | PASS | +-------------------------------+----------+ | Fedora Linux 41 | PASS | +-------------------------------+----------+ | Fedora Linux 40 | PASS | +-------------------------------+----------+ | Ubuntu 24.04 | PASS | +-------------------------------+----------+ | Red Hat Enterprise Linux 8.10 | PASS | +-------------------------------+----------+ | Red Hat Enterprise Linux 9.5 | PASS | +-------------------------------+----------+ | Ubuntu 22.04 | PASS | +-------------------------------+----------+ Debian GNU/Linux 12 Kernel: 5.15 Compiler: gcc gcc (Debian 12.2.0-14+deb12u1) 12.2.0 CentOS Stream 10 Kernel: 5.15 Compiler: gcc gcc (GCC) 14.2.1 20250110 (Red Hat 14.2.1-8) CentOS Stream 9 Kernel: 5.15 Compiler: gcc gcc (GCC) 11.5.0 20240719 (Red Hat 11.5.0-7) openSUSE Leap 15.6 Kernel: 5.15 Compiler: gcc gcc (SUSE Linux) 7.5.0 Fedora Linux 41 Kernel: 5.15 Compiler: gcc gcc (GCC) 14.3.1 20250523 (Red Hat 14.3.1-1) Fedora Linux 40 Kernel: 5.15 Compiler: clang gcc (GCC) 14.2.1 20240912 (Red Hat 14.2.1-3) Ubuntu 24.04 Kernel: 5.15 Compiler: gcc gcc (Ubuntu 13.3.0-6ubuntu2~24.04) 13.3.0 Red Hat Enterprise Linux 8.10 Kernel: 5.15 Compiler: gcc gcc (GCC) 8.5.0 20210514 (Red Hat 8.5.0-22) Red Hat Enterprise Linux 9.5 Kernel: 5.15 Compiler: gcc gcc (GCC) 11.5.0 20240719 (Red Hat 11.5.0-2) Ubuntu 22.04 Kernel: 5.15 Compiler: gcc gcc (Ubuntu 11.4.0-1ubuntu1~22.04) 11.4.0 To view detailed results, visit: https://lab.dpdk.org/results/dashboard/patchsets/33687/ UNH-IOL DPDK Community Lab To manage your email subscriptions, visit: https://lab.dpdk.org/results/dashboard/preferences/subscriptions/