From mboxrd@z Thu Jan 1 00:00:00 1970 Return-Path: Received: from mails.dpdk.org (mails.dpdk.org [217.70.189.124]) by inbox.dpdk.org (Postfix) with ESMTP id B436E46BAB for ; Fri, 18 Jul 2025 15:51:24 +0200 (CEST) Received: from mails.dpdk.org (localhost [127.0.0.1]) by mails.dpdk.org (Postfix) with ESMTP id AE1A74014F; Fri, 18 Jul 2025 15:51:24 +0200 (CEST) Received: from mail-il1-f225.google.com (mail-il1-f225.google.com [209.85.166.225]) by mails.dpdk.org (Postfix) with ESMTP id 9C5954014F for ; Fri, 18 Jul 2025 15:51:23 +0200 (CEST) Received: by mail-il1-f225.google.com with SMTP id e9e14a558f8ab-3e29788356cso2452365ab.3 for ; Fri, 18 Jul 2025 06:51:23 -0700 (PDT) DKIM-Signature: v=1; a=rsa-sha256; c=relaxed/relaxed; d=iol.unh.edu; s=unh-iol; t=1752846683; x=1753451483; darn=dpdk.org; h=references:in-reply-to:cc:to:from:subject:message-id:date:from:to :cc:subject:date:message-id:reply-to; bh=xiC9N2y65IIn9SWyu+dR5GxBBus9hDjl1x9+l/ujLYs=; b=MQoH12Rr14a2Vc857jW8Sl/0YRFWStbPo+qQLeHElGbq+yPLWCC4k6AXvUpsP/sG6J hqTWH8r4oANYFxGUA6FwzvljqBvFblVcAOtH+lt1pCQZjIfTAVijuBeqdArGYscBbzzV p6FXQEIGy2jyEwEJyaG1EXeSeaf1on1Q3UnQQ= X-Google-DKIM-Signature: v=1; a=rsa-sha256; c=relaxed/relaxed; d=1e100.net; s=20230601; t=1752846683; x=1753451483; h=references:in-reply-to:cc:to:from:subject:message-id:date :x-gm-message-state:from:to:cc:subject:date:message-id:reply-to; bh=xiC9N2y65IIn9SWyu+dR5GxBBus9hDjl1x9+l/ujLYs=; b=VIuX6vhsIbslh7u9/Sd2GbS4dF7CcXSoAzApzEfsLIvsH5vQpotEr0FiM+YjzbGUMB jDevyAWgr9JHJK2Vu0izx7OjBPFsA6IefETakeRibNWoB9uoSHVdU8Kux4aPIcO16ku1 MTytLHPdQ1+lmnRCtPjbR+mP8ChtCzkLvJdhcni7FpOXlZ6A7APPyxhC1E4EpQmC4lNf SBQWsJurIW9mHWS+08FlN0hV+fFtZJ42b5CYyCNfhi8yGpeeJn0PqqXlqQDjFU6QR7iY UZjQGCTfOl8vt1+KM8LrpseXU9zEZV2MpCKqkkMjslGtkjuINfOKGBTus54U1ags3UGg uBFA== X-Gm-Message-State: AOJu0YxEvFMFM2D7xkqHWidKcp9BknIV62kiEFHkVfQAKE6232GXFXDV 1rWePNoYV9ezgcIOlLo2UP11NEbzZSDDo89v6DhTiujkDJtV56oZsrupqgZXRrN7rjOtU1AKpti Ycuz/cdvZDDkMedhXtWN7l2iMHqS75TOeH90Va9XMn7q4 X-Gm-Gg: ASbGncu6Ie1nDO0DL/FO9hYwid2wUVgxk1E8LD5RHIVATywXrb4BWyonJBhSbu8FqUw A46QZ+UpH8cfXNTKebbfaxkjTif+ywKQdlFfexct5csaDwOPFAFmLPJ1JN/WclA3Chf13r7F7Ju YVNl2af56ADupQ+quHGvETVaSkui95AU746/z9JDnwoPtDdbvTL6TtC/r++DuZckGSrBkQGwjq4 EPRyr7r6qCSo2CLG8UaGZWidYZ8f4xW+XjDupnBW90DFnYoAYcaggpMoLeYAglXDYLIbsZtoRof 6fcuKGel6LIRdEjYQwZQpnSpZE5ZJMH5TgzOqdropiMUO1ybcl29fz5IFupiIxipDdSrrNPo X-Google-Smtp-Source: AGHT+IEBV8FgtEgeV5SIe4fPXNoCZ5Op8Fwm14Dh90tdcUT4/iH9EO/2AmTb3US2VnVexEwPccxhc6drJ/Kb X-Received: by 2002:a05:6e02:4418:10b0:3dd:f476:8be8 with SMTP id e9e14a558f8ab-3e282d5907amr83678585ab.3.1752846682760; Fri, 18 Jul 2025 06:51:22 -0700 (PDT) Received: from postal.iol.unh.edu (postal.iol.unh.edu. [132.177.123.84]) by smtp-relay.gmail.com with ESMTPS id 8926c6da1cb9f-5084c7b71d1sm59276173.28.2025.07.18.06.51.22 (version=TLS1_2 cipher=ECDHE-ECDSA-AES128-GCM-SHA256 bits=128/128); Fri, 18 Jul 2025 06:51:22 -0700 (PDT) X-Relaying-Domain: iol.unh.edu Date: Fri, 18 Jul 2025 06:51:22 -0700 (PDT) Message-ID: <687a515a.050a0220.296e2e.327dSMTPIN_ADDED_MISSING@mx.google.com> Received: from [172.21.0.2] (unknown [172.18.0.240]) by postal.iol.unh.edu (Postfix) with ESMTP id 4BF24604D420; Fri, 18 Jul 2025 09:51:22 -0400 (EDT) Subject: |SUCCESS| pw155323 [PATCH] build: remove obsolete compiler checks From: dpdklab@iol.unh.edu To: Test Report Cc: dpdk-test-reports@iol.unh.edu In-Reply-To: <20250718121402.856265-1-bruce.richardson@intel.com> References: <20250718121402.856265-1-bruce.richardson@intel.com> Content-Type: text/plain X-BeenThere: test-report@dpdk.org X-Mailman-Version: 2.1.29 Precedence: list List-Id: automatic DPDK test reports List-Unsubscribe: , List-Archive: List-Post: List-Help: List-Subscribe: , Errors-To: test-report-bounces@dpdk.org Test-Label: iol-abi-testing Test-Status: SUCCESS http://dpdk.org/patch/155323 _Testing PASS_ Submitter: Bruce Richardson Date: Friday, July 18 2025 12:14:02 DPDK git baseline: Repo:dpdk Branch: master CommitID:20a053a223db35244b6daee98d71fdab631646b6 155323 --> testing pass Upstream job id: Generic-DPDK-Compile-ABI#134786 Test environment and result as below: +-------------------------------+----------+ | Environment | abi_test | +===============================+==========+ | Debian GNU/Linux 12 | PASS | +-------------------------------+----------+ | CentOS Stream 10 | PASS | +-------------------------------+----------+ | CentOS Stream 9 | PASS | +-------------------------------+----------+ | openSUSE Leap 15.6 | PASS | +-------------------------------+----------+ | Fedora Linux 41 | PASS | +-------------------------------+----------+ | Fedora Linux 40 | PASS | +-------------------------------+----------+ | Ubuntu 24.04 | PASS | +-------------------------------+----------+ | Red Hat Enterprise Linux 8.10 | PASS | +-------------------------------+----------+ | Red Hat Enterprise Linux 9.5 | PASS | +-------------------------------+----------+ | Ubuntu 22.04 | PASS | +-------------------------------+----------+ Debian GNU/Linux 12 Kernel: 5.15 Compiler: gcc gcc (Debian 12.2.0-14+deb12u1) 12.2.0 CentOS Stream 10 Kernel: 5.15 Compiler: gcc gcc (GCC) 14.2.1 20250110 (Red Hat 14.2.1-8) CentOS Stream 9 Kernel: 5.15 Compiler: gcc gcc (GCC) 11.5.0 20240719 (Red Hat 11.5.0-7) openSUSE Leap 15.6 Kernel: 5.15 Compiler: gcc gcc (SUSE Linux) 7.5.0 Fedora Linux 41 Kernel: 5.15 Compiler: gcc gcc (GCC) 14.3.1 20250523 (Red Hat 14.3.1-1) Fedora Linux 40 Kernel: 5.15 Compiler: clang gcc (GCC) 14.2.1 20240912 (Red Hat 14.2.1-3) Ubuntu 24.04 Kernel: 5.15 Compiler: gcc gcc (Ubuntu 13.3.0-6ubuntu2~24.04) 13.3.0 Red Hat Enterprise Linux 8.10 Kernel: 5.15 Compiler: gcc gcc (GCC) 8.5.0 20210514 (Red Hat 8.5.0-22) Red Hat Enterprise Linux 9.5 Kernel: 5.15 Compiler: gcc gcc (GCC) 11.5.0 20240719 (Red Hat 11.5.0-2) Ubuntu 22.04 Kernel: 5.15 Compiler: gcc gcc (Ubuntu 11.4.0-1ubuntu1~22.04) 11.4.0 To view detailed results, visit: https://lab.dpdk.org/results/dashboard/patchsets/33687/ UNH-IOL DPDK Community Lab To manage your email subscriptions, visit: https://lab.dpdk.org/results/dashboard/preferences/subscriptions/