From mboxrd@z Thu Jan 1 00:00:00 1970 Return-Path: Received: from mails.dpdk.org (mails.dpdk.org [217.70.189.124]) by inbox.dpdk.org (Postfix) with ESMTP id CBC9646BAB for ; Fri, 18 Jul 2025 15:52:12 +0200 (CEST) Received: from mails.dpdk.org (localhost [127.0.0.1]) by mails.dpdk.org (Postfix) with ESMTP id C574E4014F; Fri, 18 Jul 2025 15:52:12 +0200 (CEST) Received: from mail-qk1-f228.google.com (mail-qk1-f228.google.com [209.85.222.228]) by mails.dpdk.org (Postfix) with ESMTP id 08EC14014F for ; Fri, 18 Jul 2025 15:52:12 +0200 (CEST) Received: by mail-qk1-f228.google.com with SMTP id af79cd13be357-7e29616cc4fso205455585a.0 for ; Fri, 18 Jul 2025 06:52:11 -0700 (PDT) DKIM-Signature: v=1; a=rsa-sha256; c=relaxed/relaxed; d=iol.unh.edu; s=unh-iol; t=1752846731; x=1753451531; darn=dpdk.org; h=references:in-reply-to:cc:to:from:subject:message-id:date:from:to :cc:subject:date:message-id:reply-to; bh=rITT1Spp9Xr9XTS831htE8/uG7+Lr+wycVTxH9o02mY=; b=MIy5AOlmyATGaSKJQVYDphS6q2RpVNUYss5N/IpDcEPJD0EZEtjb9OEQzsTenffyam kREHWfT/kcOSIW9LamEXJ3Dy9c1D03V36El9WNgD4gsZbQFVAzVfp4RXXTDzVxO5STO3 ibHxJUN6tQlXueB4o1xaXkLws+PNBnD9hpXF4= X-Google-DKIM-Signature: v=1; a=rsa-sha256; c=relaxed/relaxed; d=1e100.net; s=20230601; t=1752846731; x=1753451531; h=references:in-reply-to:cc:to:from:subject:message-id:date :x-gm-message-state:from:to:cc:subject:date:message-id:reply-to; bh=rITT1Spp9Xr9XTS831htE8/uG7+Lr+wycVTxH9o02mY=; b=fWDGC3Lck8GQpfTdJoRXuIN+EM8wFKhAA864iFK8DB6XaoZ8x62zDM2yGuiJb4icbY bGRcQO4MxkQOxtUl8+ThAYNCH8BNyUW/2Vxlhua5/8/zzMRSnkFQHK+Z9O4PFxO/rKDe 0kQC/wNKk+t0ij002w/0YToSOBcLMpHkde3yzQOTvHE4KK9l4TsXB8ff9QERySk2RLn8 M89AyConcvABkREBWMo2TmrAn3vzKoDAOjIOQVktEUoS69x61HfMEC2TTZUBW1BAB5fM Gl1DHCu5u7LPw7+v8UO973CSF/9EkiWY+g6uu9ggwra8qwV+7fDJ3Nd4zSPLrMZctIQz G3WQ== X-Gm-Message-State: AOJu0Ywbi44MwLOIUqp69jFK97BlrbMf5eLAi1tSO30PDEA5fzBeBtFE gIyHkTAq5FneBJKTGXeh32HkV7cIsGABXxwrmYEMBFYi7CzPDns/Pgqjk28MG37YkRpqM/9Xfdc +BS8T3byPg7KCyp6MXZkirqmUxGqXyXMzrbtA5JLfPaMp X-Gm-Gg: ASbGncsNz3V06eboXmOz4xF1xggUqSgejWOWPuyUNZ5A5Zm9KluhgtIqUuSvb1FGcko RLjOaVIzo8rpBzamWb8WmXSinwH8Gl8ZtBrtX1OHNhb96vacwdY1nwgyt3XpQwvUJI669QYn8+Y +0P5YfcOT8Iep46qUaz9vDjzPpPiYqkichsmhrlzPK8JchDymaAAm5Q7ovfT0qgj4U9n2q47if7 EDXf8AsD21CHfz7qXgi51JpSUwjjBioazSpj/20Pnk0mr1o8JlTDRgTemAOpmstvVHFnNW2B7n7 5PNd15G2wN/rqspBwxIAYg2dy10AAcvwB0YmQUOItZoK8d6hvWpcZB3D6vECEe6NxrrrueNA X-Google-Smtp-Source: AGHT+IGA3a1jinfj3g+5ZA4DXqZekRyFHE62tL/LccN9Ov2SzN6yxDrdhkz5oMgFGpTLsc8birIuVBgdECmN X-Received: by 2002:a05:620a:1aa6:b0:7dd:f63c:b195 with SMTP id af79cd13be357-7e342b43f24mr1502250885a.32.1752846731268; Fri, 18 Jul 2025 06:52:11 -0700 (PDT) Received: from postal.iol.unh.edu (postal.iol.unh.edu. [132.177.123.84]) by smtp-relay.gmail.com with ESMTPS id af79cd13be357-7e356b0c322sm4438785a.2.2025.07.18.06.52.11 (version=TLS1_2 cipher=ECDHE-ECDSA-AES128-GCM-SHA256 bits=128/128); Fri, 18 Jul 2025 06:52:11 -0700 (PDT) X-Relaying-Domain: iol.unh.edu Date: Fri, 18 Jul 2025 06:52:11 -0700 (PDT) Message-ID: <687a518b.050a0220.382433.2255SMTPIN_ADDED_MISSING@mx.google.com> Received: from [172.21.0.2] (unknown [172.18.0.240]) by postal.iol.unh.edu (Postfix) with ESMTP id D1A7E604D420; Fri, 18 Jul 2025 09:52:10 -0400 (EDT) Subject: |SUCCESS| pw155323 [PATCH] build: remove obsolete compiler checks From: dpdklab@iol.unh.edu To: Test Report Cc: dpdk-test-reports@iol.unh.edu In-Reply-To: <20250718121402.856265-1-bruce.richardson@intel.com> References: <20250718121402.856265-1-bruce.richardson@intel.com> Content-Type: text/plain X-BeenThere: test-report@dpdk.org X-Mailman-Version: 2.1.29 Precedence: list List-Id: automatic DPDK test reports List-Unsubscribe: , List-Archive: List-Post: List-Help: List-Subscribe: , Errors-To: test-report-bounces@dpdk.org Test-Label: iol-abi-testing Test-Status: SUCCESS http://dpdk.org/patch/155323 _Testing PASS_ Submitter: Bruce Richardson Date: Friday, July 18 2025 12:14:02 DPDK git baseline: Repo:dpdk Branch: master CommitID:20a053a223db35244b6daee98d71fdab631646b6 155323 --> testing pass Upstream job id: Generic-DPDK-Compile-ABI#134779 Test environment and result as below: +-------------------------------+----------+ | Environment | abi_test | +===============================+==========+ | Debian GNU/Linux 12 | PASS | +-------------------------------+----------+ | CentOS Stream 10 | PASS | +-------------------------------+----------+ | CentOS Stream 9 | PASS | +-------------------------------+----------+ | openSUSE Leap 15.6 | PASS | +-------------------------------+----------+ | Fedora Linux 41 | PASS | +-------------------------------+----------+ | Fedora Linux 40 | PASS | +-------------------------------+----------+ | Ubuntu 24.04 | PASS | +-------------------------------+----------+ | Red Hat Enterprise Linux 8.10 | PASS | +-------------------------------+----------+ | Red Hat Enterprise Linux 9.5 | PASS | +-------------------------------+----------+ | Ubuntu 22.04 | PASS | +-------------------------------+----------+ Debian GNU/Linux 12 Kernel: 5.15 Compiler: gcc gcc (Debian 12.2.0-14+deb12u1) 12.2.0 CentOS Stream 10 Kernel: 5.15 Compiler: gcc gcc (GCC) 14.2.1 20250110 (Red Hat 14.2.1-8) CentOS Stream 9 Kernel: 5.15 Compiler: gcc gcc (GCC) 11.5.0 20240719 (Red Hat 11.5.0-7) openSUSE Leap 15.6 Kernel: 5.15 Compiler: gcc gcc (SUSE Linux) 7.5.0 Fedora Linux 41 Kernel: 5.15 Compiler: gcc gcc (GCC) 14.3.1 20250523 (Red Hat 14.3.1-1) Fedora Linux 40 Kernel: 5.15 Compiler: clang gcc (GCC) 14.2.1 20240912 (Red Hat 14.2.1-3) Ubuntu 24.04 Kernel: 5.15 Compiler: gcc gcc (Ubuntu 13.3.0-6ubuntu2~24.04) 13.3.0 Red Hat Enterprise Linux 8.10 Kernel: 5.15 Compiler: gcc gcc (GCC) 8.5.0 20210514 (Red Hat 8.5.0-22) Red Hat Enterprise Linux 9.5 Kernel: 5.15 Compiler: gcc gcc (GCC) 11.5.0 20240719 (Red Hat 11.5.0-2) Ubuntu 22.04 Kernel: 5.15 Compiler: gcc gcc (Ubuntu 11.4.0-1ubuntu1~22.04) 11.4.0 To view detailed results, visit: https://lab.dpdk.org/results/dashboard/patchsets/33687/ UNH-IOL DPDK Community Lab To manage your email subscriptions, visit: https://lab.dpdk.org/results/dashboard/preferences/subscriptions/