From mboxrd@z Thu Jan 1 00:00:00 1970 Return-Path: Received: from mails.dpdk.org (mails.dpdk.org [217.70.189.124]) by inbox.dpdk.org (Postfix) with ESMTP id ECE3B46BAB for ; Fri, 18 Jul 2025 15:53:17 +0200 (CEST) Received: from mails.dpdk.org (localhost [127.0.0.1]) by mails.dpdk.org (Postfix) with ESMTP id E648F4014F; Fri, 18 Jul 2025 15:53:17 +0200 (CEST) Received: from mail-qt1-f226.google.com (mail-qt1-f226.google.com [209.85.160.226]) by mails.dpdk.org (Postfix) with ESMTP id 38B034014F for ; Fri, 18 Jul 2025 15:53:17 +0200 (CEST) Received: by mail-qt1-f226.google.com with SMTP id d75a77b69052e-4aba19f4398so27415011cf.1 for ; Fri, 18 Jul 2025 06:53:17 -0700 (PDT) DKIM-Signature: v=1; a=rsa-sha256; c=relaxed/relaxed; d=iol.unh.edu; s=unh-iol; t=1752846796; x=1753451596; darn=dpdk.org; h=references:in-reply-to:cc:to:from:subject:message-id:date:from:to :cc:subject:date:message-id:reply-to; bh=UvN8rDLee0/N4iVgXHSzUEJhJcqRIP8Dh3+AJXhTIbQ=; b=Z1hP0nklTG/2u+kt99dlYs07SbyBh+//eGlBLRi5tTr4ksucovLsBqCuXYx65uOGIm rmoyKbGGxWTLgCgAK4vRP4GGUhs5fMXvNFk1VaL8or56OF5W+0jj+bK3SwVlBBB+VhnW s90j9L3LymOQnYArVISyMR4AjZfQy2iTFm07s= X-Google-DKIM-Signature: v=1; a=rsa-sha256; c=relaxed/relaxed; d=1e100.net; s=20230601; t=1752846796; x=1753451596; h=references:in-reply-to:cc:to:from:subject:message-id:date :x-gm-message-state:from:to:cc:subject:date:message-id:reply-to; bh=UvN8rDLee0/N4iVgXHSzUEJhJcqRIP8Dh3+AJXhTIbQ=; b=AsmxvWmRPYTN+tjQGAm7QdDzvb4uXhSJ0R79Ea2Nalcm4r1KAHWNQX7szkNf7cd8V7 w3FCfbwM0lRIJhAPegtqjv26FjtVJqR6X81PKcyUvvH2ti6Tt5NdOPjW9D9bZ75Dnbj8 2HHcXPLk2QhGMy4i1xYSzJxKSn4D7D9vyxAYlI/BHUdHZ1LyIWpMDhOKkl+2OF41y+fx jgZ/FoXC26AYk8HEdFV8+waBP4JftgSoLX3QDRXYHbzOXw3utlSBUwWoOGmMxRzoTF14 qeo1+sgZ8/8hVSeaEmlREyBVlbzrItthwIXO/OYRKPLyE1ZrAte1tEDkNUxNAxA760Zs N/Iw== X-Gm-Message-State: AOJu0YyUnybHDzkQHhaILYyNlp64ZmAc77ApUDUhoBNz9QRNlccXTHBt o2z8Qe6KbkI7ywI5n4rT6XWhpd8XmMw3LLx5+w8e5GKkBxvwvcPXj4yw7Y+GU1HukNtnUShBwJ9 0yAegaAhJOwrLQ7+Vg/34Pl2/wYDORmuIPHhHb5jZnJW0 X-Gm-Gg: ASbGnctJ5DcLxq0A+LU5xjx3Mg1JU2CWpxMIh01TwvP2UL72UYnKzhqROgEFfVow6dd kkIgmll5B8/uyV5z84lC4SPT/iCCjzeuHaYAwKnZuQAEPZC5xOpfaffHadsadWRKemmpfSpyNG0 ak/cOlABkFXvsgo/dH3Ydj2+AENLYkufKyi3Zbq3tymcH7nViOz8hfgwmf277/HREg4T2GtCn/n pYE0Puork8IOPv9KLhJszB61VphIxFOLnMFFg4bGtArbKK+7zg7s2+iZpuHEeUMSK1bMLwFVZO3 pZFfH3UrayXf3Cb2D9oseYDMo+mHcU2wMG8OIp24Fr2UElTX8UNp+oWvNm9StsIb6xSIjjtj X-Google-Smtp-Source: AGHT+IEFnSC8kyCD/1vcskJlM2GLeiiW/HP3YHeJNqFkSmfL+f8Kt/LBk384qjADqy6EgofBYDlG9oRSoDaL X-Received: by 2002:ac8:5dc6:0:b0:494:b1f9:d678 with SMTP id d75a77b69052e-4ab90cc9a27mr166937631cf.50.1752846796256; Fri, 18 Jul 2025 06:53:16 -0700 (PDT) Received: from postal.iol.unh.edu (postal.iol.unh.edu. [132.177.123.84]) by smtp-relay.gmail.com with ESMTPS id d75a77b69052e-4abb49372d3sm626641cf.6.2025.07.18.06.53.16 (version=TLS1_2 cipher=ECDHE-ECDSA-AES128-GCM-SHA256 bits=128/128); Fri, 18 Jul 2025 06:53:16 -0700 (PDT) X-Relaying-Domain: iol.unh.edu Date: Fri, 18 Jul 2025 06:53:16 -0700 (PDT) Message-ID: <687a51cc.c80a0220.1bd11c.33daSMTPIN_ADDED_MISSING@mx.google.com> Received: from [172.21.0.2] (unknown [172.18.0.240]) by postal.iol.unh.edu (Postfix) with ESMTP id F2D0B604D420; Fri, 18 Jul 2025 09:53:15 -0400 (EDT) Subject: |SUCCESS| pw155323 [PATCH] build: remove obsolete compiler checks From: dpdklab@iol.unh.edu To: Test Report Cc: dpdk-test-reports@iol.unh.edu In-Reply-To: <20250718121402.856265-1-bruce.richardson@intel.com> References: <20250718121402.856265-1-bruce.richardson@intel.com> Content-Type: text/plain X-BeenThere: test-report@dpdk.org X-Mailman-Version: 2.1.29 Precedence: list List-Id: automatic DPDK test reports List-Unsubscribe: , List-Archive: List-Post: List-Help: List-Subscribe: , Errors-To: test-report-bounces@dpdk.org Test-Label: iol-abi-testing Test-Status: SUCCESS http://dpdk.org/patch/155323 _Testing PASS_ Submitter: Bruce Richardson Date: Friday, July 18 2025 12:14:02 DPDK git baseline: Repo:dpdk Branch: master CommitID:20a053a223db35244b6daee98d71fdab631646b6 155323 --> testing pass Upstream job id: Generic-DPDK-Compile-ABI#134787 Test environment and result as below: +-------------------------------+----------+ | Environment | abi_test | +===============================+==========+ | Debian GNU/Linux 12 | PASS | +-------------------------------+----------+ | CentOS Stream 10 | PASS | +-------------------------------+----------+ | CentOS Stream 9 | PASS | +-------------------------------+----------+ | openSUSE Leap 15.6 | PASS | +-------------------------------+----------+ | Fedora Linux 41 | PASS | +-------------------------------+----------+ | Fedora Linux 40 | PASS | +-------------------------------+----------+ | Ubuntu 24.04 | PASS | +-------------------------------+----------+ | Red Hat Enterprise Linux 8.10 | PASS | +-------------------------------+----------+ | Red Hat Enterprise Linux 9.5 | PASS | +-------------------------------+----------+ | Ubuntu 22.04 | PASS | +-------------------------------+----------+ Debian GNU/Linux 12 Kernel: 5.15 Compiler: gcc gcc (Debian 12.2.0-14+deb12u1) 12.2.0 CentOS Stream 10 Kernel: 5.15 Compiler: gcc gcc (GCC) 14.2.1 20250110 (Red Hat 14.2.1-8) CentOS Stream 9 Kernel: 5.15 Compiler: gcc gcc (GCC) 11.5.0 20240719 (Red Hat 11.5.0-7) openSUSE Leap 15.6 Kernel: 5.15 Compiler: gcc gcc (SUSE Linux) 7.5.0 Fedora Linux 41 Kernel: 5.15 Compiler: gcc gcc (GCC) 14.3.1 20250523 (Red Hat 14.3.1-1) Fedora Linux 40 Kernel: 5.15 Compiler: clang gcc (GCC) 14.2.1 20240912 (Red Hat 14.2.1-3) Ubuntu 24.04 Kernel: 5.15 Compiler: gcc gcc (Ubuntu 13.3.0-6ubuntu2~24.04) 13.3.0 Red Hat Enterprise Linux 8.10 Kernel: 5.15 Compiler: gcc gcc (GCC) 8.5.0 20210514 (Red Hat 8.5.0-22) Red Hat Enterprise Linux 9.5 Kernel: 5.15 Compiler: gcc gcc (GCC) 11.5.0 20240719 (Red Hat 11.5.0-2) Ubuntu 22.04 Kernel: 5.15 Compiler: gcc gcc (Ubuntu 11.4.0-1ubuntu1~22.04) 11.4.0 To view detailed results, visit: https://lab.dpdk.org/results/dashboard/patchsets/33687/ UNH-IOL DPDK Community Lab To manage your email subscriptions, visit: https://lab.dpdk.org/results/dashboard/preferences/subscriptions/