From mboxrd@z Thu Jan 1 00:00:00 1970 Return-Path: Received: from mails.dpdk.org (mails.dpdk.org [217.70.189.124]) by inbox.dpdk.org (Postfix) with ESMTP id 8825446BAB for ; Fri, 18 Jul 2025 15:57:58 +0200 (CEST) Received: from mails.dpdk.org (localhost [127.0.0.1]) by mails.dpdk.org (Postfix) with ESMTP id 592654014F; Fri, 18 Jul 2025 15:57:58 +0200 (CEST) Received: from mail-pl1-f228.google.com (mail-pl1-f228.google.com [209.85.214.228]) by mails.dpdk.org (Postfix) with ESMTP id 504884014F for ; Fri, 18 Jul 2025 15:57:57 +0200 (CEST) Received: by mail-pl1-f228.google.com with SMTP id d9443c01a7336-23aeac7d77aso18240755ad.3 for ; Fri, 18 Jul 2025 06:57:57 -0700 (PDT) DKIM-Signature: v=1; a=rsa-sha256; c=relaxed/relaxed; d=iol.unh.edu; s=unh-iol; t=1752847076; x=1753451876; darn=dpdk.org; h=references:in-reply-to:cc:to:from:subject:message-id:date:from:to :cc:subject:date:message-id:reply-to; bh=f9OJOLE6nOgp/0ZQQWMPgJZ7YWH9ZnAkTuGbzN1/vq4=; b=CUPBnDExSALo69EV0Ft60dLnPxoV3DUYnthIIrBZpUrpm4uU+Cqy4NmFyqFV8wsCZv DSlOdlud4vC0rLJ0XdFhMRMzlU8HTMHaineLeO4JCFxiMsfra5uR5+mh2VFUe4NZA2+g zZDUKFqEuqqrlNXnHMbeCNvD02eU9aHC+1x2s= X-Google-DKIM-Signature: v=1; a=rsa-sha256; c=relaxed/relaxed; d=1e100.net; s=20230601; t=1752847076; x=1753451876; h=references:in-reply-to:cc:to:from:subject:message-id:date :x-gm-message-state:from:to:cc:subject:date:message-id:reply-to; bh=f9OJOLE6nOgp/0ZQQWMPgJZ7YWH9ZnAkTuGbzN1/vq4=; b=aiWLA1ThKlbZqKoRUR45gBPKluQpOtWxe7ebvn/mk9gEuWZh4xGl/dQ73XNFCjbo+w 1z8zGNrfj8r9SPHQMlbMV6o+C6RsjXXcdoqTi6jGMLO1Hjp5GCIW6y3mFzQ1EN/m0tUI BB3R0i2CaLpuUodEJWQ7FPMzhfmj+wETSAFSDRj4mbl20EPnffoX8VyH7Jz+QFFikUeQ 8czNeuvvQCX4WjJqYh7yRlLo3uhUXFRdprVwB6be6jA25lqu7tguZL8T45Z0lNdBtkMg o+HrRKOeRvBO8SLVW8yubOU2dbkfDXqHYCMWTl+EfkQpimkqkQmYfudupVBYW18NYJS5 ujNw== X-Gm-Message-State: AOJu0Yx4DDd7JPNBe+mbcjK1vUpcLuSsxV8//DZMaLfxVhQdoj8YkAK9 h9VbF6q5A6x/OzX1dweukSMkhxkGdAwbzaBdLNXfcMSEiqx9np/1VVTL2npVN2nKv8bhWwzIQm4 yx4Jrs5R8qwEWDr4HvsFEehTNsbhASHMuCjxXtXx4YDleH14AnpHtkp+3PzKc X-Gm-Gg: ASbGncv78MvFFWGpvvO+NxN/d9OlfsftxWF72BkNra9PKMS5EL6e/Qz6DNBSDRVsiyL RlZtRCUwEAkoKm04i8TmgoD1xWqkLLZMhxo3gFGQfBJd5OL+RTrgF5Dyhj2iah5HS/ShKquPbpr yT9eO6GW/zrLfxTXSWDwlg8YIRYEMbF6BFNWbiVBxxzbJQRz03rof1dgSx4ql/pgZUtmlov0/QK Fgs6MlNJxshdedpg0kVlDGNqHpJ9GkIOgaI837xYfRT6loABJsgYVt63wyYeEDeuT9xsYmP29td G1fyLDkUM27sl1/DuZ2K6lmMh26BQm2DfcFagMadhKtaH2eGnA== X-Google-Smtp-Source: AGHT+IEikFmeGKpdBne+MsRCzbIOYgztGf54eIz/MUTCOX66V+SppHf8ghzrv9QMooQJ8RL96j6hhK37Sbnr X-Received: by 2002:a17:902:e892:b0:236:15b7:62e4 with SMTP id d9443c01a7336-23e24fe91eemr189548605ad.38.1752847076472; Fri, 18 Jul 2025 06:57:56 -0700 (PDT) Received: from postal.iol.unh.edu (postal.iol.unh.edu. [2606:4100:3880:1234::84]) by smtp-relay.gmail.com with ESMTPS id d9443c01a7336-23e3b5f7416sm866405ad.1.2025.07.18.06.57.56 (version=TLS1_2 cipher=ECDHE-ECDSA-AES128-GCM-SHA256 bits=128/128); Fri, 18 Jul 2025 06:57:56 -0700 (PDT) X-Relaying-Domain: iol.unh.edu Date: Fri, 18 Jul 2025 06:57:56 -0700 (PDT) Message-ID: <687a52e4.170a0220.3b6fe1.4926SMTPIN_ADDED_MISSING@mx.google.com> Received: from [172.21.0.2] (unknown [172.18.0.240]) by postal.iol.unh.edu (Postfix) with ESMTP id 0006D604D420; Fri, 18 Jul 2025 09:57:55 -0400 (EDT) Subject: |SUCCESS| pw155323 [PATCH] build: remove obsolete compiler checks From: dpdklab@iol.unh.edu To: Test Report Cc: dpdk-test-reports@iol.unh.edu In-Reply-To: <20250718121402.856265-1-bruce.richardson@intel.com> References: <20250718121402.856265-1-bruce.richardson@intel.com> Content-Type: text/plain X-BeenThere: test-report@dpdk.org X-Mailman-Version: 2.1.29 Precedence: list List-Id: automatic DPDK test reports List-Unsubscribe: , List-Archive: List-Post: List-Help: List-Subscribe: , Errors-To: test-report-bounces@dpdk.org Test-Label: iol-unit-amd64-testing Test-Status: SUCCESS http://dpdk.org/patch/155323 _Testing PASS_ Submitter: Bruce Richardson Date: Friday, July 18 2025 12:14:02 DPDK git baseline: Repo:dpdk Branch: master CommitID:20a053a223db35244b6daee98d71fdab631646b6 155323 --> testing pass Upstream job id: Generic-Unit-Test-DPDK#356250 Test environment and result as below: +-------------------------------+----------------+ | Environment | dpdk_unit_test | +===============================+================+ | CentOS Stream 9 | PASS | +-------------------------------+----------------+ | Red Hat Enterprise Linux 8.10 | PASS | +-------------------------------+----------------+ | Debian GNU/Linux 12 | PASS | +-------------------------------+----------------+ | Ubuntu 22.04 | PASS | +-------------------------------+----------------+ | Fedora Linux 40 | PASS | +-------------------------------+----------------+ | Ubuntu 24.04 | PASS | +-------------------------------+----------------+ | Red Hat Enterprise Linux 9.5 | PASS | +-------------------------------+----------------+ | Fedora Linux 41 | PASS | +-------------------------------+----------------+ | Ubuntu 20.04 | PASS | +-------------------------------+----------------+ | CentOS Stream 10 | PASS | +-------------------------------+----------------+ | Windows Server 2022 | PASS | +-------------------------------+----------------+ CentOS Stream 9 Kernel: 5.15 Compiler: gcc gcc (GCC) 11.5.0 20240719 (Red Hat 11.5.0-7) Red Hat Enterprise Linux 8.10 Kernel: 5.15 Compiler: gcc gcc (GCC) 8.5.0 20210514 (Red Hat 8.5.0-22) Debian GNU/Linux 12 Kernel: 5.15 Compiler: gcc gcc (Debian 12.2.0-14+deb12u1) 12.2.0 Ubuntu 22.04 Kernel: 5.15 Compiler: gcc gcc (Ubuntu 11.4.0-1ubuntu1~22.04) 11.4.0 Fedora Linux 40 Kernel: 5.15 Compiler: clang gcc (GCC) 14.2.1 20240912 (Red Hat 14.2.1-3) Ubuntu 24.04 Kernel: 5.15 Compiler: gcc gcc (Ubuntu 13.3.0-6ubuntu2~24.04) 13.3.0 Red Hat Enterprise Linux 9.5 Kernel: 5.15 Compiler: gcc gcc (GCC) 11.5.0 20240719 (Red Hat 11.5.0-2) Fedora Linux 41 Kernel: 5.15 Compiler: gcc gcc (GCC) 14.3.1 20250523 (Red Hat 14.3.1-1) Ubuntu 20.04 Kernel: 5.15 Compiler: gcc gcc (Ubuntu 9.4.0-1ubuntu1~20.04.2) 9.4.0 CentOS Stream 10 Kernel: 5.15 Compiler: gcc gcc (GCC) 14.2.1 20250110 (Red Hat 14.2.1-8) Windows Server 2022 Kernel: 10.0.20348.2031 Compiler: clang 15.0.7, gcc 14.1.0 (MinGW), and MSVC VS 19.39.33521 To view detailed results, visit: https://lab.dpdk.org/results/dashboard/patchsets/33687/ UNH-IOL DPDK Community Lab To manage your email subscriptions, visit: https://lab.dpdk.org/results/dashboard/preferences/subscriptions/