From mboxrd@z Thu Jan 1 00:00:00 1970 Return-Path: Received: from mails.dpdk.org (mails.dpdk.org [217.70.189.124]) by inbox.dpdk.org (Postfix) with ESMTP id 4998346BAC for ; Fri, 18 Jul 2025 16:31:55 +0200 (CEST) Received: from mails.dpdk.org (localhost [127.0.0.1]) by mails.dpdk.org (Postfix) with ESMTP id 21BEC4014F; Fri, 18 Jul 2025 16:31:55 +0200 (CEST) Received: from mail-pl1-f225.google.com (mail-pl1-f225.google.com [209.85.214.225]) by mails.dpdk.org (Postfix) with ESMTP id 04F604014F for ; Fri, 18 Jul 2025 16:31:53 +0200 (CEST) Received: by mail-pl1-f225.google.com with SMTP id d9443c01a7336-23636167b30so20686185ad.1 for ; Fri, 18 Jul 2025 07:31:53 -0700 (PDT) DKIM-Signature: v=1; a=rsa-sha256; c=relaxed/relaxed; d=iol.unh.edu; s=unh-iol; t=1752849113; x=1753453913; darn=dpdk.org; h=references:in-reply-to:cc:to:from:subject:message-id:date:from:to :cc:subject:date:message-id:reply-to; bh=yVnf1+c5k4ZCkeGrK+YLO2OP0bSoRJzfcbMpw6iEDw4=; b=ZPlZOQ/EU4mlN3xhjkAzt7t95OCbAU3ofO2ebZ+Ttfw4c9iyTjw07lTCBFhfBm/OPK 9NNa6V+CBnxnzTPUquAErqBRgtOlhr5RQNmc0kNSAa7iu7MW8rzYxkqzgZqFRf3cqOK4 B5WJGg9v4InHi1qHN9W8CifwZ0qL5/qoFyJho= X-Google-DKIM-Signature: v=1; a=rsa-sha256; c=relaxed/relaxed; d=1e100.net; s=20230601; t=1752849113; x=1753453913; h=references:in-reply-to:cc:to:from:subject:message-id:date :x-gm-message-state:from:to:cc:subject:date:message-id:reply-to; bh=yVnf1+c5k4ZCkeGrK+YLO2OP0bSoRJzfcbMpw6iEDw4=; b=aDy2ZEvcIgR7sSNKB5qCPF7Vfr8/gX4Sjpas2x8tOC69PhqN8fJU+3kyC/nsRA4krg wsi9v4YusN9/A2Hv0YdD0ItdGt4cnOFXYIDT+jQBaTOXRz/Z/8FRSIyMSoZ4Ugl5odcP anQYsFa+MicF83dzMdt8txHqjZTdKZLUgOnWJQ33oBoOxo7cjibsQ3q0Jt3Xe4hUKtK+ WEKnDikj3K6mQQ1/+8wYuHLp+qQ+5iLaawkxHDXtpwgnOxUZ/TcTgQDwbPBfwZVsjTNb XA8bGSG4IJX23lgno2atDTVEFZbW6T4ETnqQa4zZtMMAoBdcZJ/Hw8EL3ufiiRuO7q+O wPzw== X-Gm-Message-State: AOJu0Yyhcxnei0LOCsvNZ/XrACxeGAGs9ZGv+2Vssj6Psc2cr/Uk4aV/ T01FZ/mE9tX0+WhzqSvVgOSQ3oG3x6cgHrOYeoipW3wVfIo4Xfu3kEWYKR+0dvbJ41znG6/eQPe sTtKNZEoLknpvHV8btzeXgJVEl/K27REntnShcj92OD+P X-Gm-Gg: ASbGnctvHSAe47UvmbMBi6DPB4/YFHwVQSMu5q8SEVwKscT6UevhSYMaT6qjPrq5Gj5 LP/X/qD8S4njO+qOV2jpo46O2AtZNZstD8+vDicnO1ysIxizv5bhZ9FB4CMRaxgdSNrxCofOe5S 9zW7FTyA0JU5JRT02kvGoBEizzdLODFfgZlMNV7yH4fiC+wQB6PmmSHmOSBHg3laTstdJ2vvqdk sxFXK4Nc8MG2bQSXAipekmQ+OV2dbP8dB02AloYNk8vEYGqoYxAvPxZDnRbooNGaF1W16Nhhh28 MUyaGVrvk/7aeC+DEfrOxunEh456mHQKVnmSY13SsPKC4RwGTc7m7mFB+IaINaumaEC4hM/z X-Google-Smtp-Source: AGHT+IHfctWhxg/w5l30PYqD6+osVnw9UYn8++SHyOe4kapRgdFVG0D04Y3huppVGxZ8UzSSIx3zM31jDBRI X-Received: by 2002:a17:903:faf:b0:23d:dd04:28e2 with SMTP id d9443c01a7336-23e2575a650mr176306125ad.35.1752849113096; Fri, 18 Jul 2025 07:31:53 -0700 (PDT) Received: from postal.iol.unh.edu (postal.iol.unh.edu. [132.177.123.84]) by smtp-relay.gmail.com with ESMTPS id d9443c01a7336-23e3b5f737fsm904825ad.3.2025.07.18.07.31.52 (version=TLS1_2 cipher=ECDHE-ECDSA-AES128-GCM-SHA256 bits=128/128); Fri, 18 Jul 2025 07:31:53 -0700 (PDT) X-Relaying-Domain: iol.unh.edu Date: Fri, 18 Jul 2025 07:31:53 -0700 (PDT) Message-ID: <687a5ad9.170a0220.3606eb.4a24SMTPIN_ADDED_MISSING@mx.google.com> Received: from [172.21.0.2] (unknown [172.18.0.240]) by postal.iol.unh.edu (Postfix) with ESMTP id 60FB1604D420; Fri, 18 Jul 2025 10:31:52 -0400 (EDT) Subject: |SUCCESS| pw155320 [PATCH] net/ixgbe: fix SCTP port support on E610 From: dpdklab@iol.unh.edu To: Test Report Cc: dpdk-test-reports@iol.unh.edu In-Reply-To: <20250718085335.648078-1-yuanx.wang@intel.com> References: <20250718085335.648078-1-yuanx.wang@intel.com> Content-Type: text/plain X-BeenThere: test-report@dpdk.org X-Mailman-Version: 2.1.29 Precedence: list List-Id: automatic DPDK test reports List-Unsubscribe: , List-Archive: List-Post: List-Help: List-Subscribe: , Errors-To: test-report-bounces@dpdk.org Test-Label: iol-compile-arm64-testing Test-Status: SUCCESS http://dpdk.org/patch/155320 _Testing PASS_ Submitter: Yuan Wang Date: Friday, July 18 2025 08:53:35 DPDK git baseline: Repo:dpdk Branch: master CommitID:a6b10031d251fcc7dadede461f7e1d005024b139 155320 --> testing pass Upstream job id: Generic-DPDK-Compile-Meson#409682 Test environment and result as below: +------------------------------+--------------------+ | Environment | dpdk_meson_compile | +==============================+====================+ | Red Hat Enterprise Linux 9.5 | PASS | +------------------------------+--------------------+ | Ubuntu 20.04 | PASS | +------------------------------+--------------------+ | Fedora Linux 40 | PASS | +------------------------------+--------------------+ | Fedora Linux 41 | PASS | +------------------------------+--------------------+ | Ubuntu 24.04 | PASS | +------------------------------+--------------------+ | Ubuntu 22.04 | PASS | +------------------------------+--------------------+ | CentOS Stream 9 | PASS | +------------------------------+--------------------+ | Debian GNU/Linux 12 | PASS | +------------------------------+--------------------+ | CentOS Stream 10 | PASS | +------------------------------+--------------------+ Red Hat Enterprise Linux 9.5 Kernel: 5.4 Compiler: gcc gcc (GCC) 11.5.0 20240719 (Red Hat 11.5.0-2) Ubuntu 20.04 Kernel: 5.4 Compiler: gcc gcc (Ubuntu 9.4.0-1ubuntu1~20.04.2) 9.4.0 Fedora Linux 40 Kernel: 5.4 Compiler: gcc gcc (GCC) 14.2.1 20240912 (Red Hat 14.2.1-3) Fedora Linux 41 Kernel: 5.4 Compiler: clang gcc (GCC) 14.3.1 20250523 (Red Hat 14.3.1-1) Ubuntu 24.04 Kernel: 5.4 Compiler: gcc gcc (Ubuntu 13.3.0-6ubuntu2~24.04) 13.3.0 Ubuntu 22.04 Kernel: 5.4 Compiler: gcc gcc (Ubuntu 11.4.0-1ubuntu1~22.04) 11.4.0 CentOS Stream 9 Kernel: 5.4 Compiler: gcc gcc (GCC) 11.5.0 20240719 (Red Hat 11.5.0-7) Debian GNU/Linux 12 Kernel: 5.4 Compiler: gcc gcc (Debian 12.2.0-14+deb12u1) 12.2.0 CentOS Stream 10 Kernel: 5.4 Compiler: gcc gcc (GCC) 14.2.1 20250110 (Red Hat 14.2.1-8) To view detailed results, visit: https://lab.dpdk.org/results/dashboard/patchsets/33684/ UNH-IOL DPDK Community Lab To manage your email subscriptions, visit: https://lab.dpdk.org/results/dashboard/preferences/subscriptions/