From mboxrd@z Thu Jan 1 00:00:00 1970 Return-Path: Received: from mails.dpdk.org (mails.dpdk.org [217.70.189.124]) by inbox.dpdk.org (Postfix) with ESMTP id 0F14246BAC for ; Fri, 18 Jul 2025 16:49:12 +0200 (CEST) Received: from mails.dpdk.org (localhost [127.0.0.1]) by mails.dpdk.org (Postfix) with ESMTP id E372D40144; Fri, 18 Jul 2025 16:49:11 +0200 (CEST) Received: from mail-yw1-f227.google.com (mail-yw1-f227.google.com [209.85.128.227]) by mails.dpdk.org (Postfix) with ESMTP id F2E9C40144 for ; Fri, 18 Jul 2025 16:49:10 +0200 (CEST) Received: by mail-yw1-f227.google.com with SMTP id 00721157ae682-714067ecea3so17031017b3.0 for ; Fri, 18 Jul 2025 07:49:10 -0700 (PDT) DKIM-Signature: v=1; a=rsa-sha256; c=relaxed/relaxed; d=iol.unh.edu; s=unh-iol; t=1752850150; x=1753454950; darn=dpdk.org; h=references:in-reply-to:cc:to:from:subject:message-id:date:from:to :cc:subject:date:message-id:reply-to; bh=E9pGg8JjbvWEiEDlRJ2GZ+ni+LYYEy4yzmSB2Z8TOIY=; b=COOO3JcTxW0Y4m5mXvynvX7aGAYPLyCNLCJyn641frOxwg+7T+g4r4NQKSocuIiSWz A+m9UTFJ6LitpN+iBavkiEi1fwq+fvNI2fy23zxKKNvd3DcG/AxvfEaOxqZPO6sDvMGu oV/u9X85dFGTKm7T5yDfq6Z3oU+BfrJRe7RLc= X-Google-DKIM-Signature: v=1; a=rsa-sha256; c=relaxed/relaxed; d=1e100.net; s=20230601; t=1752850150; x=1753454950; h=references:in-reply-to:cc:to:from:subject:message-id:date :x-gm-message-state:from:to:cc:subject:date:message-id:reply-to; bh=E9pGg8JjbvWEiEDlRJ2GZ+ni+LYYEy4yzmSB2Z8TOIY=; b=pjsTdASyplWiYAg+aoO6Mgx8R64t3PEUsp46WbnMmO1/Mg9YiTSuCrHXfYQ9MVcmH+ jb3sCwFIf5NEiQQaAFwZeluaBdpqngZMG2TEkyLvyW1qgUm639dXzQ6R44xPLxy4BONV QeByEBMfYIBsD3s1eY6/Rksc9Jw3i/VDY6cF5v2DyjSEr/TXNfEguf3xtKIaP9jnZr7l QVlD6bYhkVfY+Ivqq8g0yoEHfrzQyYZxW6yHP4f1C7VeXxEJK1tWfhlbcK+5B5pyG8O1 uG1Be3FZgkFbi68PQJuvYsSvLrYnWtsNyuxEquAl2d4AobpVmRavnC2y5nYF1qKMwOob o3Fg== X-Gm-Message-State: AOJu0YyXyFeBAYjtjnmM1aqSrXAeDOk6DAasL4i0kPxlScXweEg/RWwf PWHK5eL+ekGR9uKX/o5h3CeR+tR5ZftuaMHc3aoJpKvu7Zrdg/OUreaK/ZmRztbsBRYFwvGT4yL 4N16zyFiwocMykdaoID1EYXXB1OtvzpG8xIw+Xu+z/9hB X-Gm-Gg: ASbGncsOdgJ9QGpPSYH6ikktaxbPTpWPi8XKRN3YtHH2uH543XAomQhF4UBhZU3dZgr 3XTiUBArSM1EpRgpx/dRB8pwDSfPqos9W2IdSs6bBwN0j/txUrp8M5A9g4fz/n+GAAUIMxNDepu mP+JbNPGRUEC6P6g/diu/mNSTbMzTuBauP/llKVnrclVgrwnwhHEExCz1vVJ8n2/4WM3Uq6OhZ2 1QkjtIEKxfN/edTT9XCQ+U+4idw1wLkZsgcYIHi1sqSB11nohh/DMORqTpGRxBhRQyx84RAVuBf SXgfpLzrDHtq1Vu9DNWlf4WJFxxMsUfk6UJBuMORxx3OdxQIz54BgFpvmVvMQxwHqOabmjmw X-Google-Smtp-Source: AGHT+IGZ3RiKZsogU0No7OxVyGpt1LiDrB7fjPKsIwnqumbcaUcxMJOIVNzotyCz9bjBcvuJU+sy8iRwiZrV X-Received: by 2002:a05:690c:6f82:b0:718:4511:e173 with SMTP id 00721157ae682-7184512026dmr109794977b3.12.1752850150075; Fri, 18 Jul 2025 07:49:10 -0700 (PDT) Received: from postal.iol.unh.edu (postal.iol.unh.edu. [132.177.123.84]) by smtp-relay.gmail.com with ESMTPS id 00721157ae682-719532ce908sm853567b3.35.2025.07.18.07.49.10 (version=TLS1_2 cipher=ECDHE-ECDSA-AES128-GCM-SHA256 bits=128/128); Fri, 18 Jul 2025 07:49:10 -0700 (PDT) X-Relaying-Domain: iol.unh.edu Date: Fri, 18 Jul 2025 07:49:10 -0700 (PDT) Message-ID: <687a5ee6.050a0220.174bc4.4b94SMTPIN_ADDED_MISSING@mx.google.com> Received: from [172.21.0.2] (unknown [172.18.0.240]) by postal.iol.unh.edu (Postfix) with ESMTP id BD64A604D420; Fri, 18 Jul 2025 10:49:09 -0400 (EDT) Subject: |SUCCESS| pw155321 [PATCH] net/ixgbe: fix port mask default value on From: dpdklab@iol.unh.edu To: Test Report Cc: dpdk-test-reports@iol.unh.edu In-Reply-To: <20250718090907.649202-1-yuanx.wang@intel.com> References: <20250718090907.649202-1-yuanx.wang@intel.com> Content-Type: text/plain X-BeenThere: test-report@dpdk.org X-Mailman-Version: 2.1.29 Precedence: list List-Id: automatic DPDK test reports List-Unsubscribe: , List-Archive: List-Post: List-Help: List-Subscribe: , Errors-To: test-report-bounces@dpdk.org Test-Label: iol-compile-arm64-testing Test-Status: SUCCESS http://dpdk.org/patch/155321 _Testing PASS_ Submitter: Yuan Wang Date: Friday, July 18 2025 09:09:07 DPDK git baseline: Repo:dpdk Branch: master CommitID:a6b10031d251fcc7dadede461f7e1d005024b139 155321 --> testing pass Upstream job id: Generic-DPDK-Compile-Meson#409730 Test environment and result as below: +------------------------------+--------------------+ | Environment | dpdk_meson_compile | +==============================+====================+ | Red Hat Enterprise Linux 9.5 | PASS | +------------------------------+--------------------+ | Ubuntu 20.04 | PASS | +------------------------------+--------------------+ | Fedora Linux 40 | PASS | +------------------------------+--------------------+ | Debian GNU/Linux 12 | PASS | +------------------------------+--------------------+ | Fedora Linux 41 | PASS | +------------------------------+--------------------+ | Ubuntu 22.04 | PASS | +------------------------------+--------------------+ | Ubuntu 24.04 | PASS | +------------------------------+--------------------+ | CentOS Stream 9 | PASS | +------------------------------+--------------------+ | CentOS Stream 10 | PASS | +------------------------------+--------------------+ Red Hat Enterprise Linux 9.5 Kernel: 5.4 Compiler: gcc gcc (GCC) 11.5.0 20240719 (Red Hat 11.5.0-2) Ubuntu 20.04 Kernel: 5.4 Compiler: gcc gcc (Ubuntu 9.4.0-1ubuntu1~20.04.2) 9.4.0 Fedora Linux 40 Kernel: 5.4 Compiler: clang gcc (GCC) 14.2.1 20240912 (Red Hat 14.2.1-3) Debian GNU/Linux 12 Kernel: 5.4 Compiler: gcc gcc (Debian 12.2.0-14+deb12u1) 12.2.0 Fedora Linux 41 Kernel: 5.4 Compiler: gcc gcc (GCC) 14.3.1 20250523 (Red Hat 14.3.1-1) Ubuntu 22.04 Kernel: 5.4 Compiler: gcc gcc (Ubuntu 11.4.0-1ubuntu1~22.04) 11.4.0 Ubuntu 24.04 Kernel: 5.4 Compiler: gcc gcc (Ubuntu 13.3.0-6ubuntu2~24.04) 13.3.0 CentOS Stream 9 Kernel: 5.4 Compiler: gcc gcc (GCC) 11.5.0 20240719 (Red Hat 11.5.0-7) CentOS Stream 10 Kernel: 5.4 Compiler: gcc gcc (GCC) 14.2.1 20250110 (Red Hat 14.2.1-8) To view detailed results, visit: https://lab.dpdk.org/results/dashboard/patchsets/33685/ UNH-IOL DPDK Community Lab To manage your email subscriptions, visit: https://lab.dpdk.org/results/dashboard/preferences/subscriptions/