From mboxrd@z Thu Jan 1 00:00:00 1970 Return-Path: Received: from mails.dpdk.org (mails.dpdk.org [217.70.189.124]) by inbox.dpdk.org (Postfix) with ESMTP id 0D38C46BAC for ; Fri, 18 Jul 2025 18:09:53 +0200 (CEST) Received: from mails.dpdk.org (localhost [127.0.0.1]) by mails.dpdk.org (Postfix) with ESMTP id EE2E7402DB; Fri, 18 Jul 2025 18:09:52 +0200 (CEST) Received: from mail-ua1-f98.google.com (mail-ua1-f98.google.com [209.85.222.98]) by mails.dpdk.org (Postfix) with ESMTP id 40B67402DB for ; Fri, 18 Jul 2025 18:09:51 +0200 (CEST) Received: by mail-ua1-f98.google.com with SMTP id a1e0cc1a2514c-87ec4ec218fso1052783241.3 for ; Fri, 18 Jul 2025 09:09:51 -0700 (PDT) DKIM-Signature: v=1; a=rsa-sha256; c=relaxed/relaxed; d=iol.unh.edu; s=unh-iol; t=1752854990; x=1753459790; darn=dpdk.org; h=references:in-reply-to:cc:to:from:subject:message-id:date:from:to :cc:subject:date:message-id:reply-to; bh=jD5oyzBM9KVpl80zKDzxLZH0t5fn30gcGzyLtJQsAt8=; b=cpRYsAuiuc0+F51TXULeRJxjkiA3tn+KFxdEmSEgu6r7wUWHcrnPCzhDW6roRNc47r aWs57yq7DgtU6vbu3MVAETmD1R4PDwM0uVv8AH5KsYsGXD43MnYoYaJgIK6zPKvW1TR5 xNa9czdJLFs+4dn12/kj6WScY073bzErYF1xg= X-Google-DKIM-Signature: v=1; a=rsa-sha256; c=relaxed/relaxed; d=1e100.net; s=20230601; t=1752854990; x=1753459790; h=references:in-reply-to:cc:to:from:subject:message-id:date :x-gm-message-state:from:to:cc:subject:date:message-id:reply-to; bh=jD5oyzBM9KVpl80zKDzxLZH0t5fn30gcGzyLtJQsAt8=; b=GXXWGIjOBKREQC7vIxTvJ0fcqesLTrAvwFfw5FtwjrZypdlIldGjLxAXAQ3LFK4/JJ nFmdcCzUmK0op/XWEfZPqqOMrwwttTqCB4HX32P35HugdctiWMRYOJpDCPjOQc32r4nK 76tyT5vCgFoOFs7y0eKoG/L5Ji1lUty2pDQJyXg3KQS9MVvu40W4U0qZTbu3heHNTZfa 9D/nv2uSaYhFTBLpyiWm7Rk95iOKm9sFKJuhwAKLRbG5Edeb4ANrkD8JLedR48ry9cf0 56C08mR3t066KczP7jOI6lvwQhwfVlULXMDjzoZ9tMrYGlNdhUj7pMS1G1oMkElCxYvD qBYA== X-Gm-Message-State: AOJu0YxjAAZicqjZzheEkpeVpNeSheN8Ia43Sr+fMjXsOil8GP5d0xhV OEsh5tAsvBLPl7Qo4bgK5LvjGs8t9YMGhE/mmCbhEehdEurZpTpQjrAIlYSlADZOXIGE6YB/YdN S8GO12jDNjL659MfB8ZlxhpdvBpEj6JlExIWPykrjUTLEJAf0xcv300MQTds3 X-Gm-Gg: ASbGnct6M24m9/XqBd5x0XdT5f+zcmsfZ4iexM6uI7LJAhWMnaujSLeqcsHlBz5F97P wiSxQ4y5tJJzcL94VGsa7sdkB0vtnUNDR3p+9SFGr/zyHdhJfVTgWdG4enwciFTCzED3vETybRp DUaOq29eG+XzF5Iwnn2QMHxCHJCjGv0sTA/+8s8lm2XpT9PpAnfbknmhgItGoPdm/U6gprhq+jc K/fBLJ1+C/0YM3LwW7D6LNlUTp6BxNyu5ziDN1/4NLbQyJaY9pIttF/XfpsL5srahc5blTYk2nm aJRr9vUzYj+biDtlo8xW6hGJZ4aFfPMxQPlJTeUi/XMfslFuhQ== X-Google-Smtp-Source: AGHT+IHNC/i2MwehJJ0jk/+IMcq2dxhhJ6+JSX0akCuHlLz1RY064dB3pcjtqw98KPRBljpdPgWofbGokek1 X-Received: by 2002:a05:6102:418b:b0:4dd:b037:d239 with SMTP id ada2fe7eead31-4f95f3cf3c5mr5794458137.14.1752854990190; Fri, 18 Jul 2025 09:09:50 -0700 (PDT) Received: from postal.iol.unh.edu (postal.iol.unh.edu. [2606:4100:3880:1234::84]) by smtp-relay.gmail.com with ESMTPS id ada2fe7eead31-4f9acc5bcd7sm66125137.0.2025.07.18.09.09.50 (version=TLS1_2 cipher=ECDHE-ECDSA-AES128-GCM-SHA256 bits=128/128); Fri, 18 Jul 2025 09:09:50 -0700 (PDT) X-Relaying-Domain: iol.unh.edu Date: Fri, 18 Jul 2025 09:09:50 -0700 (PDT) Message-ID: <687a71ce.050a0220.34c416.32faSMTPIN_ADDED_MISSING@mx.google.com> Received: from [172.21.0.6] (unknown [172.18.0.240]) by postal.iol.unh.edu (Postfix) with ESMTP id BAAD06051830; Fri, 18 Jul 2025 12:09:49 -0400 (EDT) Subject: |SUCCESS| pw155324-155332 [PATCH] [v3,9/9] eal: simplify handling of From: dpdklab@iol.unh.edu To: Test Report Cc: dpdk-test-reports@iol.unh.edu In-Reply-To: <20250718143356.1578988-10-bruce.richardson@intel.com> References: <20250718143356.1578988-10-bruce.richardson@intel.com> Content-Type: text/plain X-BeenThere: test-report@dpdk.org X-Mailman-Version: 2.1.29 Precedence: list List-Id: automatic DPDK test reports List-Unsubscribe: , List-Archive: List-Post: List-Help: List-Subscribe: , Errors-To: test-report-bounces@dpdk.org Test-Label: iol-unit-amd64-testing Test-Status: SUCCESS http://dpdk.org/patch/155332 _Testing PASS_ Submitter: Bruce Richardson Date: Friday, July 18 2025 14:33:55 DPDK git baseline: Repo:dpdk Branch: master CommitID:20a053a223db35244b6daee98d71fdab631646b6 155324-155332 --> testing pass Upstream job id: Generic-Unit-Test-DPDK#356283 Test environment and result as below: +-------------------------------+----------------+ | Environment | dpdk_unit_test | +===============================+================+ | CentOS Stream 10 | PASS | +-------------------------------+----------------+ | Fedora Linux 41 | PASS | +-------------------------------+----------------+ | Fedora Linux 40 | PASS | +-------------------------------+----------------+ | Debian GNU/Linux 12 | PASS | +-------------------------------+----------------+ | CentOS Stream 9 | PASS | +-------------------------------+----------------+ | Red Hat Enterprise Linux 9.5 | PASS | +-------------------------------+----------------+ | Red Hat Enterprise Linux 8.10 | PASS | +-------------------------------+----------------+ | Ubuntu 24.04 | PASS | +-------------------------------+----------------+ | Ubuntu 20.04 | PASS | +-------------------------------+----------------+ | Ubuntu 22.04 | PASS | +-------------------------------+----------------+ | Windows Server 2022 | PASS | +-------------------------------+----------------+ CentOS Stream 10 Kernel: 5.15 Compiler: gcc gcc (GCC) 14.2.1 20250110 (Red Hat 14.2.1-8) Fedora Linux 41 Kernel: 5.15 Compiler: clang gcc (GCC) 14.3.1 20250523 (Red Hat 14.3.1-1) Fedora Linux 40 Kernel: 5.15 Compiler: gcc gcc (GCC) 14.2.1 20240912 (Red Hat 14.2.1-3) Debian GNU/Linux 12 Kernel: 5.15 Compiler: gcc gcc (Debian 12.2.0-14+deb12u1) 12.2.0 CentOS Stream 9 Kernel: 5.15 Compiler: gcc gcc (GCC) 11.5.0 20240719 (Red Hat 11.5.0-7) Red Hat Enterprise Linux 9.5 Kernel: 5.15 Compiler: gcc gcc (GCC) 11.5.0 20240719 (Red Hat 11.5.0-2) Red Hat Enterprise Linux 8.10 Kernel: 5.15 Compiler: gcc gcc (GCC) 8.5.0 20210514 (Red Hat 8.5.0-22) Ubuntu 24.04 Kernel: 5.15 Compiler: gcc gcc (Ubuntu 13.3.0-6ubuntu2~24.04) 13.3.0 Ubuntu 20.04 Kernel: 5.15 Compiler: gcc gcc (Ubuntu 9.4.0-1ubuntu1~20.04.2) 9.4.0 Ubuntu 22.04 Kernel: 5.15 Compiler: gcc gcc (Ubuntu 11.4.0-1ubuntu1~22.04) 11.4.0 Windows Server 2022 Kernel: 10.0.20348.2031 Compiler: clang 15.0.7, gcc 14.1.0 (MinGW), and MSVC VS 19.39.33521 To view detailed results, visit: https://lab.dpdk.org/results/dashboard/patchsets/33688/ UNH-IOL DPDK Community Lab To manage your email subscriptions, visit: https://lab.dpdk.org/results/dashboard/preferences/subscriptions/