From mboxrd@z Thu Jan 1 00:00:00 1970 Return-Path: Received: from mails.dpdk.org (mails.dpdk.org [217.70.189.124]) by inbox.dpdk.org (Postfix) with ESMTP id 107C946BAE for ; Fri, 18 Jul 2025 18:09:53 +0200 (CEST) Received: from mails.dpdk.org (localhost [127.0.0.1]) by mails.dpdk.org (Postfix) with ESMTP id 05A0D40DCE; Fri, 18 Jul 2025 18:09:53 +0200 (CEST) Received: from mail-pl1-f226.google.com (mail-pl1-f226.google.com [209.85.214.226]) by mails.dpdk.org (Postfix) with ESMTP id 6CBED40B9B for ; Fri, 18 Jul 2025 18:09:51 +0200 (CEST) Received: by mail-pl1-f226.google.com with SMTP id d9443c01a7336-234c5b57557so21597395ad.3 for ; Fri, 18 Jul 2025 09:09:51 -0700 (PDT) DKIM-Signature: v=1; a=rsa-sha256; c=relaxed/relaxed; d=iol.unh.edu; s=unh-iol; t=1752854990; x=1753459790; darn=dpdk.org; h=references:in-reply-to:cc:to:from:subject:message-id:date:from:to :cc:subject:date:message-id:reply-to; bh=tNBU/1RebUWtyQYojnn6xNSKX/4FG/GiVLGCRkm0do0=; b=Yfc8gtmIzDUCUSO0T4570k9YhLNaWd+omb59GraFL+kLCbp0NkIS9PPGWlovoHrY+/ v8B6GvbmvnCE/p4ouhV0LiVU+2dlr99KAckmsUfo9RGCM5IfbcIV2bntxLZBrA6UWQhZ lBcqeoETUwFJHwpsYKjUJ6ZFK4Bsx919UV73M= X-Google-DKIM-Signature: v=1; a=rsa-sha256; c=relaxed/relaxed; d=1e100.net; s=20230601; t=1752854990; x=1753459790; h=references:in-reply-to:cc:to:from:subject:message-id:date :x-gm-message-state:from:to:cc:subject:date:message-id:reply-to; bh=tNBU/1RebUWtyQYojnn6xNSKX/4FG/GiVLGCRkm0do0=; b=mA+ghY6KJe9cvzcwSBbzMlQKGMgCGkoyIAPRO0D4GxNLgTkPI/4G4QMDB7nJBAxKAf myuqO7ofLUgVIorn1FGJr3tC87i4bDFDeWa2lMzleElwQMs+KMzwcq2GZkv/Ru+LpV9O 4laE1MhfLM7klpQpGN3YqXXmcSKtUrjoZWu5txTvfGnJABKNJJcvEJkSNJYXMHYXm82i +rqQ09r9M3dPhTbrZQ4LQf4RxZ4dLeKv3KqUbHUCXsIFpq8W5CRZ6EE7P2Quf0iEKyBH OyPlrVJ8DbVN8BhwyTUtqA5reiZROjjhuLBgcVHN8SjEnFI1qrmQzNxsNZQ0VgtzoJbY d1KQ== X-Gm-Message-State: AOJu0Yz2G2sao86eLlEmHlulprt5OpZlJ1lTglcZQaWDR2Z3FeAexBtQ JtTFFTpHd0ruXFYW0rKZfgUznZ8iJRwI+UEtU8sm9FGTFEujK+AGomZUZ4Yqv2EARIo1NlMZyoW OUxOr9vzsh5x7hCwrx6uPV2VZXRqD1DRxa/6JJGkLUWLV X-Gm-Gg: ASbGncub5akDAzGxGFCREPWPlXWiw/mHi1YmdS9YivN9cG+F9sAypuLPo/lC77DIb92 taHyo9DI0R6L90E7fM+AOWfuw0lFzsm+WtliyUUNGNa/hwhV3nZibMltZD0UefDoYbyb8vnk9Y1 RXUcy6NJHBAxHq+MVV6xcU+BtbOoiJUqvwHi/leMNJhUnTm1m+uI5aL1cg3SfVVpgK5UpHCNJDK lp5FlFDF16DmOrlJsCQJ/YMOELFOuaESl4Ax/XxH8PvA15RTtwBf/fqOruJXycxOtFs7VeZLDqw gpuHSfqjKK7ZOYZ3o+j81GU2q9mIIMdrZ9zwdopgqPRhLJGkKEJpx+DjGG8c6I9XwSwcDEi4 X-Google-Smtp-Source: AGHT+IFLGBS1sLhbIIV5tWKT+fNEUHFAf1w4Cr5gCqyUgXSvDM3AhwQJfN8F5FgNqvgW11qaG4G4zKvycw7v X-Received: by 2002:a17:902:dacf:b0:234:bfcb:5bfa with SMTP id d9443c01a7336-23e256adfdamr159818435ad.15.1752854990596; Fri, 18 Jul 2025 09:09:50 -0700 (PDT) Received: from postal.iol.unh.edu (postal.iol.unh.edu. [132.177.123.84]) by smtp-relay.gmail.com with ESMTPS id d9443c01a7336-23e3b6d871fsm1023425ad.92.2025.07.18.09.09.50 (version=TLS1_2 cipher=ECDHE-ECDSA-AES128-GCM-SHA256 bits=128/128); Fri, 18 Jul 2025 09:09:50 -0700 (PDT) X-Relaying-Domain: iol.unh.edu Date: Fri, 18 Jul 2025 09:09:50 -0700 (PDT) Message-ID: <687a71ce.170a0220.5d366.529bSMTPIN_ADDED_MISSING@mx.google.com> Received: from [172.21.0.3] (unknown [172.18.0.240]) by postal.iol.unh.edu (Postfix) with ESMTP id 11B9D6051835; Fri, 18 Jul 2025 12:09:50 -0400 (EDT) Subject: |SUCCESS| pw155324-155332 [PATCH] [v3,9/9] eal: simplify handling of From: dpdklab@iol.unh.edu To: Test Report Cc: dpdk-test-reports@iol.unh.edu In-Reply-To: <20250718143356.1578988-10-bruce.richardson@intel.com> References: <20250718143356.1578988-10-bruce.richardson@intel.com> Content-Type: text/plain X-BeenThere: test-report@dpdk.org X-Mailman-Version: 2.1.29 Precedence: list List-Id: automatic DPDK test reports List-Unsubscribe: , List-Archive: List-Post: List-Help: List-Subscribe: , Errors-To: test-report-bounces@dpdk.org Test-Label: iol-unit-amd64-testing Test-Status: SUCCESS http://dpdk.org/patch/155332 _Testing PASS_ Submitter: Bruce Richardson Date: Friday, July 18 2025 14:33:55 DPDK git baseline: Repo:dpdk Branch: master CommitID:20a053a223db35244b6daee98d71fdab631646b6 155324-155332 --> testing pass Upstream job id: Generic-Unit-Test-DPDK#356278 Test environment and result as below: +-------------------------------+----------------+ | Environment | dpdk_unit_test | +===============================+================+ | CentOS Stream 10 | PASS | +-------------------------------+----------------+ | Fedora Linux 41 | PASS | +-------------------------------+----------------+ | Fedora Linux 40 | PASS | +-------------------------------+----------------+ | Debian GNU/Linux 12 | PASS | +-------------------------------+----------------+ | CentOS Stream 9 | PASS | +-------------------------------+----------------+ | Red Hat Enterprise Linux 9.5 | PASS | +-------------------------------+----------------+ | Red Hat Enterprise Linux 8.10 | PASS | +-------------------------------+----------------+ | Ubuntu 24.04 | PASS | +-------------------------------+----------------+ | Ubuntu 20.04 | PASS | +-------------------------------+----------------+ | Ubuntu 22.04 | PASS | +-------------------------------+----------------+ | Windows Server 2022 | PASS | +-------------------------------+----------------+ CentOS Stream 10 Kernel: 5.15 Compiler: gcc gcc (GCC) 14.2.1 20250110 (Red Hat 14.2.1-8) Fedora Linux 41 Kernel: 5.15 Compiler: clang gcc (GCC) 14.3.1 20250523 (Red Hat 14.3.1-1) Fedora Linux 40 Kernel: 5.15 Compiler: gcc gcc (GCC) 14.2.1 20240912 (Red Hat 14.2.1-3) Debian GNU/Linux 12 Kernel: 5.15 Compiler: gcc gcc (Debian 12.2.0-14+deb12u1) 12.2.0 CentOS Stream 9 Kernel: 5.15 Compiler: gcc gcc (GCC) 11.5.0 20240719 (Red Hat 11.5.0-7) Red Hat Enterprise Linux 9.5 Kernel: 5.15 Compiler: gcc gcc (GCC) 11.5.0 20240719 (Red Hat 11.5.0-2) Red Hat Enterprise Linux 8.10 Kernel: 5.15 Compiler: gcc gcc (GCC) 8.5.0 20210514 (Red Hat 8.5.0-22) Ubuntu 24.04 Kernel: 5.15 Compiler: gcc gcc (Ubuntu 13.3.0-6ubuntu2~24.04) 13.3.0 Ubuntu 20.04 Kernel: 5.15 Compiler: gcc gcc (Ubuntu 9.4.0-1ubuntu1~20.04.2) 9.4.0 Ubuntu 22.04 Kernel: 5.15 Compiler: gcc gcc (Ubuntu 11.4.0-1ubuntu1~22.04) 11.4.0 Windows Server 2022 Kernel: 10.0.20348.2031 Compiler: clang 15.0.7, gcc 14.1.0 (MinGW), and MSVC VS 19.39.33521 To view detailed results, visit: https://lab.dpdk.org/results/dashboard/patchsets/33688/ UNH-IOL DPDK Community Lab To manage your email subscriptions, visit: https://lab.dpdk.org/results/dashboard/preferences/subscriptions/