From mboxrd@z Thu Jan 1 00:00:00 1970 Return-Path: Received: from mails.dpdk.org (mails.dpdk.org [217.70.189.124]) by inbox.dpdk.org (Postfix) with ESMTP id 2AACE46BAC for ; Fri, 18 Jul 2025 18:10:43 +0200 (CEST) Received: from mails.dpdk.org (localhost [127.0.0.1]) by mails.dpdk.org (Postfix) with ESMTP id 25473402DB; Fri, 18 Jul 2025 18:10:43 +0200 (CEST) Received: from mail-qt1-f227.google.com (mail-qt1-f227.google.com [209.85.160.227]) by mails.dpdk.org (Postfix) with ESMTP id EBE1D402DB for ; Fri, 18 Jul 2025 18:10:41 +0200 (CEST) Received: by mail-qt1-f227.google.com with SMTP id d75a77b69052e-4ab39fb71dbso26203461cf.3 for ; Fri, 18 Jul 2025 09:10:41 -0700 (PDT) DKIM-Signature: v=1; a=rsa-sha256; c=relaxed/relaxed; d=iol.unh.edu; s=unh-iol; t=1752855041; x=1753459841; darn=dpdk.org; h=references:in-reply-to:cc:to:from:subject:message-id:date:from:to :cc:subject:date:message-id:reply-to; bh=ZkACWS2bLPdhoxMfLj3adpYRG0xTKFUolchpKNA02Us=; b=dJ0hlVcvnSuKziY6eu6lU5Xo01OgR+1UyMhHhlkN0LO30J8YlrazMSiBemq3iG4XJC onRSE4g7UuAAwM6/uYuz82SoGGPpJEeCvBJtknMYGEq4EK/qdtqKxukMJNFqCfiMBLll EcHqcY0pdCthWFxYBtyAP4p594wiBZv1Y/+gI= X-Google-DKIM-Signature: v=1; a=rsa-sha256; c=relaxed/relaxed; d=1e100.net; s=20230601; t=1752855041; x=1753459841; h=references:in-reply-to:cc:to:from:subject:message-id:date :x-gm-message-state:from:to:cc:subject:date:message-id:reply-to; bh=ZkACWS2bLPdhoxMfLj3adpYRG0xTKFUolchpKNA02Us=; b=doHTrG51j6qdpGsSdUruihmhKCJT6/LrkYuR4LtzoAmLHnis3YdPlOhf7yJRFWcg5t Ka3TeIvz6hvt4meNoBgMeDPwfdk4vg4K1zGSxgzvehM6Lt5oW8PshRaZXhPQGmyiPk4r J8qGwA2lUykJo6H6g3VdpMQZGhHpdq4vT1Ha886nQ8VSLZda5I/8QqNQyGsX00eSancO QItU+8b9JDYx8LKUJmfGob/wq0v8aW/hcTpJLqOWI3PBBeM321owyfFYyfjW9P+z0mep 9oJaxhtyHog7+q23V7DlrNsTqkEzFsUhbdx2QKK5NgWdJgu0z9qYs9YzCfu3f8mjkLFM LFtA== X-Gm-Message-State: AOJu0YwQ8ZAuolDw3UboTe8UHFXJB/e6TnFGoD6VZZj//N4n/kqae+BM MugI2+7bU8cXgrQtDe3cA5cEMaJoCMHKUSOdIgHkP0FmN+plcSH8GJYQhJ2mW9qS8rJ4WmdQz6b PbFypJYaPJjIZKRuxCI2Rr+1NB+BRtM57+201sPvHbwCFDdSyEJGc1dw8dF8W X-Gm-Gg: ASbGncu6JJrMn6f65K54sOsEmnsvmbrZkpobHQIy7yx83ERgYqISULD1wO+JPEpBPHh ec0lhpYhlmHsf+0wq0xz0n20F8bdISREzLjox7BYecRYNNVAaCgSTvkfhEs5o4sDr31dvjgyHd2 5xlQewkvOhmWja5xzC05TBXM6GwLW3tWixRxLFEwNV/udc5YLDvVbaANFNlAkuPtYW51jl2Rzip 6FwVFNVqTARD0mYg+R32Ze2Vvme366pq8FS183NvbAQX2ncCgcDxAq/B3fsdN+5LhXnk7l8/8e/ QuDMijKHtjNeyN5yy4tThmeBw47CElesKckb7n6qS5R8xnGa5Q== X-Google-Smtp-Source: AGHT+IHgr8Y9tr3saGhytOOZ5zqaM6sxqAKyQ9W5roVapCkKJf/fYKVwhlUFCZ2iYEh2aGI6Dj6GJSNv1k/g X-Received: by 2002:ac8:57c5:0:b0:4a9:94c7:f34f with SMTP id d75a77b69052e-4ab90a211d4mr162728601cf.21.1752855039732; Fri, 18 Jul 2025 09:10:39 -0700 (PDT) Received: from postal.iol.unh.edu (postal.iol.unh.edu. [2606:4100:3880:1234::84]) by smtp-relay.gmail.com with ESMTPS id d75a77b69052e-4abb49375c1sm745211cf.7.2025.07.18.09.10.39 (version=TLS1_2 cipher=ECDHE-ECDSA-AES128-GCM-SHA256 bits=128/128); Fri, 18 Jul 2025 09:10:39 -0700 (PDT) X-Relaying-Domain: iol.unh.edu Date: Fri, 18 Jul 2025 09:10:39 -0700 (PDT) Message-ID: <687a71ff.050a0220.32990c.3fb3SMTPIN_ADDED_MISSING@mx.google.com> Received: from [172.21.0.2] (unknown [172.18.0.240]) by postal.iol.unh.edu (Postfix) with ESMTP id 6FEE46051830; Fri, 18 Jul 2025 12:10:39 -0400 (EDT) Subject: |SUCCESS| pw155324-155332 [PATCH] [v3,9/9] eal: simplify handling of From: dpdklab@iol.unh.edu To: Test Report Cc: dpdk-test-reports@iol.unh.edu In-Reply-To: <20250718143356.1578988-10-bruce.richardson@intel.com> References: <20250718143356.1578988-10-bruce.richardson@intel.com> Content-Type: text/plain X-BeenThere: test-report@dpdk.org X-Mailman-Version: 2.1.29 Precedence: list List-Id: automatic DPDK test reports List-Unsubscribe: , List-Archive: List-Post: List-Help: List-Subscribe: , Errors-To: test-report-bounces@dpdk.org Test-Label: iol-unit-amd64-testing Test-Status: SUCCESS http://dpdk.org/patch/155332 _Testing PASS_ Submitter: Bruce Richardson Date: Friday, July 18 2025 14:33:55 DPDK git baseline: Repo:dpdk Branch: master CommitID:20a053a223db35244b6daee98d71fdab631646b6 155324-155332 --> testing pass Upstream job id: Generic-Unit-Test-DPDK#356264 Test environment and result as below: +-------------------------------+----------------+ | Environment | dpdk_unit_test | +===============================+================+ | CentOS Stream 10 | PASS | +-------------------------------+----------------+ | Fedora Linux 41 | PASS | +-------------------------------+----------------+ | Fedora Linux 40 | PASS | +-------------------------------+----------------+ | Debian GNU/Linux 12 | PASS | +-------------------------------+----------------+ | CentOS Stream 9 | PASS | +-------------------------------+----------------+ | Red Hat Enterprise Linux 9.5 | PASS | +-------------------------------+----------------+ | Red Hat Enterprise Linux 8.10 | PASS | +-------------------------------+----------------+ | Ubuntu 24.04 | PASS | +-------------------------------+----------------+ | Ubuntu 20.04 | PASS | +-------------------------------+----------------+ | Ubuntu 22.04 | PASS | +-------------------------------+----------------+ | Windows Server 2022 | PASS | +-------------------------------+----------------+ CentOS Stream 10 Kernel: 5.15 Compiler: gcc gcc (GCC) 14.2.1 20250110 (Red Hat 14.2.1-8) Fedora Linux 41 Kernel: 5.15 Compiler: clang gcc (GCC) 14.3.1 20250523 (Red Hat 14.3.1-1) Fedora Linux 40 Kernel: 5.15 Compiler: gcc gcc (GCC) 14.2.1 20240912 (Red Hat 14.2.1-3) Debian GNU/Linux 12 Kernel: 5.15 Compiler: gcc gcc (Debian 12.2.0-14+deb12u1) 12.2.0 CentOS Stream 9 Kernel: 5.15 Compiler: gcc gcc (GCC) 11.5.0 20240719 (Red Hat 11.5.0-7) Red Hat Enterprise Linux 9.5 Kernel: 5.15 Compiler: gcc gcc (GCC) 11.5.0 20240719 (Red Hat 11.5.0-2) Red Hat Enterprise Linux 8.10 Kernel: 5.15 Compiler: gcc gcc (GCC) 8.5.0 20210514 (Red Hat 8.5.0-22) Ubuntu 24.04 Kernel: 5.15 Compiler: gcc gcc (Ubuntu 13.3.0-6ubuntu2~24.04) 13.3.0 Ubuntu 20.04 Kernel: 5.15 Compiler: gcc gcc (Ubuntu 9.4.0-1ubuntu1~20.04.2) 9.4.0 Ubuntu 22.04 Kernel: 5.15 Compiler: gcc gcc (Ubuntu 11.4.0-1ubuntu1~22.04) 11.4.0 Windows Server 2022 Kernel: 10.0.20348.2031 Compiler: clang 15.0.7, gcc 14.1.0 (MinGW), and MSVC VS 19.39.33521 To view detailed results, visit: https://lab.dpdk.org/results/dashboard/patchsets/33688/ UNH-IOL DPDK Community Lab To manage your email subscriptions, visit: https://lab.dpdk.org/results/dashboard/preferences/subscriptions/