From mboxrd@z Thu Jan 1 00:00:00 1970 Return-Path: Received: from mails.dpdk.org (mails.dpdk.org [217.70.189.124]) by inbox.dpdk.org (Postfix) with ESMTP id C90B646BAC for ; Fri, 18 Jul 2025 18:38:27 +0200 (CEST) Received: from mails.dpdk.org (localhost [127.0.0.1]) by mails.dpdk.org (Postfix) with ESMTP id C378840DDE; Fri, 18 Jul 2025 18:38:27 +0200 (CEST) Received: from mail-oi1-f226.google.com (mail-oi1-f226.google.com [209.85.167.226]) by mails.dpdk.org (Postfix) with ESMTP id 93B4540DCA for ; Fri, 18 Jul 2025 18:38:26 +0200 (CEST) Received: by mail-oi1-f226.google.com with SMTP id 5614622812f47-401c43671ecso1193706b6e.0 for ; Fri, 18 Jul 2025 09:38:26 -0700 (PDT) DKIM-Signature: v=1; a=rsa-sha256; c=relaxed/relaxed; d=iol.unh.edu; s=unh-iol; t=1752856706; x=1753461506; darn=dpdk.org; h=references:in-reply-to:cc:to:from:subject:message-id:date:from:to :cc:subject:date:message-id:reply-to; bh=Kn7/Ffgjfj98Day0HtqSGh2ISkM6zlWoavwTQYUnnA8=; b=fa7uhl9zaGXzYDBPGw6QeN9dxmnBv0V6KNG2B2DWIt8NlACPvi/0/f0QO36+lGBQTU USxkscpm6y25FTa0S5m7D/ePyQgDAIZ7tU8QE+CdfoppnP70Oyjy6SffTpXPJ39UHEL1 RtOQas8jzCc/2gZlZaqRsv1ZYaPKdoHEGV8Ro= X-Google-DKIM-Signature: v=1; a=rsa-sha256; c=relaxed/relaxed; d=1e100.net; s=20230601; t=1752856706; x=1753461506; h=references:in-reply-to:cc:to:from:subject:message-id:date :x-gm-message-state:from:to:cc:subject:date:message-id:reply-to; bh=Kn7/Ffgjfj98Day0HtqSGh2ISkM6zlWoavwTQYUnnA8=; b=TUsj8v8TXEknF2P2qzzk4Fx4oMta2EWCVMBTMHb4Sbb9zr6iHPpQwhhEfc6ruPwoL7 BzRxrhIyDLgdx6LC6m6pBt5Qn4ODEJPvHiefa+droVLDNKb4cfP9F9ton8a8y0ofzaMn CzhDSCHIFyUZKo0wOxl2cMkgKV2YeS+XUUA/zxFaBwxqRGNaxYR6yksEgrmPKR4O+AyB JYstBxMWv4x1CF/1mjgtdEUU+rZeh2G3PZgwi8RMTcIrnfPRRUIJSZm2RyAABA9h3Vv7 cW091xJ6nTaY/6YIghlNWZ8gw9EXL0PqWa+GZtMVYc4PwkCuFth9MsyMp8ZW6WRIFXix W/Og== X-Gm-Message-State: AOJu0Yz3rJ2/86Kkj4rqFd8g4ivPuGxt2YugC02FkmsF9iVlqg1R6mXA NNBSwKwEndGROAopXJcklAkNCG/TMURLSOdry/Zg7k7gOLHDvY7ZEOhkQ7EZm3DA1wAsJDaZBat f4OcwE75ITKWSPJEg0z/yf7IbW8WnQa4DjMhXQzMHYmR3 X-Gm-Gg: ASbGnctDmFxIKa+FotBZCcW50vkeRY3N6oHTbUSvpiHfy4pMcgnjHUc9lHrWKhhHGZw xViXTCFmknUtHmiKvf1C9fTKRD2052OJVjtK6//JMrXKxAjr/h+dCZ8/gVuF3cXiWvntF0NBpx4 lgseHs7kL8UgOoOAc2JtxuHbe7TnIlj9IvOFQ+MxMUik/IzQeG/M0JVONte6bkqXJLFsB1X0rQo oSJLhf/JQWjtcZiqYul5FVcRJRuIXO64dGRQhVmIfVttVNiq18cq1wpmth0py/7CXt8KuKBY8xy LOY2wf7fgdHKAkjaohYasmP7EA3WQgWAYvgiLe0FiajSh5bZ4NyrHqBJCfo+Inq/C8f1wYwT X-Google-Smtp-Source: AGHT+IF3mzo12M3mup5JXgjDR9NvecX2G5gFbzfiG4Ip0XYdgvFaBZDbK2JNAYLbmVxg0udnBaIpQNzKNxke X-Received: by 2002:a05:6102:f82:b0:4ec:e1fa:ed7b with SMTP id ada2fe7eead31-4f996e525e8mr4594228137.9.1752856272364; Fri, 18 Jul 2025 09:31:12 -0700 (PDT) Received: from postal.iol.unh.edu (postal.iol.unh.edu. [132.177.123.84]) by smtp-relay.gmail.com with ESMTPS id a1e0cc1a2514c-88b0abc2acfsm23160241.12.2025.07.18.09.31.12 (version=TLS1_2 cipher=ECDHE-ECDSA-AES128-GCM-SHA256 bits=128/128); Fri, 18 Jul 2025 09:31:12 -0700 (PDT) X-Relaying-Domain: iol.unh.edu Date: Fri, 18 Jul 2025 09:31:12 -0700 (PDT) Message-ID: <687a76d0.050a0220.23ca33.1274SMTPIN_ADDED_MISSING@mx.google.com> Received: from [172.21.0.2] (unknown [172.18.0.240]) by postal.iol.unh.edu (Postfix) with ESMTP id 12152604D420; Fri, 18 Jul 2025 12:31:12 -0400 (EDT) Subject: |SUCCESS| pw155324-155332 [PATCH] [v3,9/9] eal: simplify handling of From: dpdklab@iol.unh.edu To: Test Report Cc: dpdk-test-reports@iol.unh.edu In-Reply-To: <20250718143356.1578988-10-bruce.richardson@intel.com> References: <20250718143356.1578988-10-bruce.richardson@intel.com> Content-Type: text/plain X-BeenThere: test-report@dpdk.org X-Mailman-Version: 2.1.29 Precedence: list List-Id: automatic DPDK test reports List-Unsubscribe: , List-Archive: List-Post: List-Help: List-Subscribe: , Errors-To: test-report-bounces@dpdk.org Test-Label: iol-unit-amd64-testing Test-Status: SUCCESS http://dpdk.org/patch/155332 _Testing PASS_ Submitter: Bruce Richardson Date: Friday, July 18 2025 14:33:55 DPDK git baseline: Repo:dpdk Branch: master CommitID:20a053a223db35244b6daee98d71fdab631646b6 155324-155332 --> testing pass Upstream job id: Generic-VM-Unit-Test-DPDK#30017 Test environment and result as below: +-------------------------------+----------------+ | Environment | dpdk_unit_test | +===============================+================+ | CentOS Stream 10 | PASS | +-------------------------------+----------------+ | Fedora Linux 41 | PASS | +-------------------------------+----------------+ | Fedora Linux 40 | PASS | +-------------------------------+----------------+ | Debian GNU/Linux 12 | PASS | +-------------------------------+----------------+ | CentOS Stream 9 | PASS | +-------------------------------+----------------+ | Red Hat Enterprise Linux 9.5 | PASS | +-------------------------------+----------------+ | Red Hat Enterprise Linux 8.10 | PASS | +-------------------------------+----------------+ | Ubuntu 24.04 | PASS | +-------------------------------+----------------+ | Ubuntu 20.04 | PASS | +-------------------------------+----------------+ | Ubuntu 22.04 | PASS | +-------------------------------+----------------+ | Windows Server 2022 | PASS | +-------------------------------+----------------+ CentOS Stream 10 Kernel: 5.15 Compiler: gcc gcc (GCC) 14.2.1 20250110 (Red Hat 14.2.1-8) Fedora Linux 41 Kernel: 5.15 Compiler: clang gcc (GCC) 14.3.1 20250523 (Red Hat 14.3.1-1) Fedora Linux 40 Kernel: 5.15 Compiler: gcc gcc (GCC) 14.2.1 20240912 (Red Hat 14.2.1-3) Debian GNU/Linux 12 Kernel: 5.15 Compiler: gcc gcc (Debian 12.2.0-14+deb12u1) 12.2.0 CentOS Stream 9 Kernel: 5.15 Compiler: gcc gcc (GCC) 11.5.0 20240719 (Red Hat 11.5.0-7) Red Hat Enterprise Linux 9.5 Kernel: 5.15 Compiler: gcc gcc (GCC) 11.5.0 20240719 (Red Hat 11.5.0-2) Red Hat Enterprise Linux 8.10 Kernel: 5.15 Compiler: gcc gcc (GCC) 8.5.0 20210514 (Red Hat 8.5.0-22) Ubuntu 24.04 Kernel: 5.15 Compiler: gcc gcc (Ubuntu 13.3.0-6ubuntu2~24.04) 13.3.0 Ubuntu 20.04 Kernel: 5.15 Compiler: gcc gcc (Ubuntu 9.4.0-1ubuntu1~20.04.2) 9.4.0 Ubuntu 22.04 Kernel: 5.15 Compiler: gcc gcc (Ubuntu 11.4.0-1ubuntu1~22.04) 11.4.0 Windows Server 2022 Kernel: 10.0.20348.2031 Compiler: clang 15.0.7, gcc 14.1.0 (MinGW), and MSVC VS 19.39.33521 To view detailed results, visit: https://lab.dpdk.org/results/dashboard/patchsets/33688/ UNH-IOL DPDK Community Lab To manage your email subscriptions, visit: https://lab.dpdk.org/results/dashboard/preferences/subscriptions/