From mboxrd@z Thu Jan 1 00:00:00 1970 Return-Path: Received: from mails.dpdk.org (mails.dpdk.org [217.70.189.124]) by inbox.dpdk.org (Postfix) with ESMTP id C1F3046BAC for ; Fri, 18 Jul 2025 19:44:05 +0200 (CEST) Received: from mails.dpdk.org (localhost [127.0.0.1]) by mails.dpdk.org (Postfix) with ESMTP id A7ADE40DCA; Fri, 18 Jul 2025 19:44:05 +0200 (CEST) Received: from mail-pl1-f225.google.com (mail-pl1-f225.google.com [209.85.214.225]) by mails.dpdk.org (Postfix) with ESMTP id 9D5C040DCA for ; Fri, 18 Jul 2025 19:44:04 +0200 (CEST) Received: by mail-pl1-f225.google.com with SMTP id d9443c01a7336-234d3261631so19150905ad.1 for ; Fri, 18 Jul 2025 10:44:04 -0700 (PDT) DKIM-Signature: v=1; a=rsa-sha256; c=relaxed/relaxed; d=iol.unh.edu; s=unh-iol; t=1752860644; x=1753465444; darn=dpdk.org; h=references:in-reply-to:cc:to:from:subject:message-id:date:from:to :cc:subject:date:message-id:reply-to; bh=tLE/1Rxw+IJtty6mTa2kSCtyi8zjM1yZHUIhN1GsYcM=; b=MIKkeV4ne0GXg1lAO7tor9eC/JKByiZiGQagsaupyBbruXHIfXaN4iuyIxi+c1hcIa +wks6OkIRazFpvYd1rHxsJwvMomDRmr7JC4yEZ+rjd75cH5wRKqf51HVuN9IYjbvHpSx KvsSnkDElrTeqjGvoiTocH1HAPr4pCyCpGyK0= X-Google-DKIM-Signature: v=1; a=rsa-sha256; c=relaxed/relaxed; d=1e100.net; s=20230601; t=1752860644; x=1753465444; h=references:in-reply-to:cc:to:from:subject:message-id:date :x-gm-message-state:from:to:cc:subject:date:message-id:reply-to; bh=tLE/1Rxw+IJtty6mTa2kSCtyi8zjM1yZHUIhN1GsYcM=; b=iFz1mS8Jic6iY1uXl23EFZ1kMbum1NIO8ESJTpt9N54+lUnCUvOvXE279bmh8Obbzq lnyTFXArlc+AT0mdQWVtW/F9c0D001hTIudcqn5eQbejG6qQcSYWHarlRmEHJ9iS4W0J UBUMZaDlTV++Yndb6C40WtIzHFk4qMMWyFchDf8W3Rj+RIfTfV4y4an2efLJvJ0YtFmr C5MKM7FGFUaKz37CVn1GSXGBmy43r0UM8MKamx84Di2pwbtTK8sKMeg5MpiooVaQ44fL L8Vq9gvD2Cja19MyAoNUGp+OLOWJEOIOgwY98RHwMA6Zkz4OjDFrx2l9IKNCHKvVmaUx QNgA== X-Gm-Message-State: AOJu0Yx3rp8cB7K2567V0z3GFbWoXVkz/ThhBi8wbMn4/bhyYf224uQj bNFhe/iDOqSDLFKYQTj+0T9hPSy1eG1YsPXGJp2R1gZdjMGagaKEKZpOv1KrjhNmsojemG8Gv2H kSK+2ARYOEn3geYBVamjFIm/HOQGQtzXka9puEaK7obeprDB/jV36CA+T9GMo X-Gm-Gg: ASbGncsLfQ94uxdqyjZD9TBpdpgMhptyT1GqJ5OtodmhxPkm9SdHOuum/EjmqncoXZy hhLqL9vb0lGJIctlyRVq7NStc6WyN7pO/o5eecDHj1D+ySBn/9IUs18P7eQHfLy7JTbNIRbxZ+q pTiTrx8Eiwxxa9UFif9LwBgLj2iH9Lch29W3GEMiaCZU0xnA1vk4J6/rOYqPeIgQQ57Jn/jg1Ob 2e2g5NkmSqToPCevxFFzUTGTQtltmfgOhCxSDWQT2DjIEZi4ua3ifWW246W7YzOdkcvtwfFsPJ0 i7V2h6zCX3W9v4yTUqWMPYgHF30XJX5wu67urDGJHKPg/uDDiQ== X-Google-Smtp-Source: AGHT+IEaOpIojfboe4Kd7f1/XEOhEWRMyMBEtuF417NEqsJSQ0N9FtKNSmZW3j9a4cPtIeITDaKGevKk6JDI X-Received: by 2002:a17:902:e5cf:b0:235:225d:3087 with SMTP id d9443c01a7336-23e3b80c9femr48934395ad.30.1752860643748; Fri, 18 Jul 2025 10:44:03 -0700 (PDT) Received: from postal.iol.unh.edu (postal.iol.unh.edu. [2606:4100:3880:1234::84]) by smtp-relay.gmail.com with ESMTPS id d9443c01a7336-23e3b6df34bsm1101115ad.77.2025.07.18.10.44.03 (version=TLS1_2 cipher=ECDHE-ECDSA-AES128-GCM-SHA256 bits=128/128); Fri, 18 Jul 2025 10:44:03 -0700 (PDT) X-Relaying-Domain: iol.unh.edu Date: Fri, 18 Jul 2025 10:44:03 -0700 (PDT) Message-ID: <687a87e3.170a0220.207746.5a5fSMTPIN_ADDED_MISSING@mx.google.com> Received: from [172.21.0.2] (unknown [172.18.0.240]) by postal.iol.unh.edu (Postfix) with ESMTP id 11837604D420; Fri, 18 Jul 2025 13:44:02 -0400 (EDT) Subject: |SUCCESS| pw155324-155332 [PATCH] [v3,9/9] eal: simplify handling of From: dpdklab@iol.unh.edu To: Test Report Cc: dpdk-test-reports@iol.unh.edu In-Reply-To: <20250718143356.1578988-10-bruce.richardson@intel.com> References: <20250718143356.1578988-10-bruce.richardson@intel.com> Content-Type: text/plain X-BeenThere: test-report@dpdk.org X-Mailman-Version: 2.1.29 Precedence: list List-Id: automatic DPDK test reports List-Unsubscribe: , List-Archive: List-Post: List-Help: List-Subscribe: , Errors-To: test-report-bounces@dpdk.org Test-Label: iol-abi-testing Test-Status: SUCCESS http://dpdk.org/patch/155332 _Testing PASS_ Submitter: Bruce Richardson Date: Friday, July 18 2025 14:33:55 DPDK git baseline: Repo:dpdk Branch: master CommitID:20a053a223db35244b6daee98d71fdab631646b6 155324-155332 --> testing pass Upstream job id: Generic-DPDK-Compile-ABI#134794 Test environment and result as below: +-------------------------------+----------+ | Environment | abi_test | +===============================+==========+ | CentOS Stream 9 | PASS | +-------------------------------+----------+ | CentOS Stream 10 | PASS | +-------------------------------+----------+ | Debian GNU/Linux 12 | PASS | +-------------------------------+----------+ | openSUSE Leap 15.6 | PASS | +-------------------------------+----------+ | Ubuntu 22.04 | PASS | +-------------------------------+----------+ | Fedora Linux 40 | PASS | +-------------------------------+----------+ | Fedora Linux 41 | PASS | +-------------------------------+----------+ | Red Hat Enterprise Linux 8.10 | PASS | +-------------------------------+----------+ | Red Hat Enterprise Linux 9.5 | PASS | +-------------------------------+----------+ | Ubuntu 24.04 | PASS | +-------------------------------+----------+ CentOS Stream 9 Kernel: 5.15 Compiler: gcc gcc (GCC) 11.5.0 20240719 (Red Hat 11.5.0-7) CentOS Stream 10 Kernel: 5.15 Compiler: gcc gcc (GCC) 14.2.1 20250110 (Red Hat 14.2.1-8) Debian GNU/Linux 12 Kernel: 5.15 Compiler: gcc gcc (Debian 12.2.0-14+deb12u1) 12.2.0 openSUSE Leap 15.6 Kernel: 5.15 Compiler: gcc gcc (SUSE Linux) 7.5.0 Ubuntu 22.04 Kernel: 5.15 Compiler: gcc gcc (Ubuntu 11.4.0-1ubuntu1~22.04) 11.4.0 Fedora Linux 40 Kernel: 5.15 Compiler: gcc gcc (GCC) 14.2.1 20240912 (Red Hat 14.2.1-3) Fedora Linux 41 Kernel: 5.15 Compiler: clang gcc (GCC) 14.3.1 20250523 (Red Hat 14.3.1-1) Red Hat Enterprise Linux 8.10 Kernel: 5.15 Compiler: gcc gcc (GCC) 8.5.0 20210514 (Red Hat 8.5.0-22) Red Hat Enterprise Linux 9.5 Kernel: 5.15 Compiler: gcc gcc (GCC) 11.5.0 20240719 (Red Hat 11.5.0-2) Ubuntu 24.04 Kernel: 5.15 Compiler: gcc gcc (Ubuntu 13.3.0-6ubuntu2~24.04) 13.3.0 To view detailed results, visit: https://lab.dpdk.org/results/dashboard/patchsets/33688/ UNH-IOL DPDK Community Lab To manage your email subscriptions, visit: https://lab.dpdk.org/results/dashboard/preferences/subscriptions/