From mboxrd@z Thu Jan 1 00:00:00 1970 Return-Path: Received: from mails.dpdk.org (mails.dpdk.org [217.70.189.124]) by inbox.dpdk.org (Postfix) with ESMTP id BA6F346BAC for ; Fri, 18 Jul 2025 19:44:20 +0200 (CEST) Received: from mails.dpdk.org (localhost [127.0.0.1]) by mails.dpdk.org (Postfix) with ESMTP id B663C40DCA; Fri, 18 Jul 2025 19:44:20 +0200 (CEST) Received: from mail-io1-f99.google.com (mail-io1-f99.google.com [209.85.166.99]) by mails.dpdk.org (Postfix) with ESMTP id 63AC040DCA for ; Fri, 18 Jul 2025 19:44:19 +0200 (CEST) Received: by mail-io1-f99.google.com with SMTP id ca18e2360f4ac-876231b81d5so166456339f.2 for ; Fri, 18 Jul 2025 10:44:19 -0700 (PDT) DKIM-Signature: v=1; a=rsa-sha256; c=relaxed/relaxed; d=iol.unh.edu; s=unh-iol; t=1752860658; x=1753465458; darn=dpdk.org; h=references:in-reply-to:cc:to:from:subject:message-id:date:from:to :cc:subject:date:message-id:reply-to; bh=rhxPZhZlldidS8OwRwpsoaEauQMKs6GuWID6ZHj/Lak=; b=gcCWCe8HQgh7RztT0kKRTnPcCzV1WX8sIpsSErEexxfCsCqS5XtqBVnVj/KrADXMqX 4CzMWAnbL5rT15mk1Xx3hh5Jta8Z8dFayfXj6XqBw84omXuFu9asyG7GZVD8yQluFE6p /oHcK/APgFLhkbRwyqU0X4n9IGEWdEUl1N3iQ= X-Google-DKIM-Signature: v=1; a=rsa-sha256; c=relaxed/relaxed; d=1e100.net; s=20230601; t=1752860658; x=1753465458; h=references:in-reply-to:cc:to:from:subject:message-id:date :x-gm-message-state:from:to:cc:subject:date:message-id:reply-to; bh=rhxPZhZlldidS8OwRwpsoaEauQMKs6GuWID6ZHj/Lak=; b=CuD0l99ej4taWbmTEkLbB4O0gcerwaOQnFvj0GzosBNSzMVjT1S8txbE46iq/jlcNw eHJ7xAxE22Q3iZaLA/OTuzQTXJU1i/dJBXQre3ToqnBl9q8uOO4VXXa4K/eRFp02fqVT I5q4RwfZJbw2cWaCKEbK1RFXeRAoq6d3ipBFfwJdTkwvvZaNUuV7yZ4qBdantoTUbnBZ MSuGxRiiw6UM/zY7bMqKHosI7Blpe4lQU6vlK6osE1ocxkXGpvurr8a2mepIBwnubPSs Mc86zl8aMUdutAMPsiWwdtpPXlDG+kgdMxv7Dk+4EUr9mex1lN29onbAIBD5F1qSK8R1 jpWQ== X-Gm-Message-State: AOJu0YyK8Wmhih/7MJ9czMkRYWhLK4ouX8zz5sWv8cnmMCrSCPrrU9Hh rROCeZ2jCh0DdRjXZwDbVSDxSYXCQg0kutrZ0jRkZNhR54/1ofxQtf5/qBikWLYFaOdOrLTIvHC rZpVjslLqeKV/5RnMcBWS3nd+qqa1gOXEueVsa2BsoWokt0RGj8bgj5wdf+TY X-Gm-Gg: ASbGnctqReLKxXunt2jnJVqFvryUW2wUL0mAKrFmJjYpmk5bMChst9vlD7llMy7Owtc 2UgCdhSb8LUUUo84vGmJ15om0LKzbeb2+MKvIgM/Jus3/MK46dVsFVzhJPj5xOXDliEkvYzCgzB xVLWNLb1mwNytWyGjLbtyFtpbbEYaE/GWbiedI0Pm7J4euH/XQD5HBOB/D3yzoaQH8dkjmFMKIC mrBieTqh6jLS17eXe+Z5nKQ+vvapjJJZPntwNfLJBlFyNm5TPVcDIv6rnAjc78F6y6Q6MoT0jb2 0fk/q0G54Yc5PJZITH7+KpujxgNkuvc4gbmEbxzqgcCnYsPWCg== X-Google-Smtp-Source: AGHT+IGb/OwEMN0yOyztFtprGxP8QFsvzeaKpJKSMwXBDssnucX3I/pDMKCaWTUih1aw0zUjv1dtiDYxNKDH X-Received: by 2002:a05:6602:1691:b0:876:c8e9:8b11 with SMTP id ca18e2360f4ac-879c08c3de2mr1434128239f.8.1752860658658; Fri, 18 Jul 2025 10:44:18 -0700 (PDT) Received: from postal.iol.unh.edu (postal.iol.unh.edu. [2606:4100:3880:1234::84]) by smtp-relay.gmail.com with ESMTPS id 8926c6da1cb9f-5084c8f4dffsm78984173.39.2025.07.18.10.44.18 (version=TLS1_2 cipher=ECDHE-ECDSA-AES128-GCM-SHA256 bits=128/128); Fri, 18 Jul 2025 10:44:18 -0700 (PDT) X-Relaying-Domain: iol.unh.edu Date: Fri, 18 Jul 2025 10:44:18 -0700 (PDT) Message-ID: <687a87f2.050a0220.98616.42e5SMTPIN_ADDED_MISSING@mx.google.com> Received: from [172.21.0.6] (unknown [172.18.0.240]) by postal.iol.unh.edu (Postfix) with ESMTP id 384BE604D420; Fri, 18 Jul 2025 13:44:18 -0400 (EDT) Subject: |WARNING| pw155324-155332 [PATCH] [v3,9/9] eal: simplify handling of From: dpdklab@iol.unh.edu To: Test Report Cc: dpdk-test-reports@iol.unh.edu In-Reply-To: <20250718143356.1578988-10-bruce.richardson@intel.com> References: <20250718143356.1578988-10-bruce.richardson@intel.com> Content-Type: text/plain X-BeenThere: test-report@dpdk.org X-Mailman-Version: 2.1.29 Precedence: list List-Id: automatic DPDK test reports List-Unsubscribe: , List-Archive: List-Post: List-Help: List-Subscribe: , Errors-To: test-report-bounces@dpdk.org Test-Label: iol-compile-amd64-testing Test-Status: WARNING http://dpdk.org/patch/155332 _Testing issues_ Submitter: Bruce Richardson Date: Friday, July 18 2025 14:33:55 DPDK git baseline: Repo:dpdk Branch: master CommitID:20a053a223db35244b6daee98d71fdab631646b6 155324-155332 --> testing issues Upstream job id: Generic-DPDK-Compile-Meson#409771 Test environment and result as below: +-------------------------------+--------------------+-------------------+------------------+-------------------+-------------------------+----------------------+ | Environment | dpdk_meson_compile | dpdk_compile_spdk | dpdk_compile_ovs | dpdk_msvc_compile | dpdk_llvm_clang_compile | dpdk_mingw64_compile | +===============================+====================+===================+==================+===================+=========================+======================+ | CentOS Stream 9 | PASS | WARN | SKIPPED | SKIPPED | SKIPPED | SKIPPED | +-------------------------------+--------------------+-------------------+------------------+-------------------+-------------------------+----------------------+ | Debian GNU/Linux 12 | PASS | WARN | SKIPPED | SKIPPED | SKIPPED | SKIPPED | +-------------------------------+--------------------+-------------------+------------------+-------------------+-------------------------+----------------------+ | Fedora Linux 41 | PASS | WARN | PASS | SKIPPED | SKIPPED | SKIPPED | +-------------------------------+--------------------+-------------------+------------------+-------------------+-------------------------+----------------------+ | Fedora Linux 40 | PASS | WARN | SKIPPED | SKIPPED | SKIPPED | SKIPPED | +-------------------------------+--------------------+-------------------+------------------+-------------------+-------------------------+----------------------+ | CentOS Stream 10 | PASS | SKIPPED | SKIPPED | SKIPPED | SKIPPED | SKIPPED | +-------------------------------+--------------------+-------------------+------------------+-------------------+-------------------------+----------------------+ | openSUSE Leap 15.6 | PASS | SKIPPED | SKIPPED | SKIPPED | SKIPPED | SKIPPED | +-------------------------------+--------------------+-------------------+------------------+-------------------+-------------------------+----------------------+ | Red Hat Enterprise Linux 8.10 | PASS | SKIPPED | SKIPPED | SKIPPED | SKIPPED | SKIPPED | +-------------------------------+--------------------+-------------------+------------------+-------------------+-------------------------+----------------------+ | Red Hat Enterprise Linux 9.5 | PASS | SKIPPED | SKIPPED | SKIPPED | SKIPPED | SKIPPED | +-------------------------------+--------------------+-------------------+------------------+-------------------+-------------------------+----------------------+ | Ubuntu 20.04 | PASS | SKIPPED | SKIPPED | SKIPPED | SKIPPED | SKIPPED | +-------------------------------+--------------------+-------------------+------------------+-------------------+-------------------------+----------------------+ | Ubuntu 24.04 | PASS | WARN | PASS | SKIPPED | SKIPPED | SKIPPED | +-------------------------------+--------------------+-------------------+------------------+-------------------+-------------------------+----------------------+ | Ubuntu 22.04 | PASS | WARN | SKIPPED | SKIPPED | SKIPPED | SKIPPED | +-------------------------------+--------------------+-------------------+------------------+-------------------+-------------------------+----------------------+ | FreeBSD 14.2 | PASS | SKIPPED | SKIPPED | SKIPPED | SKIPPED | SKIPPED | +-------------------------------+--------------------+-------------------+------------------+-------------------+-------------------------+----------------------+ | Alpine Linux 3.22.0 | PASS | SKIPPED | SKIPPED | SKIPPED | SKIPPED | SKIPPED | +-------------------------------+--------------------+-------------------+------------------+-------------------+-------------------------+----------------------+ | Windows Server 2022 | SKIPPED | SKIPPED | SKIPPED | PASS | PASS | PASS | +-------------------------------+--------------------+-------------------+------------------+-------------------+-------------------------+----------------------+ ==== 20 line log output for Ubuntu 22.04 (dpdk_compile_spdk): ==== --- Failed to get log output --- ==== End log output ==== CentOS Stream 9 Kernel: 5.15 Compiler: gcc gcc (GCC) 11.5.0 20240719 (Red Hat 11.5.0-7) Debian GNU/Linux 12 Kernel: 5.15 Compiler: gcc gcc (Debian 12.2.0-14+deb12u1) 12.2.0 Fedora Linux 41 Kernel: 5.15 Compiler: clang gcc (GCC) 14.3.1 20250523 (Red Hat 14.3.1-1) Fedora Linux 40 Kernel: 5.15 Compiler: gcc gcc (GCC) 14.2.1 20240912 (Red Hat 14.2.1-3) CentOS Stream 10 Kernel: 5.15 Compiler: gcc gcc (GCC) 14.2.1 20250110 (Red Hat 14.2.1-8) openSUSE Leap 15.6 Kernel: 5.15 Compiler: gcc gcc (SUSE Linux) 7.5.0 Red Hat Enterprise Linux 8.10 Kernel: 5.15 Compiler: gcc gcc (GCC) 8.5.0 20210514 (Red Hat 8.5.0-22) Red Hat Enterprise Linux 9.5 Kernel: 5.15 Compiler: gcc gcc (GCC) 11.5.0 20240719 (Red Hat 11.5.0-2) Ubuntu 20.04 Kernel: 5.15 Compiler: gcc gcc (Ubuntu 9.4.0-1ubuntu1~20.04.2) 9.4.0 Ubuntu 24.04 Kernel: 5.15 Compiler: gcc gcc (Ubuntu 13.3.0-6ubuntu2~24.04) 13.3.0 Ubuntu 22.04 Kernel: 5.15 Compiler: gcc gcc (Ubuntu 11.4.0-1ubuntu1~22.04) 11.4.0 FreeBSD 14.2 Kernel: 14.2-RELEASE Compiler: clang 18.1.6 Alpine Linux 3.22.0 Kernel: 5.15 Compiler: gcc gcc (Alpine 14.2.0) 14.2.0 Windows Server 2022 Kernel: 10.0.20348.2031 Compiler: clang 15.0.7, gcc 14.1.0 (MinGW), and MSVC VS 19.39.33521 To view detailed results, visit: https://lab.dpdk.org/results/dashboard/patchsets/33688/ UNH-IOL DPDK Community Lab To manage your email subscriptions, visit: https://lab.dpdk.org/results/dashboard/preferences/subscriptions/