From mboxrd@z Thu Jan 1 00:00:00 1970 Return-Path: Received: from mails.dpdk.org (mails.dpdk.org [217.70.189.124]) by inbox.dpdk.org (Postfix) with ESMTP id B935A46BAE for ; Fri, 18 Jul 2025 20:06:04 +0200 (CEST) Received: from mails.dpdk.org (localhost [127.0.0.1]) by mails.dpdk.org (Postfix) with ESMTP id 9845940611; Fri, 18 Jul 2025 20:06:04 +0200 (CEST) Received: from mail-oa1-f97.google.com (mail-oa1-f97.google.com [209.85.160.97]) by mails.dpdk.org (Postfix) with ESMTP id 0E60140611 for ; Fri, 18 Jul 2025 20:06:03 +0200 (CEST) Received: by mail-oa1-f97.google.com with SMTP id 586e51a60fabf-2efa219b5bbso742976fac.0 for ; Fri, 18 Jul 2025 11:06:02 -0700 (PDT) DKIM-Signature: v=1; a=rsa-sha256; c=relaxed/relaxed; d=iol.unh.edu; s=unh-iol; t=1752861962; x=1753466762; darn=dpdk.org; h=references:in-reply-to:cc:to:from:subject:message-id:date:from:to :cc:subject:date:message-id:reply-to; bh=5YpedxciBynljKKOk8UuFzPwAozpTm+SRhNUYl77dOg=; b=C5XskuiG4pPlap0FRQtTI4kvDRCHangmG4LqN2DxyWqMao/lLV7/FkdCzdmNX1pVxr Ivhd/Ew3yLpa2wUsQ13mS6EeadF/q0BRhOgkddJKqhAgXrOq8a1oWq67jF+AcrrAp+s7 7f20TPnFAAhZ7FfC6kw0meIJlmTbEBq8RDmkU= X-Google-DKIM-Signature: v=1; a=rsa-sha256; c=relaxed/relaxed; d=1e100.net; s=20230601; t=1752861962; x=1753466762; h=references:in-reply-to:cc:to:from:subject:message-id:date :x-gm-message-state:from:to:cc:subject:date:message-id:reply-to; bh=5YpedxciBynljKKOk8UuFzPwAozpTm+SRhNUYl77dOg=; b=VL5j2S+1BD0uNPIBDCj7jjEEVUKS7ybSzzSJTfsXqD2XUXZOs68XOvBDsfr3/9Qtci DUMtcGDn8CYCIxEmdnhrXdoeWYZ3QDJweLOgt+LZtNrmWaFikrBP86M3un9nglQ0NFkA RhGQBZUN/9QyZ+GWo2zqFV8X/rbgj7B5hvbZ/o6DR9X3tBEIEv4uYw1MT8FtbMZrvAra ibaPJEqR34UztrlgT2fmN49w8eoMLqVjiULkigdRzj8M6Ekd7J4HKiSyHVy+YsNz1++0 ymNZsna1/iyRmdGRGe/Ec6jqqSpIu6yVs5mvr/RqW1QKIfWwnjVmJoxyYjRHxkU54O2u GU0w== X-Gm-Message-State: AOJu0YyVv3ZJ+CO5FmZeRSd2LkF6/bwbtWvn11cmxH3usoqq/JASNBTJ 0PNQMnkRUVvj/5NLS87sdMVUPHbFmbp94ceJ/TyOMU/ZmUX8BLbppY+Hl/HOfaRnBME2znE1O5M bzNeEJQcOSkK8PgV6CuDIu8I8IqD85e0ouqcfWyUqMh6s X-Gm-Gg: ASbGncuCcm5WAb30YRK/AMIEefCEaYAXQ3JTIVL/HMmKROaHiO708Q7cWq67J7q6KcV PMe2D8LS2ZmjnV1fF9yh/jJoN+tGC/GwCfC27GpBDk9VQtVvaRGC3zA32Wmd9IT0Sq82zCOaflQ BxPJtl5ZgmKoojJA5eJKJY3lWYqCp4FeW4X/uikQh0isLeu713cM/s8kFmqBmGcdsJ/zaI44fSv 1KBCPt9ol3xkGDxivtWnCObXvX1N9K4maqNQ0U4W71TStqMj/Ia9yIFfbrb9f+Qen7Kem6l9ITx JtjIKWUmQ335bIgnLcrFBrR9bliYKIPYvouUJokhaswo9l6Vk036Xw20HQMSSGw5FkUuRGR7 X-Google-Smtp-Source: AGHT+IFYuKJ1dIm2rPvlPhb5xXRdwnvtIuRYJb7Ywu3xMNpzTQJ9YKk4YhggolhFKG6cdQf5TQ6ujYfX3eCx X-Received: by 2002:a05:6871:6d01:b0:2e9:1c4a:9fdc with SMTP id 586e51a60fabf-2ffb22e5d34mr8411918fac.17.1752861962253; Fri, 18 Jul 2025 11:06:02 -0700 (PDT) Received: from postal.iol.unh.edu (postal.iol.unh.edu. [132.177.123.84]) by smtp-relay.gmail.com with ESMTPS id 586e51a60fabf-3010456e8cesm149089fac.3.2025.07.18.11.06.02 (version=TLS1_2 cipher=ECDHE-ECDSA-AES128-GCM-SHA256 bits=128/128); Fri, 18 Jul 2025 11:06:02 -0700 (PDT) X-Relaying-Domain: iol.unh.edu Date: Fri, 18 Jul 2025 11:06:02 -0700 (PDT) Message-ID: <687a8d0a.050a0220.1b1af.8044SMTPIN_ADDED_MISSING@mx.google.com> Received: from [172.21.0.3] (unknown [172.18.0.240]) by postal.iol.unh.edu (Postfix) with ESMTP id D9D70604D420; Fri, 18 Jul 2025 14:06:01 -0400 (EDT) Subject: |SUCCESS| pw155333-155334 [PATCH] [RFC,v3,2/2] dts: add PMD RSS test From: dpdklab@iol.unh.edu To: Test Report Cc: dpdk-test-reports@iol.unh.edu In-Reply-To: <20250718150404.200096-3-thomas.wilks@arm.com> References: <20250718150404.200096-3-thomas.wilks@arm.com> Content-Type: text/plain X-BeenThere: test-report@dpdk.org X-Mailman-Version: 2.1.29 Precedence: list List-Id: automatic DPDK test reports List-Unsubscribe: , List-Archive: List-Post: List-Help: List-Subscribe: , Errors-To: test-report-bounces@dpdk.org Test-Label: iol-unit-amd64-testing Test-Status: SUCCESS http://dpdk.org/patch/155334 _Testing PASS_ Submitter: Thomas Wilks Date: Friday, July 18 2025 15:04:01 DPDK git baseline: Repo:dpdk Branch: master CommitID:f8fb19d5e2fc20798ed0caa292a1538fbbd98f96 155333-155334 --> testing pass Upstream job id: Generic-Unit-Test-DPDK#356311 Test environment and result as below: +-------------------------------+----------------+ | Environment | dpdk_unit_test | +===============================+================+ | CentOS Stream 10 | PASS | +-------------------------------+----------------+ | CentOS Stream 9 | PASS | +-------------------------------+----------------+ | Fedora Linux 40 | PASS | +-------------------------------+----------------+ | Debian GNU/Linux 12 | PASS | +-------------------------------+----------------+ | Fedora Linux 41 | PASS | +-------------------------------+----------------+ | Red Hat Enterprise Linux 9.5 | PASS | +-------------------------------+----------------+ | Ubuntu 20.04 | PASS | +-------------------------------+----------------+ | Red Hat Enterprise Linux 8.10 | PASS | +-------------------------------+----------------+ | Ubuntu 22.04 | PASS | +-------------------------------+----------------+ | Ubuntu 24.04 | PASS | +-------------------------------+----------------+ | Windows Server 2022 | PASS | +-------------------------------+----------------+ CentOS Stream 10 Kernel: 5.15 Compiler: gcc gcc (GCC) 14.2.1 20250110 (Red Hat 14.2.1-8) CentOS Stream 9 Kernel: 5.15 Compiler: gcc gcc (GCC) 11.5.0 20240719 (Red Hat 11.5.0-7) Fedora Linux 40 Kernel: 5.15 Compiler: gcc gcc (GCC) 14.2.1 20240912 (Red Hat 14.2.1-3) Debian GNU/Linux 12 Kernel: 5.15 Compiler: gcc gcc (Debian 12.2.0-14+deb12u1) 12.2.0 Fedora Linux 41 Kernel: 5.15 Compiler: gcc gcc (GCC) 14.3.1 20250523 (Red Hat 14.3.1-1) Red Hat Enterprise Linux 9.5 Kernel: 5.15 Compiler: gcc gcc (GCC) 11.5.0 20240719 (Red Hat 11.5.0-2) Ubuntu 20.04 Kernel: 5.15 Compiler: gcc gcc (Ubuntu 9.4.0-1ubuntu1~20.04.2) 9.4.0 Red Hat Enterprise Linux 8.10 Kernel: 5.15 Compiler: gcc gcc (GCC) 8.5.0 20210514 (Red Hat 8.5.0-22) Ubuntu 22.04 Kernel: 5.15 Compiler: gcc gcc (Ubuntu 11.4.0-1ubuntu1~22.04) 11.4.0 Ubuntu 24.04 Kernel: 5.15 Compiler: gcc gcc (Ubuntu 13.3.0-6ubuntu2~24.04) 13.3.0 Windows Server 2022 Kernel: 10.0.20348.2031 Compiler: clang 15.0.7, gcc 14.1.0 (MinGW), and MSVC VS 19.39.33521 To view detailed results, visit: https://lab.dpdk.org/results/dashboard/patchsets/33689/ UNH-IOL DPDK Community Lab To manage your email subscriptions, visit: https://lab.dpdk.org/results/dashboard/preferences/subscriptions/