automatic DPDK test reports
 help / color / mirror / Atom feed
From: dpdklab@iol.unh.edu
To: Test Report <test-report@dpdk.org>
Cc: dpdk-test-reports@iol.unh.edu
Subject: |SUCCESS| pw155335 [PATCH] [v2] net/intel: fix assumption about tag
Date: Fri, 18 Jul 2025 11:08:34 -0700 (PDT)	[thread overview]
Message-ID: <687a8da2.170a0220.1d3fcc.6717SMTPIN_ADDED_MISSING@mx.google.com> (raw)
In-Reply-To: <20250718154312.1716432-1-bruce.richardson@intel.com>

Test-Label: iol-compile-amd64-testing
Test-Status: SUCCESS
http://dpdk.org/patch/155335

_Testing PASS_

Submitter: Bruce Richardson <bruce.richardson@intel.com>
Date: Friday, July 18 2025 15:43:12 
DPDK git baseline: Repo:dpdk
  Branch: master
  CommitID:a6b10031d251fcc7dadede461f7e1d005024b139

155335 --> testing pass

Upstream job id: Windows-Compile-DPDK-Native#29859

Test environment and result as below:

+---------------------+-------------------------+-------------------+--------------------+----------------------+
|     Environment     | dpdk_llvm_clang_compile | dpdk_msvc_compile | dpdk_meson_compile | dpdk_mingw64_compile |
+=====================+=========================+===================+====================+======================+
| Windows Server 2022 | PASS                    | PASS              | SKIPPED            | PASS                 |
+---------------------+-------------------------+-------------------+--------------------+----------------------+
| FreeBSD 14.2        | SKIPPED                 | SKIPPED           | PASS               | SKIPPED              |
+---------------------+-------------------------+-------------------+--------------------+----------------------+
| Ubuntu 20.04        | SKIPPED                 | SKIPPED           | PASS               | SKIPPED              |
+---------------------+-------------------------+-------------------+--------------------+----------------------+


Windows Server 2022
	Kernel: 10.0.20348.2031
	Compiler: clang 15.0.7, gcc 14.1.0 (MinGW), and MSVC VS 19.39.33521

FreeBSD 14.2
	Kernel: 14.2-RELEASE
	Compiler: clang 18.1.6

Ubuntu 20.04
	Kernel: 4.19
	Compiler: gcc gcc (Ubuntu 9.4.0-1ubuntu1~20.04.2) 9.4.0

To view detailed results, visit:
https://lab.dpdk.org/results/dashboard/patchsets/33690/

UNH-IOL DPDK Community Lab

To manage your email subscriptions, visit: 
https://lab.dpdk.org/results/dashboard/preferences/subscriptions/

  parent reply	other threads:[~2025-07-18 18:08 UTC|newest]

Thread overview: 17+ messages / expand[flat|nested]  mbox.gz  Atom feed  top
     [not found] <20250718154312.1716432-1-bruce.richardson@intel.com>
2025-07-18 15:09 ` |SUCCESS| pw155335 [PATCH v2] net/intel: fix assumption about tag placement order qemudev
2025-07-18 15:13 ` qemudev
2025-07-18 15:42 ` checkpatch
2025-07-18 17:05 ` 0-day Robot
2025-07-18 17:21 ` |SUCCESS| pw155335 [PATCH] [v2] net/intel: fix assumption about tag dpdklab
2025-07-18 17:25 ` dpdklab
2025-07-18 17:27 ` dpdklab
2025-07-18 17:31 ` dpdklab
2025-07-18 17:33 ` dpdklab
2025-07-18 17:48 ` dpdklab
2025-07-18 18:08 ` dpdklab [this message]
2025-07-18 19:14 ` |PENDING| " dpdklab
2025-07-18 19:16 ` |SUCCESS| " dpdklab
2025-07-18 19:39 ` dpdklab
2025-07-18 20:24 ` dpdklab
2025-07-18 20:50 ` dpdklab
2025-07-18 20:52 ` dpdklab

Reply instructions:

You may reply publicly to this message via plain-text email
using any one of the following methods:

* Save the following mbox file, import it into your mail client,
  and reply-to-all from there: mbox

  Avoid top-posting and favor interleaved quoting:
  https://en.wikipedia.org/wiki/Posting_style#Interleaved_style

* Reply using the --to, --cc, and --in-reply-to
  switches of git-send-email(1):

  git send-email \
    --in-reply-to=687a8da2.170a0220.1d3fcc.6717SMTPIN_ADDED_MISSING@mx.google.com \
    --to=dpdklab@iol.unh.edu \
    --cc=dpdk-test-reports@iol.unh.edu \
    --cc=test-report@dpdk.org \
    /path/to/YOUR_REPLY

  https://kernel.org/pub/software/scm/git/docs/git-send-email.html

* If your mail client supports setting the In-Reply-To header
  via mailto: links, try the mailto: link
Be sure your reply has a Subject: header at the top and a blank line before the message body.
This is a public inbox, see mirroring instructions
for how to clone and mirror all data and code used for this inbox;
as well as URLs for NNTP newsgroup(s).