From mboxrd@z Thu Jan 1 00:00:00 1970 Return-Path: Received: from mails.dpdk.org (mails.dpdk.org [217.70.189.124]) by inbox.dpdk.org (Postfix) with ESMTP id E42AC46BAE for ; Fri, 18 Jul 2025 20:08:36 +0200 (CEST) Received: from mails.dpdk.org (localhost [127.0.0.1]) by mails.dpdk.org (Postfix) with ESMTP id DF95F40611; Fri, 18 Jul 2025 20:08:36 +0200 (CEST) Received: from mail-pl1-f228.google.com (mail-pl1-f228.google.com [209.85.214.228]) by mails.dpdk.org (Postfix) with ESMTP id 50ADA40611 for ; Fri, 18 Jul 2025 20:08:35 +0200 (CEST) Received: by mail-pl1-f228.google.com with SMTP id d9443c01a7336-237e6963f63so14728585ad.2 for ; Fri, 18 Jul 2025 11:08:35 -0700 (PDT) DKIM-Signature: v=1; a=rsa-sha256; c=relaxed/relaxed; d=iol.unh.edu; s=unh-iol; t=1752862114; x=1753466914; darn=dpdk.org; h=references:in-reply-to:cc:to:from:subject:message-id:date:from:to :cc:subject:date:message-id:reply-to; bh=wK6cNyIG5M1jhnhHe5QYfPty3irtjR/39svjNK+V+Zc=; b=El04E3J7CddawWMNc91CqZKVwkAzaRdf+S7kd/bg4xsZOb4e5Yg7qZjKEgEL7Kqnmi UaruiuKAX/WwCw5HaCXsrMak7ZFIz0Zacp3t+mSCF3Oy4T+ibecCKo2oZ3kurz7DJzPi P9+0LxhbY39aGAIxMfc25bBi4WP5L8c9l9eUQ= X-Google-DKIM-Signature: v=1; a=rsa-sha256; c=relaxed/relaxed; d=1e100.net; s=20230601; t=1752862114; x=1753466914; h=references:in-reply-to:cc:to:from:subject:message-id:date :x-gm-message-state:from:to:cc:subject:date:message-id:reply-to; bh=wK6cNyIG5M1jhnhHe5QYfPty3irtjR/39svjNK+V+Zc=; b=ZmcRkFWYVm+EMsJs+G4KqjOa9TQnKhj3sl2Ys8pzc9+oGNG4VeWl8GJPB6BnQoQKhL Jri/GZPUcQLagflGnZglvMhR1e+xNxrqphno/5luK+MqsfmjFMvWrYfW3S0hd9wehdzT INZ79u9smD9LOG5vW6VRDzwsv1g9o99uNv90uJhu5Jo1XpeLiEORzCr8E+IKvWxXug+A tA+aH5G3Z7C+sn9wECL21mk4i3nG3wpIKQXtUgJTK/vvIicAzwDmin4DhGT4CamoJQrb WdjbMEsJfoSN+pX0nC/GUVffY/ITUHBmmSlQ4aQAbeotrMPK82IZ4WRn/sOK2JK5mWLA XdvA== X-Gm-Message-State: AOJu0YwXi/bVafiCtvZpL7M3ZanNmg8+OUa3z4gpDluC2uG21JsF5ADy UYEb5DLm77KeLMKbgV1L3vt6fK4/Xc+4EMFg+VAm+W76xmjtOjKo8N/mJ1ULefQPRl7yQPhHxP6 XmIHBmowiP7cvVvU0lg36nolDLowCMkQQdmKDzS4YM301ru31M1NBzFHGuCfN X-Gm-Gg: ASbGncuRocuFTX8p00ytzf9f6dRBTj1JiZJAC9cxj3J9lHrtsDIP/ySecyDHy4H8erW VYuP07qSZ7xPsrsr408TJBdufRaR0mimfKx4uU6/qdxzXZ8NN0MJhtUzGdi6RfCbIWM6RPaguY+ YCr4LgtNkHppgCSdsx9iwYep8tdjLz5kt0ANbMwMENslevVsIobbmrlvgBV+JzM8Mkes9dBCVcP ZrbDBQSa7cPmErAybKHJiduyzXUOEe6wOIm5Vq9GIXwZLgZOL+Ubngdt3snmQHz06bZlIPwQCVY +NIctYJxeCUq6RxopsXA2QxgU/sZ98VNKpECsdZKeM4TeZUpDA== X-Google-Smtp-Source: AGHT+IGpK18V0MtRr2nEEyCQdKEJfrAVBDOIgk+gkf7is5d3yYOKoScuzGuMOF0TeGgFB/F7kJTRY6IQ/5z7 X-Received: by 2002:a17:903:40c9:b0:235:5d1:e366 with SMTP id d9443c01a7336-23e25684990mr177270875ad.10.1752862114393; Fri, 18 Jul 2025 11:08:34 -0700 (PDT) Received: from postal.iol.unh.edu (postal.iol.unh.edu. [2606:4100:3880:1234::84]) by smtp-relay.gmail.com with ESMTPS id d9443c01a7336-23e3b61c8a9sm1226385ad.36.2025.07.18.11.08.34 (version=TLS1_2 cipher=ECDHE-ECDSA-AES128-GCM-SHA256 bits=128/128); Fri, 18 Jul 2025 11:08:34 -0700 (PDT) X-Relaying-Domain: iol.unh.edu Date: Fri, 18 Jul 2025 11:08:34 -0700 (PDT) Message-ID: <687a8da2.170a0220.1d3fcc.6717SMTPIN_ADDED_MISSING@mx.google.com> Received: from [172.21.0.3] (unknown [172.18.0.240]) by postal.iol.unh.edu (Postfix) with ESMTP id D3DC3604D420; Fri, 18 Jul 2025 14:08:33 -0400 (EDT) Subject: |SUCCESS| pw155335 [PATCH] [v2] net/intel: fix assumption about tag From: dpdklab@iol.unh.edu To: Test Report Cc: dpdk-test-reports@iol.unh.edu In-Reply-To: <20250718154312.1716432-1-bruce.richardson@intel.com> References: <20250718154312.1716432-1-bruce.richardson@intel.com> Content-Type: text/plain X-BeenThere: test-report@dpdk.org X-Mailman-Version: 2.1.29 Precedence: list List-Id: automatic DPDK test reports List-Unsubscribe: , List-Archive: List-Post: List-Help: List-Subscribe: , Errors-To: test-report-bounces@dpdk.org Test-Label: iol-compile-amd64-testing Test-Status: SUCCESS http://dpdk.org/patch/155335 _Testing PASS_ Submitter: Bruce Richardson Date: Friday, July 18 2025 15:43:12 DPDK git baseline: Repo:dpdk Branch: master CommitID:a6b10031d251fcc7dadede461f7e1d005024b139 155335 --> testing pass Upstream job id: Windows-Compile-DPDK-Native#29859 Test environment and result as below: +---------------------+-------------------------+-------------------+--------------------+----------------------+ | Environment | dpdk_llvm_clang_compile | dpdk_msvc_compile | dpdk_meson_compile | dpdk_mingw64_compile | +=====================+=========================+===================+====================+======================+ | Windows Server 2022 | PASS | PASS | SKIPPED | PASS | +---------------------+-------------------------+-------------------+--------------------+----------------------+ | FreeBSD 14.2 | SKIPPED | SKIPPED | PASS | SKIPPED | +---------------------+-------------------------+-------------------+--------------------+----------------------+ | Ubuntu 20.04 | SKIPPED | SKIPPED | PASS | SKIPPED | +---------------------+-------------------------+-------------------+--------------------+----------------------+ Windows Server 2022 Kernel: 10.0.20348.2031 Compiler: clang 15.0.7, gcc 14.1.0 (MinGW), and MSVC VS 19.39.33521 FreeBSD 14.2 Kernel: 14.2-RELEASE Compiler: clang 18.1.6 Ubuntu 20.04 Kernel: 4.19 Compiler: gcc gcc (Ubuntu 9.4.0-1ubuntu1~20.04.2) 9.4.0 To view detailed results, visit: https://lab.dpdk.org/results/dashboard/patchsets/33690/ UNH-IOL DPDK Community Lab To manage your email subscriptions, visit: https://lab.dpdk.org/results/dashboard/preferences/subscriptions/