From mboxrd@z Thu Jan 1 00:00:00 1970 Return-Path: Received: from mails.dpdk.org (mails.dpdk.org [217.70.189.124]) by inbox.dpdk.org (Postfix) with ESMTP id 3162146BAE for ; Fri, 18 Jul 2025 21:16:37 +0200 (CEST) Received: from mails.dpdk.org (localhost [127.0.0.1]) by mails.dpdk.org (Postfix) with ESMTP id 0F90E40611; Fri, 18 Jul 2025 21:16:37 +0200 (CEST) Received: from mail-qv1-f99.google.com (mail-qv1-f99.google.com [209.85.219.99]) by mails.dpdk.org (Postfix) with ESMTP id E6F7440611 for ; Fri, 18 Jul 2025 21:16:35 +0200 (CEST) Received: by mail-qv1-f99.google.com with SMTP id 6a1803df08f44-6fafb6899c2so27947006d6.0 for ; Fri, 18 Jul 2025 12:16:35 -0700 (PDT) DKIM-Signature: v=1; a=rsa-sha256; c=relaxed/relaxed; d=iol.unh.edu; s=unh-iol; t=1752866195; x=1753470995; darn=dpdk.org; h=references:in-reply-to:cc:to:from:subject:message-id:date:from:to :cc:subject:date:message-id:reply-to; bh=n5J9/hHY6M3S1TRxuVHH4QaSLxNrlbd095dLuYxGB7k=; b=bHEM2d8ax4WcKFsnoU203X28ezpCAOECquvRqBicK+MEvtDjYF/T8/RDzNye6Bx9KK AcfiwqmnieuD4JssjjiI9Q1WKDRSUonFiRt9yYyuaAhhmf0rg3eE1u2Gzqvh1zDYxHrE BZjofRoe3aqjMP5qUl1w1XhaIA+jlMfgmlueQ= X-Google-DKIM-Signature: v=1; a=rsa-sha256; c=relaxed/relaxed; d=1e100.net; s=20230601; t=1752866195; x=1753470995; h=references:in-reply-to:cc:to:from:subject:message-id:date :x-gm-message-state:from:to:cc:subject:date:message-id:reply-to; bh=n5J9/hHY6M3S1TRxuVHH4QaSLxNrlbd095dLuYxGB7k=; b=hDm6GgtvMMsCAw2Dz0JfNZn9vVi58zAzizGgBWOT1iSAKx4yZUv+CIe/bb4Hg8HLg+ Z9+szwzL44vm4PoloMwH5pKBlhRw/H3mPOmHVxHUui4adl3+AXwnSNPal+aIdNAU4AKw wPwBonX4rVoP/0ZWMVmANioxkZRqhroaXecJyxNOkICQ8/v4koLxn1KMUaDIMA1W2L7o TNO7GcPauefpFDs+tQDB5w6+XyInQ/FHr1Hf76u+bamE4ixreOOO3ha3rJeyrjZcr0W/ uiTju1DXi80lt6tGE5FN1HP2C9k/XHXd2HL+RfUoxrYc8XBZgTW0cFs0ybsguwpK0gAa s4+w== X-Gm-Message-State: AOJu0Yx5O6dSDF2x3tsDDG8t2gVYtQzLhME85SXVi9sdfdrVpS87eY1f LEpPCquye2HnNYvWoEFiO87TifQ2haY2+iBKwNXOXlgfH+Pst6VKOqyt85RVTGXd1IS0QWPEYjO UViwcKhyHzYWupxg8dlZe0LEBG3wTRr0e8/p5asYNybRDGrN/aPQL6Nm8dw0C X-Gm-Gg: ASbGncs28HTiQlrr8emcmJOU+yCsDH7NqCDgU8xePs+GmG01h2wK2cykgtKP8z1ADyl v4aUBGRUzV9pEid6SpFqJmzPFQvu4OX/dlxFZCiOnt0EU75TF6PbRA4XFlxvW2VDnQxfPQ6Y0/7 YZ3V4nBP8rdOneHmQVAnu5vHuTUzlNkymDl2DvcdrE73Fw4gdI6KILzQ42GN0CXaT3jLH4qtYrE Ag9/Em14/7b2zv62k7V7WHcGHioO4WmE7N+bu8ZSWgJnP540ZbIL15EHR9JEsly1n08ii3Ahs0u YHQuQIXimPi1imsUl54DGW7A1yJLAYxkPA0INMKYjNLlLvfeUg== X-Google-Smtp-Source: AGHT+IHfDoIxV7c+onZ2w0PtJUb6UcFdxzn7CpoeYMf4xtJcsMp/u59/moA4lRTyqbKEGyNZZ4CkypHgYuvn X-Received: by 2002:a05:6214:5c88:b0:704:7e00:73b4 with SMTP id 6a1803df08f44-70515fb8c1emr55201926d6.14.1752866194909; Fri, 18 Jul 2025 12:16:34 -0700 (PDT) Received: from postal.iol.unh.edu (postal.iol.unh.edu. [2606:4100:3880:1234::84]) by smtp-relay.gmail.com with ESMTPS id 6a1803df08f44-7051ba2c7d0sm1051306d6.6.2025.07.18.12.16.34 (version=TLS1_2 cipher=ECDHE-ECDSA-AES128-GCM-SHA256 bits=128/128); Fri, 18 Jul 2025 12:16:34 -0700 (PDT) X-Relaying-Domain: iol.unh.edu Date: Fri, 18 Jul 2025 12:16:34 -0700 (PDT) Message-ID: <687a9d92.d40a0220.25e087.5679SMTPIN_ADDED_MISSING@mx.google.com> Received: from [172.21.0.2] (unknown [172.18.0.240]) by postal.iol.unh.edu (Postfix) with ESMTP id 9CC456051830; Fri, 18 Jul 2025 15:16:34 -0400 (EDT) Subject: |SUCCESS| pw155335 [PATCH] [v2] net/intel: fix assumption about tag From: dpdklab@iol.unh.edu To: Test Report Cc: dpdk-test-reports@iol.unh.edu In-Reply-To: <20250718154312.1716432-1-bruce.richardson@intel.com> References: <20250718154312.1716432-1-bruce.richardson@intel.com> Content-Type: text/plain X-BeenThere: test-report@dpdk.org X-Mailman-Version: 2.1.29 Precedence: list List-Id: automatic DPDK test reports List-Unsubscribe: , List-Archive: List-Post: List-Help: List-Subscribe: , Errors-To: test-report-bounces@dpdk.org Test-Label: iol-unit-amd64-testing Test-Status: SUCCESS http://dpdk.org/patch/155335 _Testing PASS_ Submitter: Bruce Richardson Date: Friday, July 18 2025 15:43:12 DPDK git baseline: Repo:dpdk Branch: master CommitID:a6b10031d251fcc7dadede461f7e1d005024b139 155335 --> testing pass Upstream job id: Generic-Unit-Test-DPDK#356325 Test environment and result as below: +-------------------------------+----------------+ | Environment | dpdk_unit_test | +===============================+================+ | CentOS Stream 10 | PASS | +-------------------------------+----------------+ | Debian GNU/Linux 12 | PASS | +-------------------------------+----------------+ | CentOS Stream 9 | PASS | +-------------------------------+----------------+ | Fedora Linux 41 | PASS | +-------------------------------+----------------+ | Fedora Linux 40 | PASS | +-------------------------------+----------------+ | Red Hat Enterprise Linux 8.10 | PASS | +-------------------------------+----------------+ | Red Hat Enterprise Linux 9.5 | PASS | +-------------------------------+----------------+ | Ubuntu 24.04 | PASS | +-------------------------------+----------------+ | Ubuntu 22.04 | PASS | +-------------------------------+----------------+ | Ubuntu 20.04 | PASS | +-------------------------------+----------------+ | Windows Server 2022 | PASS | +-------------------------------+----------------+ CentOS Stream 10 Kernel: 5.15 Compiler: gcc gcc (GCC) 14.2.1 20250110 (Red Hat 14.2.1-8) Debian GNU/Linux 12 Kernel: 5.15 Compiler: gcc gcc (Debian 12.2.0-14+deb12u1) 12.2.0 CentOS Stream 9 Kernel: 5.15 Compiler: gcc gcc (GCC) 11.5.0 20240719 (Red Hat 11.5.0-7) Fedora Linux 41 Kernel: 5.15 Compiler: gcc gcc (GCC) 14.3.1 20250523 (Red Hat 14.3.1-1) Fedora Linux 40 Kernel: 5.15 Compiler: gcc gcc (GCC) 14.2.1 20240912 (Red Hat 14.2.1-3) Red Hat Enterprise Linux 8.10 Kernel: 5.15 Compiler: gcc gcc (GCC) 8.5.0 20210514 (Red Hat 8.5.0-22) Red Hat Enterprise Linux 9.5 Kernel: 5.15 Compiler: gcc gcc (GCC) 11.5.0 20240719 (Red Hat 11.5.0-2) Ubuntu 24.04 Kernel: 5.15 Compiler: gcc gcc (Ubuntu 13.3.0-6ubuntu2~24.04) 13.3.0 Ubuntu 22.04 Kernel: 5.15 Compiler: gcc gcc (Ubuntu 11.4.0-1ubuntu1~22.04) 11.4.0 Ubuntu 20.04 Kernel: 5.15 Compiler: gcc gcc (Ubuntu 9.4.0-1ubuntu1~20.04.2) 9.4.0 Windows Server 2022 Kernel: 10.0.20348.2031 Compiler: clang 15.0.7, gcc 14.1.0 (MinGW), and MSVC VS 19.39.33521 To view detailed results, visit: https://lab.dpdk.org/results/dashboard/patchsets/33690/ UNH-IOL DPDK Community Lab To manage your email subscriptions, visit: https://lab.dpdk.org/results/dashboard/preferences/subscriptions/