From mboxrd@z Thu Jan 1 00:00:00 1970 Return-Path: Received: from mails.dpdk.org (mails.dpdk.org [217.70.189.124]) by inbox.dpdk.org (Postfix) with ESMTP id 5B8A046BAE for ; Fri, 18 Jul 2025 21:18:57 +0200 (CEST) Received: from mails.dpdk.org (localhost [127.0.0.1]) by mails.dpdk.org (Postfix) with ESMTP id 45EEC40611; Fri, 18 Jul 2025 21:18:57 +0200 (CEST) Received: from mail-qt1-f226.google.com (mail-qt1-f226.google.com [209.85.160.226]) by mails.dpdk.org (Postfix) with ESMTP id 3A3E040611 for ; Fri, 18 Jul 2025 21:18:56 +0200 (CEST) Received: by mail-qt1-f226.google.com with SMTP id d75a77b69052e-4ab8e2c85d7so33323641cf.2 for ; Fri, 18 Jul 2025 12:18:56 -0700 (PDT) DKIM-Signature: v=1; a=rsa-sha256; c=relaxed/relaxed; d=iol.unh.edu; s=unh-iol; t=1752866335; x=1753471135; darn=dpdk.org; h=references:in-reply-to:cc:to:from:subject:message-id:date:from:to :cc:subject:date:message-id:reply-to; bh=DPx3yYhesJFv/M2zFkWGMj5iJHy2Bqvp4j6oTgrFsvU=; b=HFutfGN2HCI3KKzb8uc5f/vKV4UJPCiQoomS2OTIxRXfD5B1TLE1IkCrD7+xp/nSRL Hxr1VWDIf2Iv6Okh/184hqUnANIg/l+/6sCNruIAp7r0CedbLM/SBN8rlL5ZWMzcD8Pu uhJcE7sEpYOGexOVOKhAh8V/n+rMIPQXRhI5A= X-Google-DKIM-Signature: v=1; a=rsa-sha256; c=relaxed/relaxed; d=1e100.net; s=20230601; t=1752866335; x=1753471135; h=references:in-reply-to:cc:to:from:subject:message-id:date :x-gm-message-state:from:to:cc:subject:date:message-id:reply-to; bh=DPx3yYhesJFv/M2zFkWGMj5iJHy2Bqvp4j6oTgrFsvU=; b=SH1xmGKld7T/DymEW99y2ABopS/DLdISKhiBBISktk0xor5sBLrI2qbOrM6scthvhN 7iMiECs/0NN624+ccamI/h0J1p0s/RSWPy+iZo/nnk3q/ZLLYTj8arQ/42Q7C0uGbMNL jK/TVGCVK5zf+AotI4ublNmwB2yCoHflu2hwphaQbo22IkTw6fc1hYlNUIyY50MWEdf+ 54/imjF2zNdqRAi0Y/v7rx2TUJORu7P2+7o3hfPNpoKenljTjTdWmt+h8chgRfv2IcXO kEN353Elgde/b02U51CG2DGUmMv50HaPSzs+Bdm0QcihukrfXpotKyynrQQxTiC1GWqM Jnng== X-Gm-Message-State: AOJu0Yws4oN32DP4z6+deu8Qmr8+0sZoCsatikLGwDeBrzT+YbfOiw3b sbvbJ2igVal0nIeDazFVfRB5t3gMYZ6W0Vw/GcXdFi18pppXpnQRHnPJY/74sLCWPHK4rWMT1kD 79NqgAEuO/U/R+PFunD1QUWdALVATEi3lauehFB7ZGB0E X-Gm-Gg: ASbGncv21PFnmsY7UeExxedgHmv9DaE5QNFzLrEtX24/qDuV6F3O3+0ajfhhrdNwix8 Ed2MzeHqOGuOSMZkHJbbmu0WJjqKwz7AowNh/5w/ii/6c8CFpAo3y10/ZVx7b2wrZwwFnvH3qaU OpbXodfxt29B59gxM1UpmA/qLjI03HnRolXlooET0etKrZDgEc/LpHQ0vuENAdAn0wG1shGKkH/ VH4ZWLlYhC5o7fhRlKD6PDSTPfEIC74cUFehJjWqLzgUAgPLEStHcg1RNi1UvNcYbTNOxEayEmy Ukf3pgRm2LK5B9Dx1Uc/kyZ82Xk4w5aMVzaVoOGNj4ZF9ORlCnWdEmgHem1DGKlyc1gS2uRk X-Google-Smtp-Source: AGHT+IETnM3kHS4S8htffWkbQ6cD/H5zq1Y5jC50swYCD23R/DnJsQ51aNxHqNZCByXIWKTQKUAXCXppyGRY X-Received: by 2002:ac8:7f81:0:b0:4ab:7d96:bbca with SMTP id d75a77b69052e-4ab93d5d546mr156949081cf.24.1752866335363; Fri, 18 Jul 2025 12:18:55 -0700 (PDT) Received: from postal.iol.unh.edu (postal.iol.unh.edu. [132.177.123.84]) by smtp-relay.gmail.com with ESMTPS id d75a77b69052e-4abb4a686e0sm925501cf.21.2025.07.18.12.18.55 (version=TLS1_2 cipher=ECDHE-ECDSA-AES128-GCM-SHA256 bits=128/128); Fri, 18 Jul 2025 12:18:55 -0700 (PDT) X-Relaying-Domain: iol.unh.edu Date: Fri, 18 Jul 2025 12:18:55 -0700 (PDT) Message-ID: <687a9e1f.c80a0220.1bd023.4d81SMTPIN_ADDED_MISSING@mx.google.com> Received: from [172.21.0.7] (unknown [172.18.0.240]) by postal.iol.unh.edu (Postfix) with ESMTP id 155CA6051830; Fri, 18 Jul 2025 15:18:55 -0400 (EDT) Subject: |SUCCESS| pw155333-155334 [PATCH] [RFC,v3,2/2] dts: add PMD RSS test From: dpdklab@iol.unh.edu To: Test Report Cc: dpdk-test-reports@iol.unh.edu In-Reply-To: <20250718150404.200096-3-thomas.wilks@arm.com> References: <20250718150404.200096-3-thomas.wilks@arm.com> Content-Type: text/plain X-BeenThere: test-report@dpdk.org X-Mailman-Version: 2.1.29 Precedence: list List-Id: automatic DPDK test reports List-Unsubscribe: , List-Archive: List-Post: List-Help: List-Subscribe: , Errors-To: test-report-bounces@dpdk.org Test-Label: iol-abi-testing Test-Status: SUCCESS http://dpdk.org/patch/155334 _Testing PASS_ Submitter: Thomas Wilks Date: Friday, July 18 2025 15:04:01 DPDK git baseline: Repo:dpdk Branch: master CommitID:f8fb19d5e2fc20798ed0caa292a1538fbbd98f96 155333-155334 --> testing pass Upstream job id: Generic-DPDK-Compile-ABI#134806 Test environment and result as below: +-------------------------------+----------+ | Environment | abi_test | +===============================+==========+ | Ubuntu 24.04 | PASS | +-------------------------------+----------+ | CentOS Stream 10 | PASS | +-------------------------------+----------+ | CentOS Stream 9 | PASS | +-------------------------------+----------+ | Ubuntu 22.04 | PASS | +-------------------------------+----------+ | Fedora Linux 41 | PASS | +-------------------------------+----------+ | Red Hat Enterprise Linux 9.5 | PASS | +-------------------------------+----------+ | Debian GNU/Linux 12 | PASS | +-------------------------------+----------+ | Fedora Linux 40 | PASS | +-------------------------------+----------+ | Red Hat Enterprise Linux 8.10 | PASS | +-------------------------------+----------+ | openSUSE Leap 15.6 | PASS | +-------------------------------+----------+ Ubuntu 24.04 Kernel: 5.15 Compiler: gcc gcc (Ubuntu 13.3.0-6ubuntu2~24.04) 13.3.0 CentOS Stream 10 Kernel: 5.15 Compiler: gcc gcc (GCC) 14.2.1 20250110 (Red Hat 14.2.1-8) CentOS Stream 9 Kernel: 5.15 Compiler: gcc gcc (GCC) 11.5.0 20240719 (Red Hat 11.5.0-7) Ubuntu 22.04 Kernel: 5.15 Compiler: gcc gcc (Ubuntu 11.4.0-1ubuntu1~22.04) 11.4.0 Fedora Linux 41 Kernel: 5.15 Compiler: clang gcc (GCC) 14.3.1 20250523 (Red Hat 14.3.1-1) Red Hat Enterprise Linux 9.5 Kernel: 5.15 Compiler: gcc gcc (GCC) 11.5.0 20240719 (Red Hat 11.5.0-2) Debian GNU/Linux 12 Kernel: 5.15 Compiler: gcc gcc (Debian 12.2.0-14+deb12u1) 12.2.0 Fedora Linux 40 Kernel: 5.15 Compiler: clang gcc (GCC) 14.2.1 20240912 (Red Hat 14.2.1-3) Red Hat Enterprise Linux 8.10 Kernel: 5.15 Compiler: gcc gcc (GCC) 8.5.0 20210514 (Red Hat 8.5.0-22) openSUSE Leap 15.6 Kernel: 5.15 Compiler: gcc gcc (SUSE Linux) 7.5.0 To view detailed results, visit: https://lab.dpdk.org/results/dashboard/patchsets/33689/ UNH-IOL DPDK Community Lab To manage your email subscriptions, visit: https://lab.dpdk.org/results/dashboard/preferences/subscriptions/