From mboxrd@z Thu Jan 1 00:00:00 1970 Return-Path: Received: from mails.dpdk.org (mails.dpdk.org [217.70.189.124]) by inbox.dpdk.org (Postfix) with ESMTP id 64D7D46BAE for ; Fri, 18 Jul 2025 21:19:52 +0200 (CEST) Received: from mails.dpdk.org (localhost [127.0.0.1]) by mails.dpdk.org (Postfix) with ESMTP id 610C240611; Fri, 18 Jul 2025 21:19:52 +0200 (CEST) Received: from mail-oi1-f225.google.com (mail-oi1-f225.google.com [209.85.167.225]) by mails.dpdk.org (Postfix) with ESMTP id 1245A40611 for ; Fri, 18 Jul 2025 21:19:51 +0200 (CEST) Received: by mail-oi1-f225.google.com with SMTP id 5614622812f47-41b309ce7d5so743070b6e.0 for ; Fri, 18 Jul 2025 12:19:51 -0700 (PDT) DKIM-Signature: v=1; a=rsa-sha256; c=relaxed/relaxed; d=iol.unh.edu; s=unh-iol; t=1752866390; x=1753471190; darn=dpdk.org; h=references:in-reply-to:cc:to:from:subject:message-id:date:from:to :cc:subject:date:message-id:reply-to; bh=NZLTmbbmXH0nPDVlUmtXB913Eq68xMTLdsvpQD1UPOc=; b=J8khBU/byJR/NZS/me6zrsx3oPYXhuBqks6FckLGi0RCwvEdEmZcUEaWvWCEq+rbIS W8hw4/ujqtIwB6uPIpTV1zO1/UD6bWN2ucozCN4J4yNRZG59DaJ34zHHJ1MlYzLc5Q7C 55ZiQbx6eMvBATAl2vF4wbOkpJUWvnR++M5Ks= X-Google-DKIM-Signature: v=1; a=rsa-sha256; c=relaxed/relaxed; d=1e100.net; s=20230601; t=1752866390; x=1753471190; h=references:in-reply-to:cc:to:from:subject:message-id:date :x-gm-message-state:from:to:cc:subject:date:message-id:reply-to; bh=NZLTmbbmXH0nPDVlUmtXB913Eq68xMTLdsvpQD1UPOc=; b=EuVcFw/Kg900GS6skBpXsqd/G6xHAAEFL0CUQaeoA8Gowah8YFGmRnlyDCC6mw1HPW 1vrFpK/KrBh0854/3Wg+zieX3gucSF2tJzYFow85O89b0YuQl6wA4CPBcw/JuE6h30ca +9JyGxvI4gidqk1vFPDSlUktmx95erMEa9GvAH7IXWe/31vt4PrLT3FkcSBrh8u8E0wl cju+XIB6vPyYSvKFfIz8Z/CrvtYD7CUfHDITWDK/Wz5f4IdMvkjGHRREUZW1Ddvzw1M3 Jb+TCOg4VCj5wvEw0px0Nt59dXNx3lStzuqjH0lwcFdSdAhQWEexBUHA83KJNTBkkldY /xpA== X-Gm-Message-State: AOJu0YxzZYuJVsyI730xTMNhbmo/QMo+tk3Qdk7Rc8un3lzYtAs3cSPn Ryy68bC5j4+CqAlnpgCsVfxeKFUJSAX0yN3Y2veHi6ZcX9sXrDOe/dnxIdTIuXw7Hg5YWsTAGl1 NCK/nQJT/oZRy/S4b7n+ZOI0yba4XLtq6sIVzo+L8/YCS X-Gm-Gg: ASbGncsJ1Ywsffq7Du7ansBUXlQocwWjbSMrQso3peWz/JEeb3rmAjDK1XDMgup00xf hMNlTSbHqYmLoCv8E1t85KxMdCoTPrdQei+V7dgDyzWc2LnP8F5Riv5FdQHGU2W0vsDnaU+p9I6 MtFr7YUC8h0QCi/0XPNaAAU0/1L/Andq1QkIee+sc4Cyxo6VMWlOic1FNiuzT1wvo7Q68UPDyQE pE6vdwnles6VGrEqKCWSrqIoAOynuho+Xf2+u0mGZZF4tehqtVQ68nTMUVGjmKffXaDkF1nqbkY lFYhu5OexZLiNs98+JpvdQdWMzNQ0pmgRmO8e1beIDCUKnWyekQu5vVxHS1V+eEn9q7AjnwO X-Google-Smtp-Source: AGHT+IF+QItX16OhJ82JpHDeZpUoBzn4lyPegBo55ZuIKNVPyj0VNI3mZWbzUsNxu47OYjrNTeWOga7/QkD/ X-Received: by 2002:a05:6808:250a:b0:404:b5c6:46f3 with SMTP id 5614622812f47-41d04996bd5mr8446289b6e.21.1752866390201; Fri, 18 Jul 2025 12:19:50 -0700 (PDT) Received: from postal.iol.unh.edu (postal.iol.unh.edu. [132.177.123.84]) by smtp-relay.gmail.com with ESMTPS id 006d021491bc7-615bcc6e7dcsm76886eaf.11.2025.07.18.12.19.50 (version=TLS1_2 cipher=ECDHE-ECDSA-AES128-GCM-SHA256 bits=128/128); Fri, 18 Jul 2025 12:19:50 -0700 (PDT) X-Relaying-Domain: iol.unh.edu Date: Fri, 18 Jul 2025 12:19:50 -0700 (PDT) Message-ID: <687a9e56.050a0220.21a4c6.3f54SMTPIN_ADDED_MISSING@mx.google.com> Received: from [172.21.0.5] (unknown [172.18.0.240]) by postal.iol.unh.edu (Postfix) with ESMTP id B4BBC6051830; Fri, 18 Jul 2025 15:19:49 -0400 (EDT) Subject: |SUCCESS| pw155333-155334 [PATCH] [RFC,v3,2/2] dts: add PMD RSS test From: dpdklab@iol.unh.edu To: Test Report Cc: dpdk-test-reports@iol.unh.edu In-Reply-To: <20250718150404.200096-3-thomas.wilks@arm.com> References: <20250718150404.200096-3-thomas.wilks@arm.com> Content-Type: text/plain X-BeenThere: test-report@dpdk.org X-Mailman-Version: 2.1.29 Precedence: list List-Id: automatic DPDK test reports List-Unsubscribe: , List-Archive: List-Post: List-Help: List-Subscribe: , Errors-To: test-report-bounces@dpdk.org Test-Label: iol-abi-testing Test-Status: SUCCESS http://dpdk.org/patch/155334 _Testing PASS_ Submitter: Thomas Wilks Date: Friday, July 18 2025 15:04:01 DPDK git baseline: Repo:dpdk Branch: master CommitID:f8fb19d5e2fc20798ed0caa292a1538fbbd98f96 155333-155334 --> testing pass Upstream job id: Generic-DPDK-Compile-ABI#134804 Test environment and result as below: +-------------------------------+----------+ | Environment | abi_test | +===============================+==========+ | Ubuntu 24.04 | PASS | +-------------------------------+----------+ | CentOS Stream 10 | PASS | +-------------------------------+----------+ | CentOS Stream 9 | PASS | +-------------------------------+----------+ | Ubuntu 22.04 | PASS | +-------------------------------+----------+ | Fedora Linux 41 | PASS | +-------------------------------+----------+ | Red Hat Enterprise Linux 9.5 | PASS | +-------------------------------+----------+ | Debian GNU/Linux 12 | PASS | +-------------------------------+----------+ | Fedora Linux 40 | PASS | +-------------------------------+----------+ | Red Hat Enterprise Linux 8.10 | PASS | +-------------------------------+----------+ | openSUSE Leap 15.6 | PASS | +-------------------------------+----------+ Ubuntu 24.04 Kernel: 5.15 Compiler: gcc gcc (Ubuntu 13.3.0-6ubuntu2~24.04) 13.3.0 CentOS Stream 10 Kernel: 5.15 Compiler: gcc gcc (GCC) 14.2.1 20250110 (Red Hat 14.2.1-8) CentOS Stream 9 Kernel: 5.15 Compiler: gcc gcc (GCC) 11.5.0 20240719 (Red Hat 11.5.0-7) Ubuntu 22.04 Kernel: 5.15 Compiler: gcc gcc (Ubuntu 11.4.0-1ubuntu1~22.04) 11.4.0 Fedora Linux 41 Kernel: 5.15 Compiler: clang gcc (GCC) 14.3.1 20250523 (Red Hat 14.3.1-1) Red Hat Enterprise Linux 9.5 Kernel: 5.15 Compiler: gcc gcc (GCC) 11.5.0 20240719 (Red Hat 11.5.0-2) Debian GNU/Linux 12 Kernel: 5.15 Compiler: gcc gcc (Debian 12.2.0-14+deb12u1) 12.2.0 Fedora Linux 40 Kernel: 5.15 Compiler: clang gcc (GCC) 14.2.1 20240912 (Red Hat 14.2.1-3) Red Hat Enterprise Linux 8.10 Kernel: 5.15 Compiler: gcc gcc (GCC) 8.5.0 20210514 (Red Hat 8.5.0-22) openSUSE Leap 15.6 Kernel: 5.15 Compiler: gcc gcc (SUSE Linux) 7.5.0 To view detailed results, visit: https://lab.dpdk.org/results/dashboard/patchsets/33689/ UNH-IOL DPDK Community Lab To manage your email subscriptions, visit: https://lab.dpdk.org/results/dashboard/preferences/subscriptions/