From mboxrd@z Thu Jan 1 00:00:00 1970 Return-Path: Received: from mails.dpdk.org (mails.dpdk.org [217.70.189.124]) by inbox.dpdk.org (Postfix) with ESMTP id E7B0A46BAE for ; Fri, 18 Jul 2025 21:31:16 +0200 (CEST) Received: from mails.dpdk.org (localhost [127.0.0.1]) by mails.dpdk.org (Postfix) with ESMTP id D242D40611; Fri, 18 Jul 2025 21:31:16 +0200 (CEST) Received: from mail-pl1-f225.google.com (mail-pl1-f225.google.com [209.85.214.225]) by mails.dpdk.org (Postfix) with ESMTP id 6684840611 for ; Fri, 18 Jul 2025 21:31:15 +0200 (CEST) Received: by mail-pl1-f225.google.com with SMTP id d9443c01a7336-236377f00a1so21758375ad.3 for ; Fri, 18 Jul 2025 12:31:15 -0700 (PDT) DKIM-Signature: v=1; a=rsa-sha256; c=relaxed/relaxed; d=iol.unh.edu; s=unh-iol; t=1752867074; x=1753471874; darn=dpdk.org; h=references:in-reply-to:cc:to:from:subject:message-id:date:from:to :cc:subject:date:message-id:reply-to; bh=OQ9bnOoVN0al2b/lebOkJFZvvQ1cQKwGrK475W0H7TA=; b=NGLoXJVsDtNbGYfJ8+Yxq9BzHf2/uF2Mq4Oq05EF0b1EeCNSs8Fpg8Rrx8+5PG2vYX u7vQoBZE/sPiJ5K/J0fmHTRjC4Ws4f+m/6jIyo4Y1+FHpvdxhusgJFlikX/ZSAXyO+PM 6eWej6TvRraEFKgBsK/ZULrN5EAaSltNSxb8Q= X-Google-DKIM-Signature: v=1; a=rsa-sha256; c=relaxed/relaxed; d=1e100.net; s=20230601; t=1752867074; x=1753471874; h=references:in-reply-to:cc:to:from:subject:message-id:date :x-gm-message-state:from:to:cc:subject:date:message-id:reply-to; bh=OQ9bnOoVN0al2b/lebOkJFZvvQ1cQKwGrK475W0H7TA=; b=n+cLq24zvjMfNMhZ8Pv/0u788ZgamTMB0L6tHHLq28yMYwaYkH42S1B9cz4W3K+KpK dugIRUStadIowibM1MF5bBtLuWT48Cz+qlN/NPjR9DUqGoRSo/EcZmT1UwfHv7M/G7aV 3TXKTWKS/fGePUWq6T6q7wx18iat4wTEYi7CmY7TfYP3wF2zHA58ZHf5n2JAmINRpnnN Z86yxrQNzNcY7DY1pS8tp2svvb/7pDxrTdZr1L3Ipbz7f4IG1YeMlk4mY2lPAe43WgPU bIP79acaIu/IHvYyn9Jk1S9J2DC0lSm9Lvk5YYxVJvyvDuVF3j/gDovH4htpVMh/76s2 D8Hw== X-Gm-Message-State: AOJu0Yz3KMurfx2EeYk8vz+0iJnQ3D8UVcdrdgtDOmJ5jmOzqXgIyoEk /qS6+nZGdyEc97wGcDC21lZ5yvtTuhjOK42nHQjXFmkpvsGqCD+YoDdNQqoOh2uQvf8bGVavm8l JWEsMZ6bso4Jx9xJVA3Qbv7xXWMotlSQPwutrgQ8nLEcP X-Gm-Gg: ASbGncsicPVih6h2kPm30WVLaBLc8yuxgn0LNLXpVdMek42ijF631ug7oJPGH2ojSuR kLO4xsur8n4dTDOyY9gcPkY5ROF9sHPyOi4PnDvU9V6s5aE7+yENO0BMnQnSnjsnWJiXQbBzJuh 1N/WXsonNGkYjs+Xncp5jQEvHN3fBt2DrHjLaIJfhbuQTxB+Fu7KDUly3TpEfd691Bbwfo29Hdl s2gvptB6yZ+PpFKKtrMpEUA5ksWAOf37FH8Ey6ktoqbvIM5qgiuGZQy3mFSoV8gjgCxcGjjjg92 iIwLU3oMACvSYeN/5TxhWKlIMUqJmj1VHsndh5JtTsEaPkGVIhukCF75Mkx6kXoHZ645QKMh X-Google-Smtp-Source: AGHT+IG9tOqF/UHh7XMM7mAdNKoytyJPGRv8rylBg5pT8Qg2eI7+s7vgj8i6Ql6AorHkKNS4j7UlaN6hdxGa X-Received: by 2002:a17:903:41c3:b0:235:eb8d:7fff with SMTP id d9443c01a7336-23e24f4aab3mr175103945ad.28.1752867074470; Fri, 18 Jul 2025 12:31:14 -0700 (PDT) Received: from postal.iol.unh.edu (postal.iol.unh.edu. [132.177.123.84]) by smtp-relay.gmail.com with ESMTPS id d9443c01a7336-23e3b6f02e4sm1188915ad.100.2025.07.18.12.31.14 (version=TLS1_2 cipher=ECDHE-ECDSA-AES128-GCM-SHA256 bits=128/128); Fri, 18 Jul 2025 12:31:14 -0700 (PDT) X-Relaying-Domain: iol.unh.edu Date: Fri, 18 Jul 2025 12:31:14 -0700 (PDT) Message-ID: <687aa102.170a0220.ba61b.6b5bSMTPIN_ADDED_MISSING@mx.google.com> Received: from [172.21.0.2] (unknown [172.18.0.240]) by postal.iol.unh.edu (Postfix) with ESMTP id E96456050A61; Fri, 18 Jul 2025 15:31:13 -0400 (EDT) Subject: |SUCCESS| pw155333-155334 [PATCH] [RFC,v3,2/2] dts: add PMD RSS test From: dpdklab@iol.unh.edu To: Test Report Cc: dpdk-test-reports@iol.unh.edu In-Reply-To: <20250718150404.200096-3-thomas.wilks@arm.com> References: <20250718150404.200096-3-thomas.wilks@arm.com> Content-Type: text/plain X-BeenThere: test-report@dpdk.org X-Mailman-Version: 2.1.29 Precedence: list List-Id: automatic DPDK test reports List-Unsubscribe: , List-Archive: List-Post: List-Help: List-Subscribe: , Errors-To: test-report-bounces@dpdk.org Test-Label: iol-unit-arm64-testing Test-Status: SUCCESS http://dpdk.org/patch/155334 _Testing PASS_ Submitter: Thomas Wilks Date: Friday, July 18 2025 15:04:01 DPDK git baseline: Repo:dpdk Branch: master CommitID:f8fb19d5e2fc20798ed0caa292a1538fbbd98f96 155333-155334 --> testing pass Upstream job id: Generic-Unit-Test-DPDK#356303 Test environment and result as below: +------------------------------+--------------+------------------------------+----------------+---------------------------+ | Environment | lpm_autotest | cryptodev_sw_snow3g_autotest | dpdk_unit_test | cryptodev_sw_zuc_autotest | +==============================+==============+==============================+================+===========================+ | Ubuntu 20.04 | PASS | SKIPPED | PASS | SKIPPED | +------------------------------+--------------+------------------------------+----------------+---------------------------+ | Debian 12 (arm) | SKIPPED | PASS | SKIPPED | PASS | +------------------------------+--------------+------------------------------+----------------+---------------------------+ | CentOS Stream 9 | SKIPPED | SKIPPED | PASS | SKIPPED | +------------------------------+--------------+------------------------------+----------------+---------------------------+ | CentOS Stream 10 | SKIPPED | SKIPPED | PASS | SKIPPED | +------------------------------+--------------+------------------------------+----------------+---------------------------+ | Debian GNU/Linux 12 | SKIPPED | SKIPPED | PASS | SKIPPED | +------------------------------+--------------+------------------------------+----------------+---------------------------+ | Fedora Linux 40 | SKIPPED | SKIPPED | PASS | SKIPPED | +------------------------------+--------------+------------------------------+----------------+---------------------------+ | Fedora Linux 41 | SKIPPED | SKIPPED | PASS | SKIPPED | +------------------------------+--------------+------------------------------+----------------+---------------------------+ | Red Hat Enterprise Linux 9.5 | SKIPPED | SKIPPED | PASS | SKIPPED | +------------------------------+--------------+------------------------------+----------------+---------------------------+ | Ubuntu 22.04 | SKIPPED | SKIPPED | PASS | SKIPPED | +------------------------------+--------------+------------------------------+----------------+---------------------------+ | Ubuntu 24.04 | SKIPPED | SKIPPED | PASS | SKIPPED | +------------------------------+--------------+------------------------------+----------------+---------------------------+ Ubuntu 20.04 Kernel: 5.4 Compiler: gcc gcc (Ubuntu 9.4.0-1ubuntu1~20.04.2) 9.4.0 Debian 12 (arm) Kernel: Depends on container host Compiler: gcc (Debian 12.2.0-14) 12.2.0 CentOS Stream 9 Kernel: 5.4 Compiler: gcc gcc (GCC) 11.5.0 20240719 (Red Hat 11.5.0-7) CentOS Stream 10 Kernel: 5.4 Compiler: gcc gcc (GCC) 14.2.1 20250110 (Red Hat 14.2.1-8) Debian GNU/Linux 12 Kernel: 5.4 Compiler: gcc gcc (Debian 12.2.0-14+deb12u1) 12.2.0 Fedora Linux 40 Kernel: 5.4 Compiler: gcc gcc (GCC) 14.2.1 20240912 (Red Hat 14.2.1-3) Fedora Linux 41 Kernel: 5.4 Compiler: gcc gcc (GCC) 14.3.1 20250523 (Red Hat 14.3.1-1) Red Hat Enterprise Linux 9.5 Kernel: 5.4 Compiler: gcc gcc (GCC) 11.5.0 20240719 (Red Hat 11.5.0-2) Ubuntu 22.04 Kernel: 5.4 Compiler: gcc gcc (Ubuntu 11.4.0-1ubuntu1~22.04) 11.4.0 Ubuntu 24.04 Kernel: 5.4 Compiler: gcc gcc (Ubuntu 13.3.0-6ubuntu2~24.04) 13.3.0 To view detailed results, visit: https://lab.dpdk.org/results/dashboard/patchsets/33689/ UNH-IOL DPDK Community Lab To manage your email subscriptions, visit: https://lab.dpdk.org/results/dashboard/preferences/subscriptions/