From mboxrd@z Thu Jan 1 00:00:00 1970 Return-Path: Received: from mails.dpdk.org (mails.dpdk.org [217.70.189.124]) by inbox.dpdk.org (Postfix) with ESMTP id 79A5746BAE for ; Fri, 18 Jul 2025 21:39:10 +0200 (CEST) Received: from mails.dpdk.org (localhost [127.0.0.1]) by mails.dpdk.org (Postfix) with ESMTP id 75D3E40611; Fri, 18 Jul 2025 21:39:10 +0200 (CEST) Received: from mail-io1-f100.google.com (mail-io1-f100.google.com [209.85.166.100]) by mails.dpdk.org (Postfix) with ESMTP id C5AC340E35 for ; Fri, 18 Jul 2025 21:39:09 +0200 (CEST) Received: by mail-io1-f100.google.com with SMTP id ca18e2360f4ac-87c11fd5364so40904139f.1 for ; Fri, 18 Jul 2025 12:39:09 -0700 (PDT) DKIM-Signature: v=1; a=rsa-sha256; c=relaxed/relaxed; d=iol.unh.edu; s=unh-iol; t=1752867549; x=1753472349; darn=dpdk.org; h=references:in-reply-to:cc:to:from:subject:message-id:date:from:to :cc:subject:date:message-id:reply-to; bh=m+iOcbH4wfHxUelhpdIilq38w4KGBp52LDRDpcgEXUs=; b=OO9Fs/FOEmZsm01+FTXcj8/YZCVkHPgFcmQ0psYVJvcKzBUxqF7di2H3qk+mvoxzya /ljrlQVnADakaKX3422EyQVNbeYtRkU/EDCtQsIAXV1Pk37mZfzncl9is7mGdrMxpvLH ynDdF39BVv3lkBLG7j9QIT99BPeUCbyyQfdow= X-Google-DKIM-Signature: v=1; a=rsa-sha256; c=relaxed/relaxed; d=1e100.net; s=20230601; t=1752867549; x=1753472349; h=references:in-reply-to:cc:to:from:subject:message-id:date :x-gm-message-state:from:to:cc:subject:date:message-id:reply-to; bh=m+iOcbH4wfHxUelhpdIilq38w4KGBp52LDRDpcgEXUs=; b=QrVf6C5dBvEPMGwqF/kU1p/8VHAWeejY+NmXLUb+WJdzHUF4C6wL+97oFv120gcgr4 co+VlgC74gtzX31CzWHMfCKhOeNzpgF0FXsMaBs0GVrAgItgUnsXrer53hbigoPOwBI0 ElmPSz66Fj0bSbCotIJAgLP2ewhW/NL3xaxvBGTqKbqMI0qSCvg+0BCJc0Tb0rbYR1tJ SHlCwu2n9CkJOr1K8AZ3d3YJ87yRvUW4IYUr5DkzOQmu1W3u5a5dNlbHr1LzhzwR7a7K BEUp0DYFJX9h4dkZci1tFyB36A66qK5ZbnADxD2LoU04YG6sD3Pj6EOvXfIfPIEFfgHb ZQJQ== X-Gm-Message-State: AOJu0Yw0hNigZeYn1QCTu6nz8sm78LgxYAsgwiBit1z/8LK9/GTkPvul W403V/Mc85DtHYUCgyzztw3m6W/o2kb3cfblM8dP/Yl9V93viNxLAouVOa2UeX/GQjBCd0np3js Axax5Oh3bHrgm5LyyTY4ga2hiUmXaY2gb7NR6kR9nuJfo2a6Nj5W8qr8ziqQd X-Gm-Gg: ASbGncvcKu/4STx4umKLury5tXI+8XRhoqGyrbWmt9SlycPors+VkY3t+FsftQewCYz GnmVVcRKjqi5OnzBhVc+faSZoutIr/7YL4W98B5o3fIbi4GgY9fkCUo4+uraYcuPLfl4gekThd7 kfTNK4SIba7xkXjskaHBaz4kLfv/LXEiulXOJ7xYVHhKGIXESlWcT8771hzFoDWRWUs+eCDmf1y 35MehFhfyMkMdq4+/6dYb8ixwz7BpJ8l4YuU80L1sSI1c8pByw9CRYlczL3OFkIB+mDspm2CI39 fAUgVqMBzANL1FVQWEqI/3YClOjdZbNL+qOgTpVXVhdy/pDcOA== X-Google-Smtp-Source: AGHT+IF+YIY6JlwyO0QpOwvmjFp7PXjnl8mIMf/gt8Br44pHvkkyUivSNgHtcAtighWEGv6VVP1dGej7Pd+f X-Received: by 2002:a05:6602:1490:b0:87c:1237:cef7 with SMTP id ca18e2360f4ac-87c1237d278mr445836539f.13.1752867548945; Fri, 18 Jul 2025 12:39:08 -0700 (PDT) Received: from postal.iol.unh.edu (postal.iol.unh.edu. [2606:4100:3880:1234::84]) by smtp-relay.gmail.com with ESMTPS id ca18e2360f4ac-87c0e77258dsm10990939f.28.2025.07.18.12.39.08 (version=TLS1_2 cipher=ECDHE-ECDSA-AES128-GCM-SHA256 bits=128/128); Fri, 18 Jul 2025 12:39:08 -0700 (PDT) X-Relaying-Domain: iol.unh.edu Date: Fri, 18 Jul 2025 12:39:08 -0700 (PDT) Message-ID: <687aa2dc.050a0220.5dd7.78b4SMTPIN_ADDED_MISSING@mx.google.com> Received: from [172.21.0.2] (unknown [172.18.0.240]) by postal.iol.unh.edu (Postfix) with ESMTP id 807AC6050A61; Fri, 18 Jul 2025 15:39:08 -0400 (EDT) Subject: |SUCCESS| pw155335 [PATCH] [v2] net/intel: fix assumption about tag From: dpdklab@iol.unh.edu To: Test Report Cc: dpdk-test-reports@iol.unh.edu In-Reply-To: <20250718154312.1716432-1-bruce.richardson@intel.com> References: <20250718154312.1716432-1-bruce.richardson@intel.com> Content-Type: text/plain X-BeenThere: test-report@dpdk.org X-Mailman-Version: 2.1.29 Precedence: list List-Id: automatic DPDK test reports List-Unsubscribe: , List-Archive: List-Post: List-Help: List-Subscribe: , Errors-To: test-report-bounces@dpdk.org Test-Label: iol-unit-amd64-testing Test-Status: SUCCESS http://dpdk.org/patch/155335 _Testing PASS_ Submitter: Bruce Richardson Date: Friday, July 18 2025 15:43:12 DPDK git baseline: Repo:dpdk Branch: master CommitID:a6b10031d251fcc7dadede461f7e1d005024b139 155335 --> testing pass Upstream job id: Generic-VM-Unit-Test-DPDK#30021 Test environment and result as below: +-------------------------------+----------------+ | Environment | dpdk_unit_test | +===============================+================+ | CentOS Stream 10 | PASS | +-------------------------------+----------------+ | Debian GNU/Linux 12 | PASS | +-------------------------------+----------------+ | CentOS Stream 9 | PASS | +-------------------------------+----------------+ | Fedora Linux 41 | PASS | +-------------------------------+----------------+ | Fedora Linux 40 | PASS | +-------------------------------+----------------+ | Red Hat Enterprise Linux 8.10 | PASS | +-------------------------------+----------------+ | Red Hat Enterprise Linux 9.5 | PASS | +-------------------------------+----------------+ | Ubuntu 24.04 | PASS | +-------------------------------+----------------+ | Ubuntu 22.04 | PASS | +-------------------------------+----------------+ | Ubuntu 20.04 | PASS | +-------------------------------+----------------+ | Windows Server 2022 | PASS | +-------------------------------+----------------+ CentOS Stream 10 Kernel: 5.15 Compiler: gcc gcc (GCC) 14.2.1 20250110 (Red Hat 14.2.1-8) Debian GNU/Linux 12 Kernel: 5.15 Compiler: gcc gcc (Debian 12.2.0-14+deb12u1) 12.2.0 CentOS Stream 9 Kernel: 5.15 Compiler: gcc gcc (GCC) 11.5.0 20240719 (Red Hat 11.5.0-7) Fedora Linux 41 Kernel: 5.15 Compiler: gcc gcc (GCC) 14.3.1 20250523 (Red Hat 14.3.1-1) Fedora Linux 40 Kernel: 5.15 Compiler: gcc gcc (GCC) 14.2.1 20240912 (Red Hat 14.2.1-3) Red Hat Enterprise Linux 8.10 Kernel: 5.15 Compiler: gcc gcc (GCC) 8.5.0 20210514 (Red Hat 8.5.0-22) Red Hat Enterprise Linux 9.5 Kernel: 5.15 Compiler: gcc gcc (GCC) 11.5.0 20240719 (Red Hat 11.5.0-2) Ubuntu 24.04 Kernel: 5.15 Compiler: gcc gcc (Ubuntu 13.3.0-6ubuntu2~24.04) 13.3.0 Ubuntu 22.04 Kernel: 5.15 Compiler: gcc gcc (Ubuntu 11.4.0-1ubuntu1~22.04) 11.4.0 Ubuntu 20.04 Kernel: 5.15 Compiler: gcc gcc (Ubuntu 9.4.0-1ubuntu1~20.04.2) 9.4.0 Windows Server 2022 Kernel: 10.0.20348.2031 Compiler: clang 15.0.7, gcc 14.1.0 (MinGW), and MSVC VS 19.39.33521 To view detailed results, visit: https://lab.dpdk.org/results/dashboard/patchsets/33690/ UNH-IOL DPDK Community Lab To manage your email subscriptions, visit: https://lab.dpdk.org/results/dashboard/preferences/subscriptions/