From mboxrd@z Thu Jan 1 00:00:00 1970 Return-Path: Received: from mails.dpdk.org (mails.dpdk.org [217.70.189.124]) by inbox.dpdk.org (Postfix) with ESMTP id 8FC0546BAF for ; Fri, 18 Jul 2025 22:24:29 +0200 (CEST) Received: from mails.dpdk.org (localhost [127.0.0.1]) by mails.dpdk.org (Postfix) with ESMTP id 8AD8B40611; Fri, 18 Jul 2025 22:24:29 +0200 (CEST) Received: from mail-yw1-f226.google.com (mail-yw1-f226.google.com [209.85.128.226]) by mails.dpdk.org (Postfix) with ESMTP id 8C39040611 for ; Fri, 18 Jul 2025 22:24:28 +0200 (CEST) Received: by mail-yw1-f226.google.com with SMTP id 00721157ae682-714067ecea3so19593797b3.0 for ; Fri, 18 Jul 2025 13:24:28 -0700 (PDT) DKIM-Signature: v=1; a=rsa-sha256; c=relaxed/relaxed; d=iol.unh.edu; s=unh-iol; t=1752870268; x=1753475068; darn=dpdk.org; h=references:in-reply-to:cc:to:from:subject:message-id:date:from:to :cc:subject:date:message-id:reply-to; bh=gJMUw26YOtFZh7bhf7F5nj7E1E5b971PGpiE2fzMNGE=; b=D9ExkAVQgGu/EEvpas3Qohqq8K4Mx9W8+L+O1IyJ1WLTA6I4zMi6dtXIFSaUOWJbjF qsnRBf1Ep8OUq+9YlYV2Sa91japy2qMHfhmO0KGx2TRlMiFMrOTIEZGsRW3Jh7E/fdNE SU6GgWxsdSB5s2Z3C2BvQLc51d2bfaRrAi2B4= X-Google-DKIM-Signature: v=1; a=rsa-sha256; c=relaxed/relaxed; d=1e100.net; s=20230601; t=1752870268; x=1753475068; h=references:in-reply-to:cc:to:from:subject:message-id:date :x-gm-message-state:from:to:cc:subject:date:message-id:reply-to; bh=gJMUw26YOtFZh7bhf7F5nj7E1E5b971PGpiE2fzMNGE=; b=FR4NSPL1ifPuYG3EMQ2TLElDoox3iiIIeO0MJG5ItzsHN9C55hSoJpxc4ZMrkzt14k pi+KFO9RrakTvzWK1npm5gEXm7fotxX1brEkr4GU1Xo0YDG+QbDk1rKzfIaGoKTGOM1X Cy4hDfKqqiZtf4o64V30ohw8CDOP3utlHLxsrc3/z/2aCy8VMMzNpFzNcWzkK5DWoUqU gtvVYN/aMO8M4E52Qle+3ZUT1LRGtX8IPxH384GgThnOrgUx5v12pDAOnzgW1djYvw7F E+FAPyLgb7NOSbmYo1xqY2HeoW1o70I8GUf1bjPkvEJ+y7ZcH5ubEyGrZSxBarDKAcVe rKzQ== X-Gm-Message-State: AOJu0YyLCc0eyhR6sYP5ruOcubwH1CtdC17kDhb0BN/0bXNTu+7fJITn 83s+VfhRGThwbWK84icH/2z6jYyL4qSf6fjmGoOdQssKW6JAAdwHQ5jaddumnrKKF3Sd9/BZMyc pJqwv+60EWMkdxa/WNOhIHC5n7UReNLRpGS+IpH4zm4jT X-Gm-Gg: ASbGncvfySu4vcn1s7Z0/eKuVIMz/oEfJrkoE8mEiPiLCx8zGJfSkvrArMA2z0kNG2t 9WWeR/3+FbsXl1epg079bF89tx55YQQ695W8iU2LeW9KEmSQNyfq9/nlvesZ1g75wkSewJYuh3m /SW+n6ImVhRxV/2TM7FegVb0/xkCQx0+1Il2zoiwafNw55mgkSSRRH62r5APUAD0EHeHf0YINqq u+LBsq22MakVFueqpfUa3XsGMGSdVdepxbbhr/VkgFYlvyLF9tUvVKP+9sFiOYbTQNmxDdu6DxM yO/fH6ke59fG0LDwv6tcd/SHwMFIniZM7gqu+mxCgU2hDjTueVMmal+aEqsrNjBCOWdtcUs4 X-Google-Smtp-Source: AGHT+IE+lcPeBuV4xOYxBA8BhV4R4Gph8ZS4cQ5XPKlwjNqTNq+BTol2y2x6HMnqNraCsGR3FOyoOJtSLltQ X-Received: by 2002:a05:690c:490d:b0:70c:c013:f26 with SMTP id 00721157ae682-718374a07afmr158784497b3.33.1752870267557; Fri, 18 Jul 2025 13:24:27 -0700 (PDT) Received: from postal.iol.unh.edu (postal.iol.unh.edu. [132.177.123.84]) by smtp-relay.gmail.com with ESMTPS id 00721157ae682-7195330ef1fsm1133177b3.45.2025.07.18.13.24.27 (version=TLS1_2 cipher=ECDHE-ECDSA-AES128-GCM-SHA256 bits=128/128); Fri, 18 Jul 2025 13:24:27 -0700 (PDT) X-Relaying-Domain: iol.unh.edu Date: Fri, 18 Jul 2025 13:24:27 -0700 (PDT) Message-ID: <687aad7b.050a0220.260d93.5f2cSMTPIN_ADDED_MISSING@mx.google.com> Received: from [172.21.0.3] (unknown [172.18.0.240]) by postal.iol.unh.edu (Postfix) with ESMTP id 3A1E6604A958; Fri, 18 Jul 2025 16:24:27 -0400 (EDT) Subject: |SUCCESS| pw155335 [PATCH] [v2] net/intel: fix assumption about tag From: dpdklab@iol.unh.edu To: Test Report Cc: dpdk-test-reports@iol.unh.edu In-Reply-To: <20250718154312.1716432-1-bruce.richardson@intel.com> References: <20250718154312.1716432-1-bruce.richardson@intel.com> Content-Type: text/plain X-BeenThere: test-report@dpdk.org X-Mailman-Version: 2.1.29 Precedence: list List-Id: automatic DPDK test reports List-Unsubscribe: , List-Archive: List-Post: List-Help: List-Subscribe: , Errors-To: test-report-bounces@dpdk.org Test-Label: iol-unit-arm64-testing Test-Status: SUCCESS http://dpdk.org/patch/155335 _Testing PASS_ Submitter: Bruce Richardson Date: Friday, July 18 2025 15:43:12 DPDK git baseline: Repo:dpdk Branch: master CommitID:a6b10031d251fcc7dadede461f7e1d005024b139 155335 --> testing pass Upstream job id: Generic-Unit-Test-DPDK#356326 Test environment and result as below: +------------------------------+----------------+ | Environment | dpdk_unit_test | +==============================+================+ | CentOS Stream 9 | PASS | +------------------------------+----------------+ | CentOS Stream 10 | PASS | +------------------------------+----------------+ | Fedora Linux 41 | PASS | +------------------------------+----------------+ | Debian GNU/Linux 12 | PASS | +------------------------------+----------------+ | Fedora Linux 40 | PASS | +------------------------------+----------------+ | Ubuntu 20.04 | PASS | +------------------------------+----------------+ | Ubuntu 22.04 | PASS | +------------------------------+----------------+ | Red Hat Enterprise Linux 9.5 | PASS | +------------------------------+----------------+ | Ubuntu 24.04 | PASS | +------------------------------+----------------+ CentOS Stream 9 Kernel: 5.4 Compiler: gcc gcc (GCC) 11.5.0 20240719 (Red Hat 11.5.0-7) CentOS Stream 10 Kernel: 5.4 Compiler: gcc gcc (GCC) 14.2.1 20250110 (Red Hat 14.2.1-8) Fedora Linux 41 Kernel: 5.4 Compiler: gcc gcc (GCC) 14.3.1 20250523 (Red Hat 14.3.1-1) Debian GNU/Linux 12 Kernel: 5.4 Compiler: gcc gcc (Debian 12.2.0-14+deb12u1) 12.2.0 Fedora Linux 40 Kernel: 5.4 Compiler: gcc gcc (GCC) 14.2.1 20240912 (Red Hat 14.2.1-3) Ubuntu 20.04 Kernel: 5.4 Compiler: gcc gcc (Ubuntu 9.4.0-1ubuntu1~20.04.2) 9.4.0 Ubuntu 22.04 Kernel: 5.4 Compiler: gcc gcc (Ubuntu 11.4.0-1ubuntu1~22.04) 11.4.0 Red Hat Enterprise Linux 9.5 Kernel: 5.4 Compiler: gcc gcc (GCC) 11.5.0 20240719 (Red Hat 11.5.0-2) Ubuntu 24.04 Kernel: 5.4 Compiler: gcc gcc (Ubuntu 13.3.0-6ubuntu2~24.04) 13.3.0 To view detailed results, visit: https://lab.dpdk.org/results/dashboard/patchsets/33690/ UNH-IOL DPDK Community Lab To manage your email subscriptions, visit: https://lab.dpdk.org/results/dashboard/preferences/subscriptions/