From mboxrd@z Thu Jan 1 00:00:00 1970 Return-Path: Received: from mails.dpdk.org (mails.dpdk.org [217.70.189.124]) by inbox.dpdk.org (Postfix) with ESMTP id 3230046BAF for ; Fri, 18 Jul 2025 22:40:59 +0200 (CEST) Received: from mails.dpdk.org (localhost [127.0.0.1]) by mails.dpdk.org (Postfix) with ESMTP id 0C82D40611; Fri, 18 Jul 2025 22:40:59 +0200 (CEST) Received: from mail-yb1-f226.google.com (mail-yb1-f226.google.com [209.85.219.226]) by mails.dpdk.org (Postfix) with ESMTP id 5290640611 for ; Fri, 18 Jul 2025 22:40:57 +0200 (CEST) Received: by mail-yb1-f226.google.com with SMTP id 3f1490d57ef6-e8d70c65a0aso1521125276.0 for ; Fri, 18 Jul 2025 13:40:57 -0700 (PDT) DKIM-Signature: v=1; a=rsa-sha256; c=relaxed/relaxed; d=iol.unh.edu; s=unh-iol; t=1752871256; x=1753476056; darn=dpdk.org; h=references:in-reply-to:cc:to:from:subject:message-id:date:from:to :cc:subject:date:message-id:reply-to; bh=PhipaZcS3btiho+ySVBJmHyN9V6LPZuAyn7XVroXkrU=; b=HeRb6ixcqqZVUKIj18WYZItAKcnNi2UFe3ecMZ1KnWIcI2bwMSw5IFSYbmTTKgH1Gg RTUNhzEN2Bfklm/N4DoPUWxH1DiO5nIg03C55hWJzm+7MLhqvQTSATeH9+8J9l72nn37 q+T5+S3pIKSpQSNfKwHXRHVz+XCCzzN7qpWcY= X-Google-DKIM-Signature: v=1; a=rsa-sha256; c=relaxed/relaxed; d=1e100.net; s=20230601; t=1752871256; x=1753476056; h=references:in-reply-to:cc:to:from:subject:message-id:date :x-gm-message-state:from:to:cc:subject:date:message-id:reply-to; bh=PhipaZcS3btiho+ySVBJmHyN9V6LPZuAyn7XVroXkrU=; b=kvEhVqsjAHgHQFAl7cVGLSNvXsAJPWG1DQMPWgEWhoLjtdtUiNK2RrP6O3B+fYTGh4 6UkDCR5raRrC4vp/v9v+3wBSKoxb4z7gukIpDHWWwJaRMLb8CrA81mKsWYs54vhK4m1P jOf5pkhpzCpxgL3KGTBAwzpqE9MRYWn3kviz1FcdxctSCkpFCcaQ9Kc8ozu0JZ6UxGxB IWjAtfy8Zb8shztBtscrH0T/YDPsI40C0ktL5DtPyHIxlhlmLa90M1BHg3ymXXQbwroh oRGPO9902ZisK1ghByEKqNAVlzxkGtBC80cc1X+s0JTalNTF/lx0UXT+bEuvSEyiNsIh tbBA== X-Gm-Message-State: AOJu0YxSg3yOqveobAOxqfkanGoa0Iy0VFg7s8Gn1BZNXT+NvWAxHUJv WPOvgRWIzl6QrQ30Q9UpMMHViR4ZMJcp+PIssl8BYk6D8/XJmw5EylP/DJBay9DIuGvgv7MCNVH pCT4+y0cm8QhKy7/OU4sUfslLtVHqQ1xJNxtlDc1lz9Ig X-Gm-Gg: ASbGncuKMetRP+vtebdhc54CoL1T7YXw97Q7UKwfbY91FHgc4/zYjtURGcYxNOAHD43 attTfu7xX44PVHePgSwk3EbK3opiqTN67iWSmelRKCR5RzuH6PZMLcdmmbx+CAuDPMpgBR2Q6be MffzmAi72SK2tVaT9xxsBMSsCljFpxDrrtrUhdIG1XEEsNFBTLz++jL43YxI/0wGeT9B0cc4wWC VbgRdBSbOkIkGyEvWHv0XHRhWNPHuUEMONpS8qbly3dl2Pt+C6BSgLamfxhITDU6Z6iM3dzVz/x /j6tr9zLpUzaZyC9l+RQPjrfVO/UidibdWKR2f+Vo0r6JD9vZyyrPYagE//iOVEeUsSylU3a X-Google-Smtp-Source: AGHT+IGN8qltU/BVkcsbmQOZZrQA4jpiwUhZSLRnZN/6OBeOUrL2AJyAuNT26qvDn/z73yNFxNxQge0r4hxG X-Received: by 2002:a05:6902:70e:b0:e8b:c3bf:ff92 with SMTP id 3f1490d57ef6-e8bc3c005f5mr13514955276.30.1752871256512; Fri, 18 Jul 2025 13:40:56 -0700 (PDT) Received: from postal.iol.unh.edu (postal.iol.unh.edu. [132.177.123.84]) by smtp-relay.gmail.com with ESMTPS id 3f1490d57ef6-e8d816d0d74sm98454276.28.2025.07.18.13.40.56 (version=TLS1_2 cipher=ECDHE-ECDSA-AES128-GCM-SHA256 bits=128/128); Fri, 18 Jul 2025 13:40:56 -0700 (PDT) X-Relaying-Domain: iol.unh.edu Date: Fri, 18 Jul 2025 13:40:56 -0700 (PDT) Message-ID: <687ab158.050a0220.14fdfe.52d6SMTPIN_ADDED_MISSING@mx.google.com> Received: from [172.21.0.2] (unknown [172.18.0.240]) by postal.iol.unh.edu (Postfix) with ESMTP id D7F3C604A958; Fri, 18 Jul 2025 16:40:55 -0400 (EDT) Subject: |SUCCESS| pw155333-155334 [PATCH] [RFC,v3,2/2] dts: add PMD RSS test From: dpdklab@iol.unh.edu To: Test Report Cc: dpdk-test-reports@iol.unh.edu In-Reply-To: <20250718150404.200096-3-thomas.wilks@arm.com> References: <20250718150404.200096-3-thomas.wilks@arm.com> Content-Type: text/plain X-BeenThere: test-report@dpdk.org X-Mailman-Version: 2.1.29 Precedence: list List-Id: automatic DPDK test reports List-Unsubscribe: , List-Archive: List-Post: List-Help: List-Subscribe: , Errors-To: test-report-bounces@dpdk.org Test-Label: iol-compile-amd64-testing Test-Status: SUCCESS http://dpdk.org/patch/155334 _Testing PASS_ Submitter: Thomas Wilks Date: Friday, July 18 2025 15:04:01 DPDK git baseline: Repo:dpdk Branch: master CommitID:f8fb19d5e2fc20798ed0caa292a1538fbbd98f96 155333-155334 --> testing pass Upstream job id: Generic-DPDK-Compile-Meson#409814 Test environment and result as below: +-------------------------------+--------------------+-------------------+------------------+-------------------+-------------------------+----------------------+ | Environment | dpdk_meson_compile | dpdk_compile_spdk | dpdk_compile_ovs | dpdk_msvc_compile | dpdk_llvm_clang_compile | dpdk_mingw64_compile | +===============================+====================+===================+==================+===================+=========================+======================+ | CentOS Stream 9 | PASS | PASS | SKIPPED | SKIPPED | SKIPPED | SKIPPED | +-------------------------------+--------------------+-------------------+------------------+-------------------+-------------------------+----------------------+ | CentOS Stream 10 | PASS | SKIPPED | SKIPPED | SKIPPED | SKIPPED | SKIPPED | +-------------------------------+--------------------+-------------------+------------------+-------------------+-------------------------+----------------------+ | Debian GNU/Linux 12 | PASS | PASS | SKIPPED | SKIPPED | SKIPPED | SKIPPED | +-------------------------------+--------------------+-------------------+------------------+-------------------+-------------------------+----------------------+ | Fedora Linux 40 | PASS | PASS | SKIPPED | SKIPPED | SKIPPED | SKIPPED | +-------------------------------+--------------------+-------------------+------------------+-------------------+-------------------------+----------------------+ | Fedora Linux 41 | PASS | PASS | PASS | SKIPPED | SKIPPED | SKIPPED | +-------------------------------+--------------------+-------------------+------------------+-------------------+-------------------------+----------------------+ | openSUSE Leap 15.6 | PASS | SKIPPED | SKIPPED | SKIPPED | SKIPPED | SKIPPED | +-------------------------------+--------------------+-------------------+------------------+-------------------+-------------------------+----------------------+ | Red Hat Enterprise Linux 8.10 | PASS | SKIPPED | SKIPPED | SKIPPED | SKIPPED | SKIPPED | +-------------------------------+--------------------+-------------------+------------------+-------------------+-------------------------+----------------------+ | Red Hat Enterprise Linux 9.5 | PASS | SKIPPED | SKIPPED | SKIPPED | SKIPPED | SKIPPED | +-------------------------------+--------------------+-------------------+------------------+-------------------+-------------------------+----------------------+ | Ubuntu 20.04 | PASS | SKIPPED | SKIPPED | SKIPPED | SKIPPED | SKIPPED | +-------------------------------+--------------------+-------------------+------------------+-------------------+-------------------------+----------------------+ | Ubuntu 22.04 | PASS | PASS | SKIPPED | SKIPPED | SKIPPED | SKIPPED | +-------------------------------+--------------------+-------------------+------------------+-------------------+-------------------------+----------------------+ | Ubuntu 24.04 | PASS | PASS | PASS | SKIPPED | SKIPPED | SKIPPED | +-------------------------------+--------------------+-------------------+------------------+-------------------+-------------------------+----------------------+ | Alpine Linux 3.22.0 | PASS | SKIPPED | SKIPPED | SKIPPED | SKIPPED | SKIPPED | +-------------------------------+--------------------+-------------------+------------------+-------------------+-------------------------+----------------------+ | FreeBSD 14.2 | PASS | SKIPPED | SKIPPED | SKIPPED | SKIPPED | SKIPPED | +-------------------------------+--------------------+-------------------+------------------+-------------------+-------------------------+----------------------+ | Windows Server 2022 | SKIPPED | SKIPPED | SKIPPED | PASS | PASS | PASS | +-------------------------------+--------------------+-------------------+------------------+-------------------+-------------------------+----------------------+ CentOS Stream 9 Kernel: 5.15 Compiler: gcc gcc (GCC) 11.5.0 20240719 (Red Hat 11.5.0-7) CentOS Stream 10 Kernel: 5.15 Compiler: gcc gcc (GCC) 14.2.1 20250110 (Red Hat 14.2.1-8) Debian GNU/Linux 12 Kernel: 5.15 Compiler: gcc gcc (Debian 12.2.0-14+deb12u1) 12.2.0 Fedora Linux 40 Kernel: 5.15 Compiler: clang gcc (GCC) 14.2.1 20240912 (Red Hat 14.2.1-3) Fedora Linux 41 Kernel: 5.15 Compiler: clang gcc (GCC) 14.3.1 20250523 (Red Hat 14.3.1-1) openSUSE Leap 15.6 Kernel: 5.15 Compiler: gcc gcc (SUSE Linux) 7.5.0 Red Hat Enterprise Linux 8.10 Kernel: 5.15 Compiler: gcc gcc (GCC) 8.5.0 20210514 (Red Hat 8.5.0-22) Red Hat Enterprise Linux 9.5 Kernel: 5.15 Compiler: gcc gcc (GCC) 11.5.0 20240719 (Red Hat 11.5.0-2) Ubuntu 20.04 Kernel: 5.15 Compiler: gcc gcc (Ubuntu 9.4.0-1ubuntu1~20.04.2) 9.4.0 Ubuntu 22.04 Kernel: 5.15 Compiler: gcc gcc (Ubuntu 11.4.0-1ubuntu1~22.04) 11.4.0 Ubuntu 24.04 Kernel: 5.15 Compiler: gcc gcc (Ubuntu 13.3.0-6ubuntu2~24.04) 13.3.0 Alpine Linux 3.22.0 Kernel: 5.15 Compiler: gcc gcc (Alpine 14.2.0) 14.2.0 FreeBSD 14.2 Kernel: 14.2-RELEASE Compiler: clang 18.1.6 Windows Server 2022 Kernel: 10.0.20348.2031 Compiler: clang 15.0.7, gcc 14.1.0 (MinGW), and MSVC VS 19.39.33521 To view detailed results, visit: https://lab.dpdk.org/results/dashboard/patchsets/33689/ UNH-IOL DPDK Community Lab To manage your email subscriptions, visit: https://lab.dpdk.org/results/dashboard/preferences/subscriptions/