From mboxrd@z Thu Jan 1 00:00:00 1970 Return-Path: Received: from mails.dpdk.org (mails.dpdk.org [217.70.189.124]) by inbox.dpdk.org (Postfix) with ESMTP id 2C63246BAF for ; Fri, 18 Jul 2025 22:41:36 +0200 (CEST) Received: from mails.dpdk.org (localhost [127.0.0.1]) by mails.dpdk.org (Postfix) with ESMTP id 26DE340611; Fri, 18 Jul 2025 22:41:36 +0200 (CEST) Received: from mail-il1-f228.google.com (mail-il1-f228.google.com [209.85.166.228]) by mails.dpdk.org (Postfix) with ESMTP id 3F0BC40611 for ; Fri, 18 Jul 2025 22:41:34 +0200 (CEST) Received: by mail-il1-f228.google.com with SMTP id e9e14a558f8ab-3d948ce7d9dso9320175ab.2 for ; Fri, 18 Jul 2025 13:41:34 -0700 (PDT) DKIM-Signature: v=1; a=rsa-sha256; c=relaxed/relaxed; d=iol.unh.edu; s=unh-iol; t=1752871293; x=1753476093; darn=dpdk.org; h=references:in-reply-to:cc:to:from:subject:message-id:date:from:to :cc:subject:date:message-id:reply-to; bh=TD70pA3JIHkvZixqBLkD7R1D0kngFFv/TQPKNlfvYQg=; b=X88haHFexKQnyDSvLmrJA5TUxQTsB8LwsM2dDk9kdKO/M+UYWuTKCidGpBAFeFAN2J DgO8xdimIkgUAZE9OFLawBqgSXaLluj2Z+0hsTqG94vshvzh+rmxZDvBVFmSTJqOyrGQ gdUolMKbrb3MbmkDx1yyxmg0cWCPpG15aVGvc= X-Google-DKIM-Signature: v=1; a=rsa-sha256; c=relaxed/relaxed; d=1e100.net; s=20230601; t=1752871293; x=1753476093; h=references:in-reply-to:cc:to:from:subject:message-id:date :x-gm-message-state:from:to:cc:subject:date:message-id:reply-to; bh=TD70pA3JIHkvZixqBLkD7R1D0kngFFv/TQPKNlfvYQg=; b=mduY1R0EohGHWTnC4GlMFHaKltsYUK0N1t3AiIXOj1+aIRjHkZnQnJHCnHsdmL2UqU UW8ZR76cDHzvhhHdl/4lc/umj6uy1tb3AzQ7bycYk1Kz7Fp2yZZBAhV8jl2eMuU9vMPO fUlV62wRYqCdmukRdFFod3FrguSZN/YtxxWWGt1t+YLPZ+Ey3bGC3iafGg37qLiO0MNJ W+y+LBvHj3dmAgkQOmUYl+ZfYxnjO1VnEJ1gQrwi4KTZd6FgryFjPKh4yIJToaXNGrcR eHUGHYl+mSSkcrYrIrFZw1ght/rvliiLNJd19V1Slkkd9cuURR7nkf6Yvd3+HG/adRwA 2uWg== X-Gm-Message-State: AOJu0YwufY8UYL3o+dLdCw9971yvO/ltBPSMZPwJ+sHe/pKeevsHZXTx z+aX9XTly3x+KbOP361Gxc+v4OEqNeUpx/UrY74kIw2NqEMVXe0wqYgyD1R6lV4ybLiecOa4F+t yW0IOY0uQcdFNGVgsxHUWt6Nf/W4Auh/ABrvQzsWo7M+pB00BeyUPzXuJCOjF X-Gm-Gg: ASbGnctHXJW5KrwbdKhlBKDdfuH6l7/1ToE3G1PyWHpz+p/Norz1MdksKET/tzNmKfq Ch2IInKwNhPfPMsHlcY3wlnSGXicns0Fz5F272IMwHJCBkz6Oq7fXP4z/0b0AmeQfi/F5SKU8yA twut7ty2F1UDbfwi5ovyWPk71ysEMsxMLNMk/Q7/vVEDta+Uc6QxaFjc8r4RbgwWvmqOSUAscm0 fjaFDNKIoHj9+BBv1xLMitFPvs2L48vDRFpachGWPRvrVkLl4RB2KruanW4PwIFRnLylUnb6G3j tgJ3cynhN+WCQFG+JYzTBcRMpsQuqducVmuwe/RHieE2Pjd2hQ== X-Google-Smtp-Source: AGHT+IHp2PmYm2Igp9lN+yfypApvh0w6H7oQirxmowpU2I0CSrHIbS0fPPOPOl5yyv0a7F16l9RqIMz1KdU3 X-Received: by 2002:a05:6e02:e:b0:3e0:4f30:c951 with SMTP id e9e14a558f8ab-3e282eb1858mr115899605ab.14.1752871293492; Fri, 18 Jul 2025 13:41:33 -0700 (PDT) Received: from postal.iol.unh.edu (postal.iol.unh.edu. [2606:4100:3880:1234::84]) by smtp-relay.gmail.com with ESMTPS id 8926c6da1cb9f-5084c976a1fsm101407173.62.2025.07.18.13.41.33 (version=TLS1_2 cipher=ECDHE-ECDSA-AES128-GCM-SHA256 bits=128/128); Fri, 18 Jul 2025 13:41:33 -0700 (PDT) X-Relaying-Domain: iol.unh.edu Date: Fri, 18 Jul 2025 13:41:33 -0700 (PDT) Message-ID: <687ab17d.050a0220.5d28d.53dcSMTPIN_ADDED_MISSING@mx.google.com> Received: from [172.21.0.2] (unknown [172.18.0.240]) by postal.iol.unh.edu (Postfix) with ESMTP id 04908604A958; Fri, 18 Jul 2025 16:41:33 -0400 (EDT) Subject: |SUCCESS| pw155336-155347 [PATCH] [v5,13/13] pdump: mark API and app From: dpdklab@iol.unh.edu To: Test Report Cc: dpdk-test-reports@iol.unh.edu In-Reply-To: <20250718163236.9870-14-stephen@networkplumber.org> References: <20250718163236.9870-14-stephen@networkplumber.org> Content-Type: text/plain X-BeenThere: test-report@dpdk.org X-Mailman-Version: 2.1.29 Precedence: list List-Id: automatic DPDK test reports List-Unsubscribe: , List-Archive: List-Post: List-Help: List-Subscribe: , Errors-To: test-report-bounces@dpdk.org Test-Label: iol-unit-amd64-testing Test-Status: SUCCESS http://dpdk.org/patch/155347 _Testing PASS_ Submitter: Stephen Hemminger Date: Friday, July 18 2025 16:28:30 DPDK git baseline: Repo:dpdk Branch: master CommitID:20a053a223db35244b6daee98d71fdab631646b6 155336-155347 --> testing pass Upstream job id: Generic-Unit-Test-DPDK#356356 Test environment and result as below: +-------------------------------+----------------+ | Environment | dpdk_unit_test | +===============================+================+ | Debian GNU/Linux 12 | PASS | +-------------------------------+----------------+ | Fedora Linux 40 | PASS | +-------------------------------+----------------+ | CentOS Stream 10 | PASS | +-------------------------------+----------------+ | Fedora Linux 41 | PASS | +-------------------------------+----------------+ | CentOS Stream 9 | PASS | +-------------------------------+----------------+ | Ubuntu 22.04 | PASS | +-------------------------------+----------------+ | Red Hat Enterprise Linux 9.5 | PASS | +-------------------------------+----------------+ | Ubuntu 24.04 | PASS | +-------------------------------+----------------+ | Ubuntu 20.04 | PASS | +-------------------------------+----------------+ | Red Hat Enterprise Linux 8.10 | PASS | +-------------------------------+----------------+ | Windows Server 2022 | PASS | +-------------------------------+----------------+ Debian GNU/Linux 12 Kernel: 5.15 Compiler: gcc gcc (Debian 12.2.0-14+deb12u1) 12.2.0 Fedora Linux 40 Kernel: 5.15 Compiler: gcc gcc (GCC) 14.2.1 20240912 (Red Hat 14.2.1-3) CentOS Stream 10 Kernel: 5.15 Compiler: gcc gcc (GCC) 14.2.1 20250110 (Red Hat 14.2.1-8) Fedora Linux 41 Kernel: 5.15 Compiler: clang gcc (GCC) 14.3.1 20250523 (Red Hat 14.3.1-1) CentOS Stream 9 Kernel: 5.15 Compiler: gcc gcc (GCC) 11.5.0 20240719 (Red Hat 11.5.0-7) Ubuntu 22.04 Kernel: 5.15 Compiler: gcc gcc (Ubuntu 11.4.0-1ubuntu1~22.04) 11.4.0 Red Hat Enterprise Linux 9.5 Kernel: 5.15 Compiler: gcc gcc (GCC) 11.5.0 20240719 (Red Hat 11.5.0-2) Ubuntu 24.04 Kernel: 5.15 Compiler: gcc gcc (Ubuntu 13.3.0-6ubuntu2~24.04) 13.3.0 Ubuntu 20.04 Kernel: 5.15 Compiler: gcc gcc (Ubuntu 9.4.0-1ubuntu1~20.04.2) 9.4.0 Red Hat Enterprise Linux 8.10 Kernel: 5.15 Compiler: gcc gcc (GCC) 8.5.0 20210514 (Red Hat 8.5.0-22) Windows Server 2022 Kernel: 10.0.20348.2031 Compiler: clang 15.0.7, gcc 14.1.0 (MinGW), and MSVC VS 19.39.33521 To view detailed results, visit: https://lab.dpdk.org/results/dashboard/patchsets/33691/ UNH-IOL DPDK Community Lab To manage your email subscriptions, visit: https://lab.dpdk.org/results/dashboard/preferences/subscriptions/