From: dpdklab@iol.unh.edu
To: Test Report <test-report@dpdk.org>
Cc: dpdk-test-reports@iol.unh.edu
Subject: |SUCCESS| pw155349 [PATCH] net/gve: free device resources in gve_dev
Date: Fri, 18 Jul 2025 13:46:30 -0700 (PDT) [thread overview]
Message-ID: <687ab2a6.170a0220.3620c1.63b2SMTPIN_ADDED_MISSING@mx.google.com> (raw)
In-Reply-To: <20250718182725.467544-1-jtranoleary@google.com>
Test-Label: iol-compile-amd64-testing
Test-Status: SUCCESS
http://dpdk.org/patch/155349
_Testing PASS_
Submitter: Jasper Tran O'Leary <jtranoleary@google.com>
Date: Friday, July 18 2025 18:27:25
DPDK git baseline: Repo:dpdk
Branch: master
CommitID:9fe9c0b231c8da5435bfccb1963121b4277f961c
155349 --> testing pass
Upstream job id: Windows-Compile-DPDK-Native#29863
Test environment and result as below:
+---------------------+--------------------+-------------------------+-------------------+----------------------+
| Environment | dpdk_meson_compile | dpdk_llvm_clang_compile | dpdk_msvc_compile | dpdk_mingw64_compile |
+=====================+====================+=========================+===================+======================+
| FreeBSD 14.2 | PASS | SKIPPED | SKIPPED | SKIPPED |
+---------------------+--------------------+-------------------------+-------------------+----------------------+
| Ubuntu 20.04 | PASS | SKIPPED | SKIPPED | SKIPPED |
+---------------------+--------------------+-------------------------+-------------------+----------------------+
| Windows Server 2022 | SKIPPED | PASS | PASS | PASS |
+---------------------+--------------------+-------------------------+-------------------+----------------------+
FreeBSD 14.2
Kernel: 14.2-RELEASE
Compiler: clang 18.1.6
Ubuntu 20.04
Kernel: 4.19
Compiler: gcc gcc (Ubuntu 9.4.0-1ubuntu1~20.04.2) 9.4.0
Windows Server 2022
Kernel: 10.0.20348.2031
Compiler: clang 15.0.7, gcc 14.1.0 (MinGW), and MSVC VS 19.39.33521
To view detailed results, visit:
https://lab.dpdk.org/results/dashboard/patchsets/33692/
UNH-IOL DPDK Community Lab
To manage your email subscriptions, visit:
https://lab.dpdk.org/results/dashboard/preferences/subscriptions/
next prev parent reply other threads:[~2025-07-18 20:46 UTC|newest]
Thread overview: 23+ messages / expand[flat|nested] mbox.gz Atom feed top
[not found] <20250718182725.467544-1-jtranoleary@google.com>
2025-07-18 17:53 ` |SUCCESS| pw155349 [PATCH] net/gve: free device resources in gve_dev_close qemudev
2025-07-18 17:57 ` qemudev
2025-07-18 18:27 ` checkpatch
2025-07-18 19:59 ` |SUCCESS| pw155349 [PATCH] net/gve: free device resources in gve_dev dpdklab
2025-07-18 19:59 ` dpdklab
2025-07-18 20:00 ` dpdklab
2025-07-18 20:05 ` dpdklab
2025-07-18 20:05 ` |PENDING| " dpdklab
2025-07-18 20:10 ` |SUCCESS| " dpdklab
2025-07-18 20:14 ` dpdklab
2025-07-18 20:15 ` dpdklab
2025-07-18 20:36 ` dpdklab
2025-07-18 20:36 ` |PENDING| " dpdklab
2025-07-18 20:43 ` |SUCCESS| pw155349 [PATCH] net/gve: free device resources in gve_dev_close 0-day Robot
2025-07-18 20:46 ` dpdklab [this message]
2025-07-18 20:57 ` |PENDING| pw155349 [PATCH] net/gve: free device resources in gve_dev dpdklab
2025-07-18 22:03 ` |SUCCESS| " dpdklab
2025-07-18 22:06 ` |PENDING| " dpdklab
2025-07-18 22:32 ` |SUCCESS| " dpdklab
2025-07-18 22:35 ` dpdklab
2025-07-18 23:15 ` dpdklab
2025-07-19 0:25 ` dpdklab
2025-07-19 1:33 ` dpdklab
Reply instructions:
You may reply publicly to this message via plain-text email
using any one of the following methods:
* Save the following mbox file, import it into your mail client,
and reply-to-all from there: mbox
Avoid top-posting and favor interleaved quoting:
https://en.wikipedia.org/wiki/Posting_style#Interleaved_style
* Reply using the --to, --cc, and --in-reply-to
switches of git-send-email(1):
git send-email \
--in-reply-to=687ab2a6.170a0220.3620c1.63b2SMTPIN_ADDED_MISSING@mx.google.com \
--to=dpdklab@iol.unh.edu \
--cc=dpdk-test-reports@iol.unh.edu \
--cc=test-report@dpdk.org \
/path/to/YOUR_REPLY
https://kernel.org/pub/software/scm/git/docs/git-send-email.html
* If your mail client supports setting the In-Reply-To header
via mailto: links, try the mailto: link
Be sure your reply has a Subject: header at the top and a blank line
before the message body.
This is a public inbox, see mirroring instructions
for how to clone and mirror all data and code used for this inbox;
as well as URLs for NNTP newsgroup(s).