From mboxrd@z Thu Jan 1 00:00:00 1970 Return-Path: Received: from mails.dpdk.org (mails.dpdk.org [217.70.189.124]) by inbox.dpdk.org (Postfix) with ESMTP id AD94346BAF for ; Fri, 18 Jul 2025 22:46:33 +0200 (CEST) Received: from mails.dpdk.org (localhost [127.0.0.1]) by mails.dpdk.org (Postfix) with ESMTP id A5B6040611; Fri, 18 Jul 2025 22:46:33 +0200 (CEST) Received: from mail-pl1-f227.google.com (mail-pl1-f227.google.com [209.85.214.227]) by mails.dpdk.org (Postfix) with ESMTP id B2E3440611 for ; Fri, 18 Jul 2025 22:46:31 +0200 (CEST) Received: by mail-pl1-f227.google.com with SMTP id d9443c01a7336-236192f8770so17644105ad.0 for ; Fri, 18 Jul 2025 13:46:31 -0700 (PDT) DKIM-Signature: v=1; a=rsa-sha256; c=relaxed/relaxed; d=iol.unh.edu; s=unh-iol; t=1752871591; x=1753476391; darn=dpdk.org; h=references:in-reply-to:cc:to:from:subject:message-id:date:from:to :cc:subject:date:message-id:reply-to; bh=+lO4nncoUT46/3P+gnvhZdu92zi8ti4JEQhGh6y5MuI=; b=T5OGvSbzHnJuUCBe9WrLbr1Io2APWH/4jDrXQXWeHXOQ58tWt89Fa0G2iQrrUXsG7D gpv7hfyoPndMNqvElF+ENnUbKMW9ENRJQtr86xf2aK7RVbFhWXZLR493utmk8tiNQcZ2 EblrolxdeCwXXEXok9IpvkS5urmws8oGn0tNk= X-Google-DKIM-Signature: v=1; a=rsa-sha256; c=relaxed/relaxed; d=1e100.net; s=20230601; t=1752871591; x=1753476391; h=references:in-reply-to:cc:to:from:subject:message-id:date :x-gm-message-state:from:to:cc:subject:date:message-id:reply-to; bh=+lO4nncoUT46/3P+gnvhZdu92zi8ti4JEQhGh6y5MuI=; b=ap+Cpv7C2PXUFpe7FAMZ1hVk9dsfEwWEiHRB+/z9Lw00wx47B3QmqaXPitn+vs4Gc4 2kC8FDGFn02VcuK1opHq8qkuiv2253+5Q+qZKr8OBqsdM9hTngn4cmaJhBpWWOTGwcm5 Vzzcs+KlWP0VBZa5gRi4PwmqjbrNsmADiGzXaulU2GcKWfHxdV6pK5mpNvH78TYA/Bi2 VqcjdQDSqwLVFu20hCtUSCjrqrBZuvXFcAONiA9Yl8ZrjTtIUyPxNeycy9ohja0VA76g keQP61IQwANjFmvPQm9YrZBLTKt2p0627q/xKHIaUJkrph/f3OLq7PiHh/uUm6WdeYeY aZ+g== X-Gm-Message-State: AOJu0Yw57buvwx/IJr/Anb3unURhjA69/sK9UGmWj0uJklL2tGil+ZSn NijUM1EBedvLLrfbm+d70ufpVPDlw3X/AF/iOfC+aL56mRQEBvCRqn7NUg3NK/gdNGFSzznKGpZ 0pr/w9mz0FJMfMRwq5a5Z8qcFH68e+L23tWUmCpybFCtihJ9bnw3eJIiFP+ue X-Gm-Gg: ASbGncsrLAOzq1lETYuJ86/VwQt5M5tFBKjPGUXoa5brp3lygyQyrGYFuw0/1Bkq1wL ONXpdtypkvYfjtLeBD63aCuN4T9iN4dH+UOVfYatcRPt4NKtNYt33v3EqA3RScY46Jsh3etgQT5 Ikg9eA0VwjTvF7oy1Id2n4Fnu6AUlOG0Dd5DeFn4ghLIUPNnpao8TRE/kqdaPv+Jq8UsbXPtKX/ 3/Bwj1czd02uuS1X38IbS9K6A8+zd3Pgq2cX1cL91gSdtFuJEqTxXKiNyX7bU7EHK01okSMnBjL +pUYobi1SF0TzRDTsN51PLSW8+j1DChFx7rLeNYTrBBVTU0jAg== X-Google-Smtp-Source: AGHT+IE8G7EWHlDiG2yvFw2vhIq2ldtlw/RykK3KtEGfKwAC2rYDcS+gj7blm0+GNQJk3w/7ZjpFemDpVMGw X-Received: by 2002:a17:902:e5c9:b0:231:c89f:4e94 with SMTP id d9443c01a7336-23e38faae45mr68003685ad.21.1752871590804; Fri, 18 Jul 2025 13:46:30 -0700 (PDT) Received: from postal.iol.unh.edu (postal.iol.unh.edu. [2606:4100:3880:1234::84]) by smtp-relay.gmail.com with ESMTPS id d9443c01a7336-23e3b6b74e4sm1220255ad.57.2025.07.18.13.46.30 (version=TLS1_2 cipher=ECDHE-ECDSA-AES128-GCM-SHA256 bits=128/128); Fri, 18 Jul 2025 13:46:30 -0700 (PDT) X-Relaying-Domain: iol.unh.edu Date: Fri, 18 Jul 2025 13:46:30 -0700 (PDT) Message-ID: <687ab2a6.170a0220.3620c1.63b2SMTPIN_ADDED_MISSING@mx.google.com> Received: from [172.21.0.2] (unknown [172.18.0.240]) by postal.iol.unh.edu (Postfix) with ESMTP id B5ADB604A958; Fri, 18 Jul 2025 16:46:29 -0400 (EDT) Subject: |SUCCESS| pw155349 [PATCH] net/gve: free device resources in gve_dev From: dpdklab@iol.unh.edu To: Test Report Cc: dpdk-test-reports@iol.unh.edu In-Reply-To: <20250718182725.467544-1-jtranoleary@google.com> References: <20250718182725.467544-1-jtranoleary@google.com> Content-Type: text/plain X-BeenThere: test-report@dpdk.org X-Mailman-Version: 2.1.29 Precedence: list List-Id: automatic DPDK test reports List-Unsubscribe: , List-Archive: List-Post: List-Help: List-Subscribe: , Errors-To: test-report-bounces@dpdk.org Test-Label: iol-compile-amd64-testing Test-Status: SUCCESS http://dpdk.org/patch/155349 _Testing PASS_ Submitter: Jasper Tran O'Leary Date: Friday, July 18 2025 18:27:25 DPDK git baseline: Repo:dpdk Branch: master CommitID:9fe9c0b231c8da5435bfccb1963121b4277f961c 155349 --> testing pass Upstream job id: Windows-Compile-DPDK-Native#29863 Test environment and result as below: +---------------------+--------------------+-------------------------+-------------------+----------------------+ | Environment | dpdk_meson_compile | dpdk_llvm_clang_compile | dpdk_msvc_compile | dpdk_mingw64_compile | +=====================+====================+=========================+===================+======================+ | FreeBSD 14.2 | PASS | SKIPPED | SKIPPED | SKIPPED | +---------------------+--------------------+-------------------------+-------------------+----------------------+ | Ubuntu 20.04 | PASS | SKIPPED | SKIPPED | SKIPPED | +---------------------+--------------------+-------------------------+-------------------+----------------------+ | Windows Server 2022 | SKIPPED | PASS | PASS | PASS | +---------------------+--------------------+-------------------------+-------------------+----------------------+ FreeBSD 14.2 Kernel: 14.2-RELEASE Compiler: clang 18.1.6 Ubuntu 20.04 Kernel: 4.19 Compiler: gcc gcc (Ubuntu 9.4.0-1ubuntu1~20.04.2) 9.4.0 Windows Server 2022 Kernel: 10.0.20348.2031 Compiler: clang 15.0.7, gcc 14.1.0 (MinGW), and MSVC VS 19.39.33521 To view detailed results, visit: https://lab.dpdk.org/results/dashboard/patchsets/33692/ UNH-IOL DPDK Community Lab To manage your email subscriptions, visit: https://lab.dpdk.org/results/dashboard/preferences/subscriptions/