From mboxrd@z Thu Jan 1 00:00:00 1970 Return-Path: Received: from mails.dpdk.org (mails.dpdk.org [217.70.189.124]) by inbox.dpdk.org (Postfix) with ESMTP id 33FBE46BAF for ; Fri, 18 Jul 2025 22:50:43 +0200 (CEST) Received: from mails.dpdk.org (localhost [127.0.0.1]) by mails.dpdk.org (Postfix) with ESMTP id 2EA2340611; Fri, 18 Jul 2025 22:50:43 +0200 (CEST) Received: from mail-pl1-f227.google.com (mail-pl1-f227.google.com [209.85.214.227]) by mails.dpdk.org (Postfix) with ESMTP id 7321E40611 for ; Fri, 18 Jul 2025 22:50:42 +0200 (CEST) Received: by mail-pl1-f227.google.com with SMTP id d9443c01a7336-23c703c471dso38999425ad.0 for ; Fri, 18 Jul 2025 13:50:42 -0700 (PDT) DKIM-Signature: v=1; a=rsa-sha256; c=relaxed/relaxed; d=iol.unh.edu; s=unh-iol; t=1752871841; x=1753476641; darn=dpdk.org; h=references:in-reply-to:cc:to:from:subject:message-id:date:from:to :cc:subject:date:message-id:reply-to; bh=Jghb3ElUU+FfFOv0L2U4VSidZusICIqEroUUV5ROABs=; b=fwx/TK6G8onh6ZIdNBHM7OS5/MWgo1wttPbuXAdgKqrggMSmQL6atTqydMIDQL2mtZ 6I5XOZhBH0uvMVjenHkOzDlzhh/paLkZQ2VOO9XskUrrxPs45wwZTVBmzL95DjJSn+Mr QiwAU3ExWcYYFSwN3IX10+GV+B+pJbGOgDB8w= X-Google-DKIM-Signature: v=1; a=rsa-sha256; c=relaxed/relaxed; d=1e100.net; s=20230601; t=1752871841; x=1753476641; h=references:in-reply-to:cc:to:from:subject:message-id:date :x-gm-message-state:from:to:cc:subject:date:message-id:reply-to; bh=Jghb3ElUU+FfFOv0L2U4VSidZusICIqEroUUV5ROABs=; b=j5hSLYg2mz0tW9fddxR89QSuAi+oaGzaEuu3VPXTIkAxyE4/ejhAnYzoPheK3uuADa S4C5JyrUj1PmbSPf7wYgcVKDSQe8HWZqpyeZqYYaRdFYibThpsVTLaH7LrlA+PkHYAca 8iSnUeU3nvWporff2clL3uGeSroaQFZdSX8Ho+9fwmqXipB/MoAdEbFNHhTErnmmwy1i Y9G+3jnfzG5l+98Wp5HdOSCpwmpRM/nsxC6rnouBMu1RbYlLngBjANqH21LjrXGsXjDz CKu2sQSWyVNQaBmsIEcHLRB+t+sPd0aagGJD21E6NYiG9RYhboRDsl7T3xRqBZQ3KRjg mtAQ== X-Gm-Message-State: AOJu0YyLneGeFc6ZlQzBu3DHqcH82vmMFikofix/4O7Z7svO4rRJpwSS b8ArONXH3PtKnbYIkBgmeyRNXx7rsyoF7QUN9NtRKq2ExrYJBDP+yMaWrzJE3yulQNpDEDvrYIK FOMYOhIjw694crgqIYt+27avDb/P1TK9qwi/8mwT8zmJ1gzVHuYSpazLsczw3 X-Gm-Gg: ASbGncswDs4aeYyUeG2XGy8P6llGNqWMhQLLeKn1FRnPEMR09lkr+MQ8dvXJFBS7LE4 ndc11dCD1jkXfL4/oXYNvWze7qpE0pUAEkDoJoYUZXmdMR3bULr/r0fnlNwaTX553td2EX8ZBoa g66GadrL6MTRsum83t2/0omzyRtxdA2D9uSPW3xDhcru+0In91VFHS5PvcoIJMaM3HYzuwXzgTK +de4fH9qmD3Y8FRp45WJahpD6dGhqg8Q7AspKPXO/GnYZFF69ZUQd3pjTXbnItml4CPAOZh9Uhf MVEhArBLf8nJBm9cZXg4xAlOLBuTEFELZeXBdDA9gJ77iI/l2A== X-Google-Smtp-Source: AGHT+IECpUq1Do3l8mO+LCdd9rdQAECilndLua50WuP0+7bCBKztf4+75ScP9KPb2uYjSILhbkFaGHbXgc8p X-Received: by 2002:a17:903:94e:b0:235:e94b:62dd with SMTP id d9443c01a7336-23e38f7f960mr73156355ad.12.1752871841650; Fri, 18 Jul 2025 13:50:41 -0700 (PDT) Received: from postal.iol.unh.edu (postal.iol.unh.edu. [2606:4100:3880:1234::84]) by smtp-relay.gmail.com with ESMTPS id d9443c01a7336-23e3b61c8a9sm1392155ad.36.2025.07.18.13.50.41 (version=TLS1_2 cipher=ECDHE-ECDSA-AES128-GCM-SHA256 bits=128/128); Fri, 18 Jul 2025 13:50:41 -0700 (PDT) X-Relaying-Domain: iol.unh.edu Date: Fri, 18 Jul 2025 13:50:41 -0700 (PDT) Message-ID: <687ab3a1.170a0220.1d3fcc.73c1SMTPIN_ADDED_MISSING@mx.google.com> Received: from [172.21.0.2] (unknown [172.18.0.240]) by postal.iol.unh.edu (Postfix) with ESMTP id C986C604A958; Fri, 18 Jul 2025 16:50:40 -0400 (EDT) Subject: |SUCCESS| pw155335 [PATCH] [v2] net/intel: fix assumption about tag From: dpdklab@iol.unh.edu To: Test Report Cc: dpdk-test-reports@iol.unh.edu In-Reply-To: <20250718154312.1716432-1-bruce.richardson@intel.com> References: <20250718154312.1716432-1-bruce.richardson@intel.com> Content-Type: text/plain X-BeenThere: test-report@dpdk.org X-Mailman-Version: 2.1.29 Precedence: list List-Id: automatic DPDK test reports List-Unsubscribe: , List-Archive: List-Post: List-Help: List-Subscribe: , Errors-To: test-report-bounces@dpdk.org Test-Label: iol-abi-testing Test-Status: SUCCESS http://dpdk.org/patch/155335 _Testing PASS_ Submitter: Bruce Richardson Date: Friday, July 18 2025 15:43:12 DPDK git baseline: Repo:dpdk Branch: master CommitID:a6b10031d251fcc7dadede461f7e1d005024b139 155335 --> testing pass Upstream job id: Generic-DPDK-Compile-ABI#134816 Test environment and result as below: +-------------------------------+----------+ | Environment | abi_test | +===============================+==========+ | CentOS Stream 9 | PASS | +-------------------------------+----------+ | CentOS Stream 10 | PASS | +-------------------------------+----------+ | Fedora Linux 41 | PASS | +-------------------------------+----------+ | openSUSE Leap 15.6 | PASS | +-------------------------------+----------+ | Fedora Linux 40 | PASS | +-------------------------------+----------+ | Debian GNU/Linux 12 | PASS | +-------------------------------+----------+ | Red Hat Enterprise Linux 8.10 | PASS | +-------------------------------+----------+ | Red Hat Enterprise Linux 9.5 | PASS | +-------------------------------+----------+ | Ubuntu 22.04 | PASS | +-------------------------------+----------+ | Ubuntu 24.04 | PASS | +-------------------------------+----------+ CentOS Stream 9 Kernel: 5.15 Compiler: gcc gcc (GCC) 11.5.0 20240719 (Red Hat 11.5.0-7) CentOS Stream 10 Kernel: 5.15 Compiler: gcc gcc (GCC) 14.2.1 20250110 (Red Hat 14.2.1-8) Fedora Linux 41 Kernel: 5.15 Compiler: gcc gcc (GCC) 14.3.1 20250523 (Red Hat 14.3.1-1) openSUSE Leap 15.6 Kernel: 5.15 Compiler: gcc gcc (SUSE Linux) 7.5.0 Fedora Linux 40 Kernel: 5.15 Compiler: gcc gcc (GCC) 14.2.1 20240912 (Red Hat 14.2.1-3) Debian GNU/Linux 12 Kernel: 5.15 Compiler: gcc gcc (Debian 12.2.0-14+deb12u1) 12.2.0 Red Hat Enterprise Linux 8.10 Kernel: 5.15 Compiler: gcc gcc (GCC) 8.5.0 20210514 (Red Hat 8.5.0-22) Red Hat Enterprise Linux 9.5 Kernel: 5.15 Compiler: gcc gcc (GCC) 11.5.0 20240719 (Red Hat 11.5.0-2) Ubuntu 22.04 Kernel: 5.15 Compiler: gcc gcc (Ubuntu 11.4.0-1ubuntu1~22.04) 11.4.0 Ubuntu 24.04 Kernel: 5.15 Compiler: gcc gcc (Ubuntu 13.3.0-6ubuntu2~24.04) 13.3.0 To view detailed results, visit: https://lab.dpdk.org/results/dashboard/patchsets/33690/ UNH-IOL DPDK Community Lab To manage your email subscriptions, visit: https://lab.dpdk.org/results/dashboard/preferences/subscriptions/