From mboxrd@z Thu Jan 1 00:00:00 1970 Return-Path: Received: from mails.dpdk.org (mails.dpdk.org [217.70.189.124]) by inbox.dpdk.org (Postfix) with ESMTP id 6B9DD46BAF for ; Fri, 18 Jul 2025 23:47:33 +0200 (CEST) Received: from mails.dpdk.org (localhost [127.0.0.1]) by mails.dpdk.org (Postfix) with ESMTP id 64F3840611; Fri, 18 Jul 2025 23:47:33 +0200 (CEST) Received: from mail-il1-f227.google.com (mail-il1-f227.google.com [209.85.166.227]) by mails.dpdk.org (Postfix) with ESMTP id EA38240611 for ; Fri, 18 Jul 2025 23:47:31 +0200 (CEST) Received: by mail-il1-f227.google.com with SMTP id e9e14a558f8ab-3df2d8cb8d2so9670715ab.2 for ; Fri, 18 Jul 2025 14:47:31 -0700 (PDT) DKIM-Signature: v=1; a=rsa-sha256; c=relaxed/relaxed; d=iol.unh.edu; s=unh-iol; t=1752875251; x=1753480051; darn=dpdk.org; h=references:in-reply-to:cc:to:from:subject:message-id:date:from:to :cc:subject:date:message-id:reply-to; bh=OOqDz+Zz5Y/pljKPVlEz0oTXn5kWy4e172nRxq2wXlw=; b=Hea4yINx1KsqoVcn/5RBX2W/JOH8Fu9uir2SLGfuoY4H4kUdVpBEQnCknXnjwuOJxR t302M0ilb5wdqc+ynO7PRIJ2TzS3aZRXdu4D2tlT5jisfBXknog2WXciTKxkDYirRhj/ 4N4+G2Qt8UP2/z/ni3T49OB49mkacJLF96P1M= X-Google-DKIM-Signature: v=1; a=rsa-sha256; c=relaxed/relaxed; d=1e100.net; s=20230601; t=1752875251; x=1753480051; h=references:in-reply-to:cc:to:from:subject:message-id:date :x-gm-message-state:from:to:cc:subject:date:message-id:reply-to; bh=OOqDz+Zz5Y/pljKPVlEz0oTXn5kWy4e172nRxq2wXlw=; b=gfa2Ho5PkO722Ik6s+tiSrFRDYFA8D+i924cTuUQfMx3IlKoI7iJbzHTdme53JQc6k iuGw/I2pF+PSB+GMIghNDTP9fW9fYyIBGu1SEhgjAWVGutkBZmIejcNsdGenyi99i03x j5P1Qmh09+dL46Xjzs305qmJn52a1uyFN8oJCfYfdERy5nftkX0xU5vazJANIQNgk+Ka 03jecfjS8+1SsYbgpNK1SUoOlvaz54VjncApKCZm7bavhXEW4TZ/j2hf38Lrlla4un9t wpOhkNZ1ZZIceKwiy1jYynRirtYaZO/T2EVKnK9+WEqwMsfngNqZYLPpA3fPs2sStbyM maiw== X-Gm-Message-State: AOJu0YwRcclYJ4YKzyH4G+YM9xSLPslJ+dBcHVeZrz0AcKg/ozwNtiUP lZ9+/OnYzgMzZcobKFi7p5ZIu2uqfIY1UoHZTdsGCu4Bl09RBynAs5pnjX3tkMCzYXuerN3HkGh oP+//DoyQEQlhMBvP/SOPHwMkJ1wKjuSbjwIjrYtPRYsmYCRO2fq3yAkJ91gZ X-Gm-Gg: ASbGncunIh7SvHOlQgLAUJuc8efI2UKRQq+JjTeq0+/O1FCvPZvfA1w0DKfNis2Bs+3 GBLMxNd0sQRF/7P9hj4JYxiMFgPGg6F9ma85tWgJIkjGDMJGPTcAm5ODP6SnRGe34UjOndkQwBF 4Sj+9HMf83+8dCxZv0HBpbJ8wSVE+oVTni4VKbJgfHQxPTcA89Lv7IxdNmFOpcisOIeCtHiS924 gkvOAmjBxMLRYYJ6ib6zqhTWNm/kL8vJb3Is7TANEh6H2P96Ij/xV5/R6Zg6JBvgrRydzdzd0kA d850crlMGI8LRiygaQHs8v9GZgCqXB0Jr4p+1/C7pc5ba9rUWA== X-Google-Smtp-Source: AGHT+IEPngoBW9su/CF6QEwwopIbix3fSwVLuWF1+1pBFEGRsKHL1mLzkniDtk8rKNkhERKoldBoW6W9qsFS X-Received: by 2002:a05:6e02:2786:b0:3dd:8663:d182 with SMTP id e9e14a558f8ab-3e28d49a89amr77655135ab.13.1752875251164; Fri, 18 Jul 2025 14:47:31 -0700 (PDT) Received: from postal.iol.unh.edu (postal.iol.unh.edu. [2606:4100:3880:1234::84]) by smtp-relay.gmail.com with ESMTPS id e9e14a558f8ab-3e298204dccsm1369875ab.8.2025.07.18.14.47.31 (version=TLS1_2 cipher=ECDHE-ECDSA-AES128-GCM-SHA256 bits=128/128); Fri, 18 Jul 2025 14:47:31 -0700 (PDT) X-Relaying-Domain: iol.unh.edu Date: Fri, 18 Jul 2025 14:47:31 -0700 (PDT) Message-ID: <687ac0f3.920a0220.1f1950.713cSMTPIN_ADDED_MISSING@mx.google.com> Received: from [172.21.0.3] (unknown [172.18.0.240]) by postal.iol.unh.edu (Postfix) with ESMTP id CB399604D420; Fri, 18 Jul 2025 17:47:30 -0400 (EDT) Subject: |SUCCESS| pw155335 [PATCH] [v2] net/intel: fix assumption about tag From: dpdklab@iol.unh.edu To: Test Report Cc: dpdk-test-reports@iol.unh.edu In-Reply-To: <20250718154312.1716432-1-bruce.richardson@intel.com> References: <20250718154312.1716432-1-bruce.richardson@intel.com> Content-Type: text/plain X-BeenThere: test-report@dpdk.org X-Mailman-Version: 2.1.29 Precedence: list List-Id: automatic DPDK test reports List-Unsubscribe: , List-Archive: List-Post: List-Help: List-Subscribe: , Errors-To: test-report-bounces@dpdk.org Test-Label: iol-compile-amd64-testing Test-Status: SUCCESS http://dpdk.org/patch/155335 _Testing PASS_ Submitter: Bruce Richardson Date: Friday, July 18 2025 15:43:12 DPDK git baseline: Repo:dpdk Branch: master CommitID:a6b10031d251fcc7dadede461f7e1d005024b139 155335 --> testing pass Upstream job id: Generic-DPDK-Compile-Meson#409848 Test environment and result as below: +-------------------------------+-------------------------+-------------------+--------------------+----------------------+-------------------+------------------+ | Environment | dpdk_llvm_clang_compile | dpdk_msvc_compile | dpdk_meson_compile | dpdk_mingw64_compile | dpdk_compile_spdk | dpdk_compile_ovs | +===============================+=========================+===================+====================+======================+===================+==================+ | Windows Server 2022 | PASS | PASS | SKIPPED | PASS | SKIPPED | SKIPPED | +-------------------------------+-------------------------+-------------------+--------------------+----------------------+-------------------+------------------+ | FreeBSD 14.2 | SKIPPED | SKIPPED | PASS | SKIPPED | SKIPPED | SKIPPED | +-------------------------------+-------------------------+-------------------+--------------------+----------------------+-------------------+------------------+ | Ubuntu 20.04 | SKIPPED | SKIPPED | PASS | SKIPPED | SKIPPED | SKIPPED | +-------------------------------+-------------------------+-------------------+--------------------+----------------------+-------------------+------------------+ | CentOS Stream 10 | SKIPPED | SKIPPED | PASS | SKIPPED | SKIPPED | SKIPPED | +-------------------------------+-------------------------+-------------------+--------------------+----------------------+-------------------+------------------+ | Debian GNU/Linux 12 | SKIPPED | SKIPPED | PASS | SKIPPED | PASS | SKIPPED | +-------------------------------+-------------------------+-------------------+--------------------+----------------------+-------------------+------------------+ | Fedora Linux 40 | SKIPPED | SKIPPED | PASS | SKIPPED | PASS | SKIPPED | +-------------------------------+-------------------------+-------------------+--------------------+----------------------+-------------------+------------------+ | Fedora Linux 41 | SKIPPED | SKIPPED | PASS | SKIPPED | PASS | PASS | +-------------------------------+-------------------------+-------------------+--------------------+----------------------+-------------------+------------------+ | openSUSE Leap 15.6 | SKIPPED | SKIPPED | PASS | SKIPPED | SKIPPED | SKIPPED | +-------------------------------+-------------------------+-------------------+--------------------+----------------------+-------------------+------------------+ | Red Hat Enterprise Linux 8.10 | SKIPPED | SKIPPED | PASS | SKIPPED | SKIPPED | SKIPPED | +-------------------------------+-------------------------+-------------------+--------------------+----------------------+-------------------+------------------+ | Red Hat Enterprise Linux 9.5 | SKIPPED | SKIPPED | PASS | SKIPPED | SKIPPED | SKIPPED | +-------------------------------+-------------------------+-------------------+--------------------+----------------------+-------------------+------------------+ | Ubuntu 22.04 | SKIPPED | SKIPPED | PASS | SKIPPED | PASS | SKIPPED | +-------------------------------+-------------------------+-------------------+--------------------+----------------------+-------------------+------------------+ | Ubuntu 24.04 | SKIPPED | SKIPPED | PASS | SKIPPED | PASS | PASS | +-------------------------------+-------------------------+-------------------+--------------------+----------------------+-------------------+------------------+ | Alpine Linux 3.22.0 | SKIPPED | SKIPPED | PASS | SKIPPED | SKIPPED | SKIPPED | +-------------------------------+-------------------------+-------------------+--------------------+----------------------+-------------------+------------------+ | CentOS Stream 9 | SKIPPED | SKIPPED | PASS | SKIPPED | PASS | SKIPPED | +-------------------------------+-------------------------+-------------------+--------------------+----------------------+-------------------+------------------+ Windows Server 2022 Kernel: 10.0.20348.2031 Compiler: clang 15.0.7, gcc 14.1.0 (MinGW), and MSVC VS 19.39.33521 FreeBSD 14.2 Kernel: 14.2-RELEASE Compiler: clang 18.1.6 Ubuntu 20.04 Kernel: 4.19 Compiler: gcc gcc (Ubuntu 9.4.0-1ubuntu1~20.04.2) 9.4.0 CentOS Stream 10 Kernel: 5.15 Compiler: gcc gcc (GCC) 14.2.1 20250110 (Red Hat 14.2.1-8) Debian GNU/Linux 12 Kernel: 5.15 Compiler: gcc gcc (Debian 12.2.0-14+deb12u1) 12.2.0 Fedora Linux 40 Kernel: 5.15 Compiler: clang gcc (GCC) 14.2.1 20240912 (Red Hat 14.2.1-3) Fedora Linux 41 Kernel: 5.15 Compiler: clang gcc (GCC) 14.3.1 20250523 (Red Hat 14.3.1-1) openSUSE Leap 15.6 Kernel: 5.15 Compiler: gcc gcc (SUSE Linux) 7.5.0 Red Hat Enterprise Linux 8.10 Kernel: 5.15 Compiler: gcc gcc (GCC) 8.5.0 20210514 (Red Hat 8.5.0-22) Red Hat Enterprise Linux 9.5 Kernel: 5.15 Compiler: gcc gcc (GCC) 11.5.0 20240719 (Red Hat 11.5.0-2) Ubuntu 22.04 Kernel: 5.15 Compiler: gcc gcc (Ubuntu 11.4.0-1ubuntu1~22.04) 11.4.0 Ubuntu 24.04 Kernel: 5.15 Compiler: gcc gcc (Ubuntu 13.3.0-6ubuntu2~24.04) 13.3.0 Alpine Linux 3.22.0 Kernel: 5.15 Compiler: gcc gcc (Alpine 14.2.0) 14.2.0 CentOS Stream 9 Kernel: 5.15 Compiler: gcc gcc (GCC) 11.5.0 20240719 (Red Hat 11.5.0-7) To view detailed results, visit: https://lab.dpdk.org/results/dashboard/patchsets/33690/ UNH-IOL DPDK Community Lab To manage your email subscriptions, visit: https://lab.dpdk.org/results/dashboard/preferences/subscriptions/