From mboxrd@z Thu Jan 1 00:00:00 1970 Return-Path: Received: from mails.dpdk.org (mails.dpdk.org [217.70.189.124]) by inbox.dpdk.org (Postfix) with ESMTP id C24C346BAF for ; Sat, 19 Jul 2025 00:03:50 +0200 (CEST) Received: from mails.dpdk.org (localhost [127.0.0.1]) by mails.dpdk.org (Postfix) with ESMTP id A385D40288; Sat, 19 Jul 2025 00:03:50 +0200 (CEST) Received: from mail-pl1-f226.google.com (mail-pl1-f226.google.com [209.85.214.226]) by mails.dpdk.org (Postfix) with ESMTP id 4C56D40288 for ; Sat, 19 Jul 2025 00:03:49 +0200 (CEST) Received: by mail-pl1-f226.google.com with SMTP id d9443c01a7336-23c8f179e1bso26131565ad.1 for ; Fri, 18 Jul 2025 15:03:49 -0700 (PDT) DKIM-Signature: v=1; a=rsa-sha256; c=relaxed/relaxed; d=iol.unh.edu; s=unh-iol; t=1752876228; x=1753481028; darn=dpdk.org; h=references:in-reply-to:cc:to:from:subject:message-id:date:from:to :cc:subject:date:message-id:reply-to; bh=BSy2+k8rhruyvazkUZHsQwsHHJVGQD02yB5T3LDkmOw=; b=FdVLeNNP9/zB8AKDZDACFGo6kt+2p2IHu3thoghR1XKbLRWgwECvjaKVlaEz4c0ylY wAj7OFJr3ZfWNy+pfPDojfQdhibW6KfNR9nHh5OEqmxNy9KzO3FnCRCDU+kg1uinfk0P 5K1MYrfsaUCaP9iCUv6/4YmIiHQVMAUK8WeKI= X-Google-DKIM-Signature: v=1; a=rsa-sha256; c=relaxed/relaxed; d=1e100.net; s=20230601; t=1752876228; x=1753481028; h=references:in-reply-to:cc:to:from:subject:message-id:date :x-gm-message-state:from:to:cc:subject:date:message-id:reply-to; bh=BSy2+k8rhruyvazkUZHsQwsHHJVGQD02yB5T3LDkmOw=; b=jKfSi5aZAAqgpQSiN/DZO16bN/amPHYKE8npPLhW36itYdCzRReHtfZ9QfxrYHNBEs eUIaE3T4vkgQ6MZhhYYmtNniYPgGgLi4JnLdZF2k0SnbHS1E20SAV/KUz3/wDddaTAmz qGKorNUXNlzceDhs1Y5ysTfShXKpPQBZ0DnuBvVy+IY3rZfbQGxJM06Pj6HBifzeAXhe TaQJHBV255LWtnkPp89nX1soG7ltrNtLh2z7UmEfLc4JA8duBOpF9IibR2Vy50svBNhb gO3r4Uc+zgM0Wl8yRZIBI5/GqOyywucOsT8QeEXAcVHYo0zbT1zk5YXJZvHwftJyKrBU UP3A== X-Gm-Message-State: AOJu0YzRCw9nqS/62ix8MpDehglyAQiCfp4mIBP+AtbG/f+eXTNrok9+ 5nT8AfdOiBmraojvPlrsqwR37SdjfOzYuDy+qzD22At7yaUdYUCRffokse1N+t5Qm+Z9mhXMcYv kpFWRnfd24oum+/DqrGS0X/YD6jEJLiSad9Jk/dTqEEwi X-Gm-Gg: ASbGncvL7XpC31cNxGX/CeO0/D2YcY15eTu0BaG/D8NXJDcHbrEkSwCRPd400NxMwpc E8hLrM+VQw/vM/rM7Sc6sZmru+Sdzf4xNwBEvRJ4bVPc6CY5DT3upx8lKGxNF9OvpPBZeCvodoO QF1RDxUTWk2VynRxdIQ/+zHBvOj/vIMPqy6sknRkZtNn8DqE1KEg7e58REx85S6C45WFFQCPpCZ PZ8nxBCBJagEICk3Ic/c2kStBvKpHFj7nzAGGtDc+IfAR3wQp/mzKco3KUVPEJDBHCkK0CZUwQr mk3JYwjoZ+nz4wsSnicO4XptyjR8RbGl33chxuSUJKTCtdajHHu5gL607cExH8KMSiW/m7z5 X-Google-Smtp-Source: AGHT+IF2LMLVAPgUhyrPnmtBamFRqr9urPtGIbW4ujPhqF/pynvcVxeomLVj9i2DF8ALS32W9360tPa43KJj X-Received: by 2002:a17:902:da4b:b0:237:ed38:a5b3 with SMTP id d9443c01a7336-23e256937femr172851855ad.8.1752876228372; Fri, 18 Jul 2025 15:03:48 -0700 (PDT) Received: from postal.iol.unh.edu (postal.iol.unh.edu. [132.177.123.84]) by smtp-relay.gmail.com with ESMTPS id d9443c01a7336-23e3b61fed8sm1281975ad.46.2025.07.18.15.03.48 (version=TLS1_2 cipher=ECDHE-ECDSA-AES128-GCM-SHA256 bits=128/128); Fri, 18 Jul 2025 15:03:48 -0700 (PDT) X-Relaying-Domain: iol.unh.edu Date: Fri, 18 Jul 2025 15:03:48 -0700 (PDT) Message-ID: <687ac4c4.170a0220.327196.674cSMTPIN_ADDED_MISSING@mx.google.com> Received: from [172.21.0.7] (unknown [172.18.0.240]) by postal.iol.unh.edu (Postfix) with ESMTP id CF2FC604D420; Fri, 18 Jul 2025 18:03:47 -0400 (EDT) Subject: |SUCCESS| pw155349 [PATCH] net/gve: free device resources in gve_dev From: dpdklab@iol.unh.edu To: Test Report Cc: dpdk-test-reports@iol.unh.edu In-Reply-To: <20250718182725.467544-1-jtranoleary@google.com> References: <20250718182725.467544-1-jtranoleary@google.com> Content-Type: text/plain X-BeenThere: test-report@dpdk.org X-Mailman-Version: 2.1.29 Precedence: list List-Id: automatic DPDK test reports List-Unsubscribe: , List-Archive: List-Post: List-Help: List-Subscribe: , Errors-To: test-report-bounces@dpdk.org Test-Label: iol-unit-amd64-testing Test-Status: SUCCESS http://dpdk.org/patch/155349 _Testing PASS_ Submitter: Jasper Tran O'Leary Date: Friday, July 18 2025 18:27:25 DPDK git baseline: Repo:dpdk Branch: master CommitID:9fe9c0b231c8da5435bfccb1963121b4277f961c 155349 --> testing pass Upstream job id: Generic-Unit-Test-DPDK#356377 Test environment and result as below: +-------------------------------+----------------+ | Environment | dpdk_unit_test | +===============================+================+ | CentOS Stream 9 | PASS | +-------------------------------+----------------+ | CentOS Stream 10 | PASS | +-------------------------------+----------------+ | Red Hat Enterprise Linux 8.10 | PASS | +-------------------------------+----------------+ | Debian GNU/Linux 12 | PASS | +-------------------------------+----------------+ | Fedora Linux 40 | PASS | +-------------------------------+----------------+ | Fedora Linux 41 | PASS | +-------------------------------+----------------+ | Ubuntu 20.04 | PASS | +-------------------------------+----------------+ | Red Hat Enterprise Linux 9.5 | PASS | +-------------------------------+----------------+ | Ubuntu 24.04 | PASS | +-------------------------------+----------------+ | Ubuntu 22.04 | PASS | +-------------------------------+----------------+ | Windows Server 2022 | PASS | +-------------------------------+----------------+ CentOS Stream 9 Kernel: 5.15 Compiler: gcc gcc (GCC) 11.5.0 20240719 (Red Hat 11.5.0-7) CentOS Stream 10 Kernel: 5.15 Compiler: gcc gcc (GCC) 14.2.1 20250110 (Red Hat 14.2.1-8) Red Hat Enterprise Linux 8.10 Kernel: 5.15 Compiler: gcc gcc (GCC) 8.5.0 20210514 (Red Hat 8.5.0-22) Debian GNU/Linux 12 Kernel: 5.15 Compiler: gcc gcc (Debian 12.2.0-14+deb12u1) 12.2.0 Fedora Linux 40 Kernel: 5.15 Compiler: gcc gcc (GCC) 14.2.1 20240912 (Red Hat 14.2.1-3) Fedora Linux 41 Kernel: 5.15 Compiler: clang gcc (GCC) 14.3.1 20250523 (Red Hat 14.3.1-1) Ubuntu 20.04 Kernel: 5.15 Compiler: gcc gcc (Ubuntu 9.4.0-1ubuntu1~20.04.2) 9.4.0 Red Hat Enterprise Linux 9.5 Kernel: 5.15 Compiler: gcc gcc (GCC) 11.5.0 20240719 (Red Hat 11.5.0-2) Ubuntu 24.04 Kernel: 5.15 Compiler: gcc gcc (Ubuntu 13.3.0-6ubuntu2~24.04) 13.3.0 Ubuntu 22.04 Kernel: 5.15 Compiler: gcc gcc (Ubuntu 11.4.0-1ubuntu1~22.04) 11.4.0 Windows Server 2022 Kernel: 10.0.20348.2031 Compiler: clang 15.0.7, gcc 14.1.0 (MinGW), and MSVC VS 19.39.33521 To view detailed results, visit: https://lab.dpdk.org/results/dashboard/patchsets/33692/ UNH-IOL DPDK Community Lab To manage your email subscriptions, visit: https://lab.dpdk.org/results/dashboard/preferences/subscriptions/