From mboxrd@z Thu Jan 1 00:00:00 1970 Return-Path: Received: from mails.dpdk.org (mails.dpdk.org [217.70.189.124]) by inbox.dpdk.org (Postfix) with ESMTP id 0344A46BAF for ; Sat, 19 Jul 2025 00:06:31 +0200 (CEST) Received: from mails.dpdk.org (localhost [127.0.0.1]) by mails.dpdk.org (Postfix) with ESMTP id EFD1940288; Sat, 19 Jul 2025 00:06:30 +0200 (CEST) Received: from mail-io1-f100.google.com (mail-io1-f100.google.com [209.85.166.100]) by mails.dpdk.org (Postfix) with ESMTP id C671F40288 for ; Sat, 19 Jul 2025 00:06:29 +0200 (CEST) Received: by mail-io1-f100.google.com with SMTP id ca18e2360f4ac-86efcef9194so101620539f.0 for ; Fri, 18 Jul 2025 15:06:29 -0700 (PDT) DKIM-Signature: v=1; a=rsa-sha256; c=relaxed/relaxed; d=iol.unh.edu; s=unh-iol; t=1752876389; x=1753481189; darn=dpdk.org; h=references:in-reply-to:cc:to:from:subject:message-id:date:from:to :cc:subject:date:message-id:reply-to; bh=2j99XSJm4JQTrgJHTCBu6j/e+4AGOwZCrV1fi6ftPmA=; b=QV5FFkSq3CPx+9yd6CWPp945e1thsHm5WB2gctl3oalmRL9JBWFa4OqQAsf+lHkImR 5Nnql8qpZUK/5wekS0ahzBWVrhyZRN9nBcWz7JHeafhKLxmwi6sCf7oVzlX5YKkQIRHs tPQ3hURS8MUDXYusmEHkTMjKGRE7t04EBHAQ8= X-Google-DKIM-Signature: v=1; a=rsa-sha256; c=relaxed/relaxed; d=1e100.net; s=20230601; t=1752876389; x=1753481189; h=references:in-reply-to:cc:to:from:subject:message-id:date :x-gm-message-state:from:to:cc:subject:date:message-id:reply-to; bh=2j99XSJm4JQTrgJHTCBu6j/e+4AGOwZCrV1fi6ftPmA=; b=ICJGfHwtzKZVN9ePkmiFigRjpnk8miQjf2HyUMs7ntJT789Q+1K6Kc8QSzK8ykZQiZ nOzzqsL4dd3YI+4fmHOVCZBY/pp/ONaM/WrKsNDIiRWhCIlr7dmi6dSSvH9JjIADlUCe zkMZkQuDKlFyFSConWqvmwzBnOSUg/cpLvr0Wyl+6gm1SNKxoswGHMgtFt4B6bOK1mjN HyYkciM+HFJ3J0GsDYKD++dzq56T4Zn2IujRDd/g5qBIVKhio25sS/8YpbqRopXplh5n BcK+f+Lkk3BE+tSJeOElPJtdvBjBIbK06L3Wk1A6YAibUgP8eyJc9QyZqV7zXjgSqXwf qEFw== X-Gm-Message-State: AOJu0YwNKkxycamWvTmWW7KeT7brg1LdDl8QRafZJWMZV3xLxVNvwbHg 2ggfR7qLYnl0ZL44vxweXPD9dobMoDSuuqWvzVl1j6yowH8SFf4pcSy4tnwKeAybVbvGW7R0/0a 9zxNKZ/U/FyaFCpbIh/ep1vSMyWDX/gkibjNMTeDjYqLR X-Gm-Gg: ASbGnctHOy/8+KmfE7Q+uhyCLAxDxgGtw1Ckpa/IGz20vfE3RqMx7b8X0JJyZd5uvPp 3cxuViy3CEnH5tR2+BZJW6u1RlBS7sfnNVDqGOE7vmOUOhC44j6vQ4M+oBb4siET9zoFhgphPJb xpMV1NjhHVFeYTZGi7rgVV3ggd/8E7fS3nhQ1Tg7UP4tgWq8kQGKBGYUcW3lvACGT/LXfv1knjA Z15I7Dwq1VzNL6TINN+FnHu1TCOMClNay/as/9bcFYSxa5eBvyL0r8LgFlHrToKqGqBWRsulNLI htTTMm7lvlVYHVskfZw+RPM4ZKzsoi3F1GNfORk+12Aue1bgsG8GeYvBM/Rzrklwwt2QhaaB X-Google-Smtp-Source: AGHT+IGGgXm40SwEz3Cg68ZX9tEe/9E48CEpUzHijinSarihU3QiVUdjfurZv7lUm31FRd7Ug1r8v2kd1XSq X-Received: by 2002:a05:6602:340c:b0:879:c298:3553 with SMTP id ca18e2360f4ac-87c0ef9dbe3mr464892639f.3.1752876388971; Fri, 18 Jul 2025 15:06:28 -0700 (PDT) Received: from postal.iol.unh.edu (postal.iol.unh.edu. [132.177.123.84]) by smtp-relay.gmail.com with ESMTPS id ca18e2360f4ac-87c0e4efd86sm12980839f.10.2025.07.18.15.06.28 (version=TLS1_2 cipher=ECDHE-ECDSA-AES128-GCM-SHA256 bits=128/128); Fri, 18 Jul 2025 15:06:28 -0700 (PDT) X-Relaying-Domain: iol.unh.edu Date: Fri, 18 Jul 2025 15:06:28 -0700 (PDT) Message-ID: <687ac564.050a0220.31faa9.6b87SMTPIN_ADDED_MISSING@mx.google.com> Received: from [172.21.0.3] (unknown [172.18.0.240]) by postal.iol.unh.edu (Postfix) with ESMTP id 808D3604D420; Fri, 18 Jul 2025 18:06:28 -0400 (EDT) Subject: |SUCCESS| pw155324-155332 [PATCH] [v3,9/9] eal: simplify handling of From: dpdklab@iol.unh.edu To: Test Report Cc: dpdk-test-reports@iol.unh.edu In-Reply-To: <20250718143356.1578988-10-bruce.richardson@intel.com> References: <20250718143356.1578988-10-bruce.richardson@intel.com> Content-Type: text/plain X-BeenThere: test-report@dpdk.org X-Mailman-Version: 2.1.29 Precedence: list List-Id: automatic DPDK test reports List-Unsubscribe: , List-Archive: List-Post: List-Help: List-Subscribe: , Errors-To: test-report-bounces@dpdk.org Test-Label: iol-compile-arm64-testing Test-Status: SUCCESS http://dpdk.org/patch/155332 _Testing PASS_ Submitter: Bruce Richardson Date: Friday, July 18 2025 14:33:55 DPDK git baseline: Repo:dpdk Branch: master CommitID:20a053a223db35244b6daee98d71fdab631646b6 155324-155332 --> testing pass Upstream job id: Generic-DPDK-Compile-Meson#409792 Test environment and result as below: +------------------------------+--------------------+ | Environment | dpdk_meson_compile | +==============================+====================+ | Red Hat Enterprise Linux 9.5 | PASS | +------------------------------+--------------------+ | Ubuntu 20.04 | PASS | +------------------------------+--------------------+ | Fedora Linux 40 | PASS | +------------------------------+--------------------+ | Fedora Linux 41 | PASS | +------------------------------+--------------------+ | CentOS Stream 9 | PASS | +------------------------------+--------------------+ | Ubuntu 22.04 | PASS | +------------------------------+--------------------+ | Debian GNU/Linux 12 | PASS | +------------------------------+--------------------+ | Ubuntu 24.04 | PASS | +------------------------------+--------------------+ | CentOS Stream 10 | PASS | +------------------------------+--------------------+ Red Hat Enterprise Linux 9.5 Kernel: 5.4 Compiler: gcc gcc (GCC) 11.5.0 20240719 (Red Hat 11.5.0-2) Ubuntu 20.04 Kernel: 5.15 Compiler: aarch64-linux-gnu-gcc gcc (Ubuntu 9.4.0-1ubuntu1~20.04.2) 9.4.0 Fedora Linux 40 Kernel: 5.4 Compiler: clang gcc (GCC) 14.2.1 20240912 (Red Hat 14.2.1-3) Fedora Linux 41 Kernel: 5.4 Compiler: gcc gcc (GCC) 14.3.1 20250523 (Red Hat 14.3.1-1) CentOS Stream 9 Kernel: 5.4 Compiler: gcc gcc (GCC) 11.5.0 20240719 (Red Hat 11.5.0-7) Ubuntu 22.04 Kernel: 5.4 Compiler: gcc gcc (Ubuntu 11.4.0-1ubuntu1~22.04) 11.4.0 Debian GNU/Linux 12 Kernel: 5.4 Compiler: gcc gcc (Debian 12.2.0-14+deb12u1) 12.2.0 Ubuntu 24.04 Kernel: 5.4 Compiler: gcc gcc (Ubuntu 13.3.0-6ubuntu2~24.04) 13.3.0 CentOS Stream 10 Kernel: 5.4 Compiler: gcc gcc (GCC) 14.2.1 20250110 (Red Hat 14.2.1-8) To view detailed results, visit: https://lab.dpdk.org/results/dashboard/patchsets/33688/ UNH-IOL DPDK Community Lab To manage your email subscriptions, visit: https://lab.dpdk.org/results/dashboard/preferences/subscriptions/