From mboxrd@z Thu Jan 1 00:00:00 1970 Return-Path: Received: from mails.dpdk.org (mails.dpdk.org [217.70.189.124]) by inbox.dpdk.org (Postfix) with ESMTP id 580A346BAF for ; Sat, 19 Jul 2025 00:32:07 +0200 (CEST) Received: from mails.dpdk.org (localhost [127.0.0.1]) by mails.dpdk.org (Postfix) with ESMTP id 3460D40288; Sat, 19 Jul 2025 00:32:07 +0200 (CEST) Received: from mail-yb1-f227.google.com (mail-yb1-f227.google.com [209.85.219.227]) by mails.dpdk.org (Postfix) with ESMTP id 5554340288 for ; Sat, 19 Jul 2025 00:32:06 +0200 (CEST) Received: by mail-yb1-f227.google.com with SMTP id 3f1490d57ef6-e8d7122c3a5so2109832276.1 for ; Fri, 18 Jul 2025 15:32:06 -0700 (PDT) DKIM-Signature: v=1; a=rsa-sha256; c=relaxed/relaxed; d=iol.unh.edu; s=unh-iol; t=1752877925; x=1753482725; darn=dpdk.org; h=references:in-reply-to:cc:to:from:subject:message-id:date:from:to :cc:subject:date:message-id:reply-to; bh=1Gmgo3ey4VY6HsEXQjQ+itJY9xeM48OCvvLsyIR6FQU=; b=iZDMS/jRK0lwYxFi8zEQAhCU17qWHdhRIUf/B9IVtBr1nCmAkBn4DICyJ5ncLbqFqd H8hvO5rFw2OrZSudZo35Jto5ufu5o1Gazg4SmLgeUt2QFiGwcdF6vLeyrVxT9+0/Qhmd MUzDZ9VSZEc14aqrMCRoN8fQ45fRf7byhguRw= X-Google-DKIM-Signature: v=1; a=rsa-sha256; c=relaxed/relaxed; d=1e100.net; s=20230601; t=1752877925; x=1753482725; h=references:in-reply-to:cc:to:from:subject:message-id:date :x-gm-message-state:from:to:cc:subject:date:message-id:reply-to; bh=1Gmgo3ey4VY6HsEXQjQ+itJY9xeM48OCvvLsyIR6FQU=; b=dTjPD50cFLyxN85A0UiLGTvm+G1vRRhE8LUzDDApZf2J9mjwIAqomoPfHYfKhKaESy 5u1JueErIDNe4nIYzEIS18n+XEozBASK8UniCYqtsuj5ZO9KZTvLhQhlR43elnWy07UL ulCtiavXEhEXUxutttpPi8Ig0AQIzY710eI3q6XiISaSj5RLgLnMV3HIdMKFssO8GX0l Q7NyQcQglVvi4B1IRmVBzkjjBxgIbhkbjJkdXLR6+4RvNEBREhnDe+yHAxzEcSvyryFm 341Epz3S0+DeLmiLQmHgqhhB0Sm9IBsXvuTW4TWL5iH8dAb8fiPb+f/QdpJ1odbdaQ7o GuGw== X-Gm-Message-State: AOJu0Yzo8ZqOG8LcrSpwsPtlR92vWoq75VK15BUmyzka0mP/74C/VInQ j9vmPhrMQYd2pvW+KRqO2Int4b46kfIKsPQcJEeFx4xWR+6H0j3M9VdZddWDZyzGMBDlO5fqrbG HUC+GJnG7yQAjJ7qsUlkk7fZaPaKJl5UgsLdjOzge+Jtu X-Gm-Gg: ASbGncs9DSre9+xDXK/BKqrl/+L2bJy0iDgHdDjGKP9fm/38ICZ8SdfuNT6t9tFBkkS bdfQVkf+F9eFdCjrY7r1oopwRhbU7aphfH5o9RKH+nTOajA26gM7rrMWjg8y7SjQjHC6tkjKtaw DC+0pri7mg3bjq4jR4pCBIzc4Yhiavy0a464Niyqblgn5k94PtGeTklOCqqAw+NsoBNe3umQWLY QptPS+9GbRs01hatD/Qno+nULtGp2AietRUkRLcKSOv6Ug8yJQZ6uUDfd5LssslnnLMDkNanrgr bTNfDmN6mIVYNQpjJ5QnVaWKeigzmznwRrMhspKErZvjLjHq8oO5XNhTsuPjBwfguHSR+4kQ X-Google-Smtp-Source: AGHT+IFxsJO62yRsDmvp04IdDyWsv/Vu2Q8xlDqOFN4rwh3rymzSee8ZeX1p/bMrdFA5TasKEVD9J8a2SOI8 X-Received: by 2002:a05:690c:f83:b0:70f:8883:eb1a with SMTP id 00721157ae682-718370e7e35mr170354337b3.6.1752877925518; Fri, 18 Jul 2025 15:32:05 -0700 (PDT) Received: from postal.iol.unh.edu (postal.iol.unh.edu. [132.177.123.84]) by smtp-relay.gmail.com with ESMTPS id 00721157ae682-71953104e04sm1247167b3.7.2025.07.18.15.32.05 (version=TLS1_2 cipher=ECDHE-ECDSA-AES128-GCM-SHA256 bits=128/128); Fri, 18 Jul 2025 15:32:05 -0700 (PDT) X-Relaying-Domain: iol.unh.edu Date: Fri, 18 Jul 2025 15:32:05 -0700 (PDT) Message-ID: <687acb65.050a0220.17a6e6.69e2SMTPIN_ADDED_MISSING@mx.google.com> Received: from [172.21.0.2] (unknown [172.18.0.240]) by postal.iol.unh.edu (Postfix) with ESMTP id 34D5A6051830; Fri, 18 Jul 2025 18:32:05 -0400 (EDT) Subject: |SUCCESS| pw155349 [PATCH] net/gve: free device resources in gve_dev From: dpdklab@iol.unh.edu To: Test Report Cc: dpdk-test-reports@iol.unh.edu In-Reply-To: <20250718182725.467544-1-jtranoleary@google.com> References: <20250718182725.467544-1-jtranoleary@google.com> Content-Type: text/plain X-BeenThere: test-report@dpdk.org X-Mailman-Version: 2.1.29 Precedence: list List-Id: automatic DPDK test reports List-Unsubscribe: , List-Archive: List-Post: List-Help: List-Subscribe: , Errors-To: test-report-bounces@dpdk.org Test-Label: iol-abi-testing Test-Status: SUCCESS http://dpdk.org/patch/155349 _Testing PASS_ Submitter: Jasper Tran O'Leary Date: Friday, July 18 2025 18:27:25 DPDK git baseline: Repo:dpdk Branch: master CommitID:9fe9c0b231c8da5435bfccb1963121b4277f961c 155349 --> testing pass Upstream job id: Generic-DPDK-Compile-ABI#134842 Test environment and result as below: +-------------------------------+----------+ | Environment | abi_test | +===============================+==========+ | CentOS Stream 9 | PASS | +-------------------------------+----------+ | CentOS Stream 10 | PASS | +-------------------------------+----------+ | Fedora Linux 40 | PASS | +-------------------------------+----------+ | Debian GNU/Linux 12 | PASS | +-------------------------------+----------+ | Fedora Linux 41 | PASS | +-------------------------------+----------+ | openSUSE Leap 15.6 | PASS | +-------------------------------+----------+ | Red Hat Enterprise Linux 9.5 | PASS | +-------------------------------+----------+ | Red Hat Enterprise Linux 8.10 | PASS | +-------------------------------+----------+ | Ubuntu 22.04 | PASS | +-------------------------------+----------+ | Ubuntu 24.04 | PASS | +-------------------------------+----------+ CentOS Stream 9 Kernel: 5.15 Compiler: gcc gcc (GCC) 11.5.0 20240719 (Red Hat 11.5.0-7) CentOS Stream 10 Kernel: 5.15 Compiler: gcc gcc (GCC) 14.2.1 20250110 (Red Hat 14.2.1-8) Fedora Linux 40 Kernel: 5.15 Compiler: clang gcc (GCC) 14.2.1 20240912 (Red Hat 14.2.1-3) Debian GNU/Linux 12 Kernel: 5.15 Compiler: gcc gcc (Debian 12.2.0-14+deb12u1) 12.2.0 Fedora Linux 41 Kernel: 5.15 Compiler: gcc gcc (GCC) 14.3.1 20250523 (Red Hat 14.3.1-1) openSUSE Leap 15.6 Kernel: 5.15 Compiler: gcc gcc (SUSE Linux) 7.5.0 Red Hat Enterprise Linux 9.5 Kernel: 5.15 Compiler: gcc gcc (GCC) 11.5.0 20240719 (Red Hat 11.5.0-2) Red Hat Enterprise Linux 8.10 Kernel: 5.15 Compiler: gcc gcc (GCC) 8.5.0 20210514 (Red Hat 8.5.0-22) Ubuntu 22.04 Kernel: 5.15 Compiler: gcc gcc (Ubuntu 11.4.0-1ubuntu1~22.04) 11.4.0 Ubuntu 24.04 Kernel: 5.15 Compiler: gcc gcc (Ubuntu 13.3.0-6ubuntu2~24.04) 13.3.0 To view detailed results, visit: https://lab.dpdk.org/results/dashboard/patchsets/33692/ UNH-IOL DPDK Community Lab To manage your email subscriptions, visit: https://lab.dpdk.org/results/dashboard/preferences/subscriptions/