From mboxrd@z Thu Jan 1 00:00:00 1970 Return-Path: Received: from mails.dpdk.org (mails.dpdk.org [217.70.189.124]) by inbox.dpdk.org (Postfix) with ESMTP id BE13C46BAF for ; Sat, 19 Jul 2025 00:35:53 +0200 (CEST) Received: from mails.dpdk.org (localhost [127.0.0.1]) by mails.dpdk.org (Postfix) with ESMTP id 9AB8640288; Sat, 19 Jul 2025 00:35:53 +0200 (CEST) Received: from mail-qt1-f228.google.com (mail-qt1-f228.google.com [209.85.160.228]) by mails.dpdk.org (Postfix) with ESMTP id D975940288 for ; Sat, 19 Jul 2025 00:35:52 +0200 (CEST) Received: by mail-qt1-f228.google.com with SMTP id d75a77b69052e-4ab63f8fb91so23525411cf.0 for ; Fri, 18 Jul 2025 15:35:52 -0700 (PDT) DKIM-Signature: v=1; a=rsa-sha256; c=relaxed/relaxed; d=iol.unh.edu; s=unh-iol; t=1752878152; x=1753482952; darn=dpdk.org; h=references:in-reply-to:cc:to:from:subject:message-id:date:from:to :cc:subject:date:message-id:reply-to; bh=aiLBJ5cO1IxWSgohsfoXQ1ww55dxZPivwFJ4mboxTac=; b=efJW8eXU4ULBQ3UfYX+3qxY1QFf3V0p9y0go2y78sAittTgKSjJ9Nz1LWRq8sCzROE Xbi4L/sG3mQW0+mE+PS0CQR7UXdw80Mam29Z1D1hBBFIzM0eD4DS4pcrDL7P9FcyXwtv mzyjFM8pplhpnlwZqivVWidiUGwiGnQ1eM+IU= X-Google-DKIM-Signature: v=1; a=rsa-sha256; c=relaxed/relaxed; d=1e100.net; s=20230601; t=1752878152; x=1753482952; h=references:in-reply-to:cc:to:from:subject:message-id:date :x-gm-message-state:from:to:cc:subject:date:message-id:reply-to; bh=aiLBJ5cO1IxWSgohsfoXQ1ww55dxZPivwFJ4mboxTac=; b=V05qxOJyVfW0/k54WjJDNPk9UGX0KwkhozAtozxcY7sVX2takaEnu3xaqC4gNCrQ7w r5mFqvsu3t+0gFArwXx6vUJaaBs3M3aPAykcT6Vw7icZ48BUuKg05rIf9Xb2C7ELbZDD SQIVHkJG2hRAn7RQVspudlbbMa5zFhWHts0AOLbnbV7RU4lX8bFThBeZ6HfummJpSToN 4D5q5JW7Lgsfldxm9VDiYBsjvgdHJTV77VRTOl2FUowgnpwIvAkMSIw695SRDktrp2Xb R3hBdcEpIqtuv+94suj6Ka9PWZG4p7+py3tWbac/yDAt4KZE8Oay8sh3fpWy5BRX/ldO n3Ow== X-Gm-Message-State: AOJu0YyK+T3FTSlPZqEWwdrF43ckwJQYtCLpe/9l1kQObnFhKWnMD4sF I3cqJUhnsqvIsyH25WFKkvtO40GqyZHEGKGmGs97QVXKQEFP1Rk50Ul5lYtOQ8/veVQDDyreJmL RPuAc5WkfQYE/GctPcH0P+Mc4kDe6oOEcneWFqC4yC6IR X-Gm-Gg: ASbGncsfS68DFYyTGwNxzR0vVmhPY7wDaAIStlzDeUIgesHe/dnSXc+WtFikCER19UP 5grU/C9i/5xIFwIgTNUmnIvzo40kENLkKWf5mk8Rj/od8LHAbqn3yMHebI8CEVlHK0GAL5fQUMb sm/J0JFJ+2JkLmj2upOEs+kd1upEkfaPMaXz0YgkhShUEYE8X/DHE1SDOnDzb/t8/nc7HjgQwvy wGtGtp+E++BcQ7bbSdI07NU2NchdZCU8Ny7el8mfV2pL222CS6P8IMQAzVXEjFuj21vdlw8fPu5 wWyuWli/UMLtfDNRoXG6r+vb0FgEU53GK/jmpS6jci4qEDgUUeTCmSoYA0wtN2EbuX8sDdrq X-Google-Smtp-Source: AGHT+IHB96wnU5IlEMHSJlq1cOpqmvR4qTlrcTCl/Jct+Y9ATprYutvAyvUEOIU620zPhbBmbkE+Rc8AT3fE X-Received: by 2002:a05:6214:dcc:b0:6fa:c8c7:82f7 with SMTP id 6a1803df08f44-704f6aa029fmr156608786d6.20.1752878152175; Fri, 18 Jul 2025 15:35:52 -0700 (PDT) Received: from postal.iol.unh.edu (postal.iol.unh.edu. [132.177.123.84]) by smtp-relay.gmail.com with ESMTPS id 6a1803df08f44-7051bd65f38sm1156056d6.53.2025.07.18.15.35.52 (version=TLS1_2 cipher=ECDHE-ECDSA-AES128-GCM-SHA256 bits=128/128); Fri, 18 Jul 2025 15:35:52 -0700 (PDT) X-Relaying-Domain: iol.unh.edu Date: Fri, 18 Jul 2025 15:35:52 -0700 (PDT) Message-ID: <687acc48.050a0220.3c1d94.5e10SMTPIN_ADDED_MISSING@mx.google.com> Received: from [172.21.0.2] (unknown [172.18.0.240]) by postal.iol.unh.edu (Postfix) with ESMTP id E37FD6051830; Fri, 18 Jul 2025 18:35:51 -0400 (EDT) Subject: |SUCCESS| pw155349 [PATCH] net/gve: free device resources in gve_dev From: dpdklab@iol.unh.edu To: Test Report Cc: dpdk-test-reports@iol.unh.edu In-Reply-To: <20250718182725.467544-1-jtranoleary@google.com> References: <20250718182725.467544-1-jtranoleary@google.com> Content-Type: text/plain X-BeenThere: test-report@dpdk.org X-Mailman-Version: 2.1.29 Precedence: list List-Id: automatic DPDK test reports List-Unsubscribe: , List-Archive: List-Post: List-Help: List-Subscribe: , Errors-To: test-report-bounces@dpdk.org Test-Label: iol-compile-amd64-testing Test-Status: SUCCESS http://dpdk.org/patch/155349 _Testing PASS_ Submitter: Jasper Tran O'Leary Date: Friday, July 18 2025 18:27:25 DPDK git baseline: Repo:dpdk Branch: master CommitID:9fe9c0b231c8da5435bfccb1963121b4277f961c 155349 --> testing pass Upstream job id: Generic-DPDK-Compile-Meson#409899 Test environment and result as below: +-------------------------------+--------------------+-------------------------+-------------------+----------------------+-------------------+------------------+ | Environment | dpdk_meson_compile | dpdk_llvm_clang_compile | dpdk_msvc_compile | dpdk_mingw64_compile | dpdk_compile_spdk | dpdk_compile_ovs | +===============================+====================+=========================+===================+======================+===================+==================+ | FreeBSD 14.2 | PASS | SKIPPED | SKIPPED | SKIPPED | SKIPPED | SKIPPED | +-------------------------------+--------------------+-------------------------+-------------------+----------------------+-------------------+------------------+ | Ubuntu 20.04 | PASS | SKIPPED | SKIPPED | SKIPPED | SKIPPED | SKIPPED | +-------------------------------+--------------------+-------------------------+-------------------+----------------------+-------------------+------------------+ | CentOS Stream 9 | PASS | SKIPPED | SKIPPED | SKIPPED | PASS | SKIPPED | +-------------------------------+--------------------+-------------------------+-------------------+----------------------+-------------------+------------------+ | CentOS Stream 10 | PASS | SKIPPED | SKIPPED | SKIPPED | SKIPPED | SKIPPED | +-------------------------------+--------------------+-------------------------+-------------------+----------------------+-------------------+------------------+ | Fedora Linux 40 | PASS | SKIPPED | SKIPPED | SKIPPED | PASS | SKIPPED | +-------------------------------+--------------------+-------------------------+-------------------+----------------------+-------------------+------------------+ | Fedora Linux 41 | PASS | SKIPPED | SKIPPED | SKIPPED | PASS | PASS | +-------------------------------+--------------------+-------------------------+-------------------+----------------------+-------------------+------------------+ | openSUSE Leap 15.6 | PASS | SKIPPED | SKIPPED | SKIPPED | SKIPPED | SKIPPED | +-------------------------------+--------------------+-------------------------+-------------------+----------------------+-------------------+------------------+ | Red Hat Enterprise Linux 8.10 | PASS | SKIPPED | SKIPPED | SKIPPED | SKIPPED | SKIPPED | +-------------------------------+--------------------+-------------------------+-------------------+----------------------+-------------------+------------------+ | Red Hat Enterprise Linux 9.5 | PASS | SKIPPED | SKIPPED | SKIPPED | SKIPPED | SKIPPED | +-------------------------------+--------------------+-------------------------+-------------------+----------------------+-------------------+------------------+ | Ubuntu 22.04 | PASS | SKIPPED | SKIPPED | SKIPPED | PASS | SKIPPED | +-------------------------------+--------------------+-------------------------+-------------------+----------------------+-------------------+------------------+ | Ubuntu 24.04 | PASS | SKIPPED | SKIPPED | SKIPPED | PASS | PASS | +-------------------------------+--------------------+-------------------------+-------------------+----------------------+-------------------+------------------+ | Alpine Linux 3.22.0 | PASS | SKIPPED | SKIPPED | SKIPPED | SKIPPED | SKIPPED | +-------------------------------+--------------------+-------------------------+-------------------+----------------------+-------------------+------------------+ | Debian GNU/Linux 12 | PASS | SKIPPED | SKIPPED | SKIPPED | PASS | SKIPPED | +-------------------------------+--------------------+-------------------------+-------------------+----------------------+-------------------+------------------+ | Windows Server 2022 | SKIPPED | PASS | PASS | PASS | SKIPPED | SKIPPED | +-------------------------------+--------------------+-------------------------+-------------------+----------------------+-------------------+------------------+ FreeBSD 14.2 Kernel: 14.2-RELEASE Compiler: clang 18.1.6 Ubuntu 20.04 Kernel: 4.19 Compiler: gcc gcc (Ubuntu 9.4.0-1ubuntu1~20.04.2) 9.4.0 CentOS Stream 9 Kernel: 5.15 Compiler: gcc gcc (GCC) 11.5.0 20240719 (Red Hat 11.5.0-7) CentOS Stream 10 Kernel: 5.15 Compiler: gcc gcc (GCC) 14.2.1 20250110 (Red Hat 14.2.1-8) Fedora Linux 40 Kernel: 5.15 Compiler: clang gcc (GCC) 14.2.1 20240912 (Red Hat 14.2.1-3) Fedora Linux 41 Kernel: 5.15 Compiler: clang gcc (GCC) 14.3.1 20250523 (Red Hat 14.3.1-1) openSUSE Leap 15.6 Kernel: 5.15 Compiler: gcc gcc (SUSE Linux) 7.5.0 Red Hat Enterprise Linux 8.10 Kernel: 5.15 Compiler: gcc gcc (GCC) 8.5.0 20210514 (Red Hat 8.5.0-22) Red Hat Enterprise Linux 9.5 Kernel: 5.15 Compiler: gcc gcc (GCC) 11.5.0 20240719 (Red Hat 11.5.0-2) Ubuntu 22.04 Kernel: 5.15 Compiler: gcc gcc (Ubuntu 11.4.0-1ubuntu1~22.04) 11.4.0 Ubuntu 24.04 Kernel: 5.15 Compiler: gcc gcc (Ubuntu 13.3.0-6ubuntu2~24.04) 13.3.0 Alpine Linux 3.22.0 Kernel: 5.15 Compiler: gcc gcc (Alpine 14.2.0) 14.2.0 Debian GNU/Linux 12 Kernel: 5.15 Compiler: gcc gcc (Debian 12.2.0-14+deb12u1) 12.2.0 Windows Server 2022 Kernel: 10.0.20348.2031 Compiler: clang 15.0.7, gcc 14.1.0 (MinGW), and MSVC VS 19.39.33521 To view detailed results, visit: https://lab.dpdk.org/results/dashboard/patchsets/33692/ UNH-IOL DPDK Community Lab To manage your email subscriptions, visit: https://lab.dpdk.org/results/dashboard/preferences/subscriptions/