From mboxrd@z Thu Jan 1 00:00:00 1970 Return-Path: Received: from mails.dpdk.org (mails.dpdk.org [217.70.189.124]) by inbox.dpdk.org (Postfix) with ESMTP id 9A5C646BAF for ; Sat, 19 Jul 2025 00:57:16 +0200 (CEST) Received: from mails.dpdk.org (localhost [127.0.0.1]) by mails.dpdk.org (Postfix) with ESMTP id 9447240288; Sat, 19 Jul 2025 00:57:16 +0200 (CEST) Received: from mail-il1-f228.google.com (mail-il1-f228.google.com [209.85.166.228]) by mails.dpdk.org (Postfix) with ESMTP id 68EFF40288 for ; Sat, 19 Jul 2025 00:57:15 +0200 (CEST) Received: by mail-il1-f228.google.com with SMTP id e9e14a558f8ab-3e25355160dso8866905ab.0 for ; Fri, 18 Jul 2025 15:57:15 -0700 (PDT) DKIM-Signature: v=1; a=rsa-sha256; c=relaxed/relaxed; d=iol.unh.edu; s=unh-iol; t=1752879435; x=1753484235; darn=dpdk.org; h=references:in-reply-to:cc:to:from:subject:message-id:date:from:to :cc:subject:date:message-id:reply-to; bh=OWyI7i9EHQTSbvlnno9hOfFYTXN2cvHe+cBc/fIWtr4=; b=D8QNYrBbHPAMpYenGCP+pujBJG9LwfJ0lIGQq+lan92LNcHRaku+lxKULo002GkwQx LlFycKt2odJHIdoJ0NgtgtI1O5Z1mVJYe3e3Aq1Um9LtPEvjWRdYsGdSxgGR8wRYe5rx p8XnMtjsqcFLsPDYYWOPDLjNR5ZW/iXJMyZlY= X-Google-DKIM-Signature: v=1; a=rsa-sha256; c=relaxed/relaxed; d=1e100.net; s=20230601; t=1752879435; x=1753484235; h=references:in-reply-to:cc:to:from:subject:message-id:date :x-gm-message-state:from:to:cc:subject:date:message-id:reply-to; bh=OWyI7i9EHQTSbvlnno9hOfFYTXN2cvHe+cBc/fIWtr4=; b=gX7You9YhrFWX9OwsWOZvEU60EBsRSdNrycSqsrDoQZhWoE4kRMSSE0rGkug5n2w2g 1hhA4ZmBLdrDtiFFBgPUlilmUh8A/xH7pO3boUaaMxwG312wAMfGrPf/mQ5pRMlx03tE 1kohj0EV9huIxPKA8eovBaRaiYf/JXnwk9uVuXhVlsVNj6P/MEMzeyAj4J8cpuz0D816 Ug9eWzqmxhj3Ep5pvhE4uJwFX0GFSrt5ecQNAbg8HfUpXAC09lM8uTma4OF3LdwnFj9E RBZxLo1Q/XrmyuU5FNuqp55pw/FzwA0O00L01qkckjYrITSxsHEdM9uZJ5gMpGvRBHb/ TdXA== X-Gm-Message-State: AOJu0Yxjo5Szq4suLIXkdJi6/eSOMpqeGZzo1Q2P521DeslEmZVUM66r Rt9yBeH1Z4jtjZKQBWn6Z7i7blQ0kjsSiKlc5Ud5HF6p1aTjvNuNKbac9q3Z7/xqkg89THhPcbc JsUe8HOSAuUru6Z2+MJ0K4wQzVpNv1Lzv3mZAUEEda70F X-Gm-Gg: ASbGncv9hTmstorc/ekpIpBVRKmi8IeZvO4RmaG6DCNlh/lKs5uvBZZvi1/HX22qMEB ZyFZ8gO4q9r2HqSXiPhq1457CAjSKWcy9V6e9lBrl6aGkh1lxwc0mxoyTXemKjKip9ABfR8AS6g qvVJOXpvm4zYcE/zVfr4iCc0gYrXnpF15VbeGTO/ux/fa+p8hOkRmzRKgNtbQZjmxrydcNl4OE4 v6e0zOxnwznaDdkoOOV/R6mcjJPswa9C+8OS/odOePhWFEMx6EBNtF6Qum5ijgwicOeHtmobSIv jjy6XZBLg2x1ykR3HqQ1Tf4/V1O1qHaHdvaCPw9HsRpMaMoPip4P/+OGGo2z1OYHrmXePe/6 X-Google-Smtp-Source: AGHT+IEAeq7p2dqqVqcjeOlJAVFcMuEVSVEKR9r6I/77WQpPfQpmNAro98cIZerppUUlSlYuPgTXC/D6gTFK X-Received: by 2002:a05:6e02:3182:b0:3e2:9caa:7cbb with SMTP id e9e14a558f8ab-3e29caa80f1mr26783115ab.9.1752879434638; Fri, 18 Jul 2025 15:57:14 -0700 (PDT) Received: from postal.iol.unh.edu (postal.iol.unh.edu. [132.177.123.84]) by smtp-relay.gmail.com with ESMTPS id 8926c6da1cb9f-5084c76e448sm104427173.12.2025.07.18.15.57.14 (version=TLS1_2 cipher=ECDHE-ECDSA-AES128-GCM-SHA256 bits=128/128); Fri, 18 Jul 2025 15:57:14 -0700 (PDT) X-Relaying-Domain: iol.unh.edu Date: Fri, 18 Jul 2025 15:57:14 -0700 (PDT) Message-ID: <687ad14a.050a0220.12a5bf.74aaSMTPIN_ADDED_MISSING@mx.google.com> Received: from [172.21.0.2] (unknown [172.18.0.240]) by postal.iol.unh.edu (Postfix) with ESMTP id 3C6526051830; Fri, 18 Jul 2025 18:57:14 -0400 (EDT) Subject: |SUCCESS| pw155335 [PATCH] [v2] net/intel: fix assumption about tag From: dpdklab@iol.unh.edu To: Test Report Cc: dpdk-test-reports@iol.unh.edu In-Reply-To: <20250718154312.1716432-1-bruce.richardson@intel.com> References: <20250718154312.1716432-1-bruce.richardson@intel.com> Content-Type: text/plain X-BeenThere: test-report@dpdk.org X-Mailman-Version: 2.1.29 Precedence: list List-Id: automatic DPDK test reports List-Unsubscribe: , List-Archive: List-Post: List-Help: List-Subscribe: , Errors-To: test-report-bounces@dpdk.org Test-Label: iol-compile-arm64-testing Test-Status: SUCCESS http://dpdk.org/patch/155335 _Testing PASS_ Submitter: Bruce Richardson Date: Friday, July 18 2025 15:43:12 DPDK git baseline: Repo:dpdk Branch: master CommitID:a6b10031d251fcc7dadede461f7e1d005024b139 155335 --> testing pass Upstream job id: Generic-DPDK-Compile-Meson#409837 Test environment and result as below: +------------------------------+--------------------+ | Environment | dpdk_meson_compile | +==============================+====================+ | Red Hat Enterprise Linux 9.5 | PASS | +------------------------------+--------------------+ | Ubuntu 20.04 | PASS | +------------------------------+--------------------+ | Fedora Linux 40 | PASS | +------------------------------+--------------------+ | Fedora Linux 41 | PASS | +------------------------------+--------------------+ | Ubuntu 22.04 | PASS | +------------------------------+--------------------+ | Ubuntu 24.04 | PASS | +------------------------------+--------------------+ | CentOS Stream 9 | PASS | +------------------------------+--------------------+ | CentOS Stream 10 | PASS | +------------------------------+--------------------+ | Debian GNU/Linux 12 | PASS | +------------------------------+--------------------+ Red Hat Enterprise Linux 9.5 Kernel: 5.4 Compiler: gcc gcc (GCC) 11.5.0 20240719 (Red Hat 11.5.0-2) Ubuntu 20.04 Kernel: 5.15 Compiler: aarch64-linux-gnu-gcc gcc (Ubuntu 9.4.0-1ubuntu1~20.04.2) 9.4.0 Fedora Linux 40 Kernel: 5.4 Compiler: gcc gcc (GCC) 14.2.1 20240912 (Red Hat 14.2.1-3) Fedora Linux 41 Kernel: 5.4 Compiler: clang gcc (GCC) 14.3.1 20250523 (Red Hat 14.3.1-1) Ubuntu 22.04 Kernel: 5.4 Compiler: gcc gcc (Ubuntu 11.4.0-1ubuntu1~22.04) 11.4.0 Ubuntu 24.04 Kernel: 5.4 Compiler: gcc gcc (Ubuntu 13.3.0-6ubuntu2~24.04) 13.3.0 CentOS Stream 9 Kernel: 5.4 Compiler: gcc gcc (GCC) 11.5.0 20240719 (Red Hat 11.5.0-7) CentOS Stream 10 Kernel: 5.4 Compiler: gcc gcc (GCC) 14.2.1 20250110 (Red Hat 14.2.1-8) Debian GNU/Linux 12 Kernel: 5.4 Compiler: gcc gcc (Debian 12.2.0-14+deb12u1) 12.2.0 To view detailed results, visit: https://lab.dpdk.org/results/dashboard/patchsets/33690/ UNH-IOL DPDK Community Lab To manage your email subscriptions, visit: https://lab.dpdk.org/results/dashboard/preferences/subscriptions/