From mboxrd@z Thu Jan 1 00:00:00 1970 Return-Path: Received: from mails.dpdk.org (mails.dpdk.org [217.70.189.124]) by inbox.dpdk.org (Postfix) with ESMTP id AE08546BAF for ; Sat, 19 Jul 2025 00:57:43 +0200 (CEST) Received: from mails.dpdk.org (localhost [127.0.0.1]) by mails.dpdk.org (Postfix) with ESMTP id A9FFB40288; Sat, 19 Jul 2025 00:57:43 +0200 (CEST) Received: from mail-pl1-f228.google.com (mail-pl1-f228.google.com [209.85.214.228]) by mails.dpdk.org (Postfix) with ESMTP id D20F440288 for ; Sat, 19 Jul 2025 00:57:42 +0200 (CEST) Received: by mail-pl1-f228.google.com with SMTP id d9443c01a7336-235f9ea8d08so22224355ad.1 for ; Fri, 18 Jul 2025 15:57:42 -0700 (PDT) DKIM-Signature: v=1; a=rsa-sha256; c=relaxed/relaxed; d=iol.unh.edu; s=unh-iol; t=1752879462; x=1753484262; darn=dpdk.org; h=references:in-reply-to:cc:to:from:subject:message-id:date:from:to :cc:subject:date:message-id:reply-to; bh=CAI5prOFxJIY/eMi5kWLbBUFLcELscEcGgsecc+VeS4=; b=RztZLo/fcgDI8sVAK3DWoLA7BLY9w3d7ajsLnTwwIkXFMlky0iX9mDIm7t1vVUGolq 1Vp4KxnzPX2gT3CCafLd9vwbDdfLcn7LyQdgf4epIviPbjnhrUyuXQakOFkq7pEPKLbZ nkvibF3IyJ8EaeMcEfCJtcJJmRZf1qX3qod7g= X-Google-DKIM-Signature: v=1; a=rsa-sha256; c=relaxed/relaxed; d=1e100.net; s=20230601; t=1752879462; x=1753484262; h=references:in-reply-to:cc:to:from:subject:message-id:date :x-gm-message-state:from:to:cc:subject:date:message-id:reply-to; bh=CAI5prOFxJIY/eMi5kWLbBUFLcELscEcGgsecc+VeS4=; b=BSo63J5STIf4yF1/0jYDEKp8Le3ayAv6E3OFyN0c/X6aqYArXH+zSCzUP/6XsPAfu4 IZ6But8wmbHCh1FeD0SWCw7g5GGCdSIimWmmTIjVIeASWmGEVD3lxNcDnav9sw1zR1p6 96galRTEfJupN/WHZP4PI6oQ2GX0fcDpUUdc/+uakk7dzzwfxcG8f4ZS1OmJPVI+0CwP QpCDuTcdQrgs5Tq2kmbqBozAo1BP/OvANHmHvuAEo6T7Cr0diV358XNZYXhDvK4mdIvt 7ii4Zj6RKFtxwGDN/CBqOspPV9hwsA5O9KAgyKaNk+BJBqbwu31F3BVLBvbRm1NDpyaj ivQg== X-Gm-Message-State: AOJu0Yzcbqc4aE++qlhbnDPM83+y6q+e0bLLlfMEGsUBk5/c1EUmZo7N AZZR0YRoQxEiOa//wIU8lzZLnSYy/7gEGs3K38fq/LiQOEP3RIOWSobL7ZFWPxNz2Yk+aTOryKh LZECFNWg/iRZTpAuxv0gP/M6gtGQzGEIwBqa+SnpSxAu3 X-Gm-Gg: ASbGncvMhCJLPNYnKLKiUnNo8qnrEIHEH2CqWb+XPqsr/VRznp0+DrHeuQIS9cArYDm 2zyUYAWgyIEE6D64pJ8F5aWp5zbfQBJXyHcRvRc7elw/6Z0upSa2Rj2SUtdHmD8KmRo2SEdApEE qpJCRypk9nyiMJR3K2ZvM9b4Bv7BgFL/ohUnsmlbA9Ig7R7J+092YRbi4a+UAWBZR/amHWTOqmV aD8+fhayuq/wLqU4M1Sq2pEyZwF79XTDSZOzRngnae93gIy+qOn/BFjYUHkxG3dEI4PgqDv23gF ty61ZdKryqgSE5k86kEN+Tu9O/aXK6F30U6Tf7XYKgkwZkew/Bf/EVdaiRKIiD1jZ04dUrpE X-Google-Smtp-Source: AGHT+IFsRbfbsEtHRDF24v03LGXqBi0pI0vHSLpVu3ORYC8GznyXqfFDkCjAkC86ruA2pWwK4X82SoFzRmC9 X-Received: by 2002:a17:903:1cf:b0:234:8ec1:4af6 with SMTP id d9443c01a7336-23e24f7d214mr188978635ad.45.1752879461869; Fri, 18 Jul 2025 15:57:41 -0700 (PDT) Received: from postal.iol.unh.edu (postal.iol.unh.edu. [132.177.123.84]) by smtp-relay.gmail.com with ESMTPS id d9443c01a7336-23e3b631d66sm1344045ad.48.2025.07.18.15.57.41 (version=TLS1_2 cipher=ECDHE-ECDSA-AES128-GCM-SHA256 bits=128/128); Fri, 18 Jul 2025 15:57:41 -0700 (PDT) X-Relaying-Domain: iol.unh.edu Date: Fri, 18 Jul 2025 15:57:41 -0700 (PDT) Message-ID: <687ad165.170a0220.107f85.7b92SMTPIN_ADDED_MISSING@mx.google.com> Received: from [172.21.0.4] (unknown [172.18.0.240]) by postal.iol.unh.edu (Postfix) with ESMTP id 1BF0C6051830; Fri, 18 Jul 2025 18:57:41 -0400 (EDT) Subject: |SUCCESS| pw155335 [PATCH] [v2] net/intel: fix assumption about tag From: dpdklab@iol.unh.edu To: Test Report Cc: dpdk-test-reports@iol.unh.edu In-Reply-To: <20250718154312.1716432-1-bruce.richardson@intel.com> References: <20250718154312.1716432-1-bruce.richardson@intel.com> Content-Type: text/plain X-BeenThere: test-report@dpdk.org X-Mailman-Version: 2.1.29 Precedence: list List-Id: automatic DPDK test reports List-Unsubscribe: , List-Archive: List-Post: List-Help: List-Subscribe: , Errors-To: test-report-bounces@dpdk.org Test-Label: iol-compile-arm64-testing Test-Status: SUCCESS http://dpdk.org/patch/155335 _Testing PASS_ Submitter: Bruce Richardson Date: Friday, July 18 2025 15:43:12 DPDK git baseline: Repo:dpdk Branch: master CommitID:a6b10031d251fcc7dadede461f7e1d005024b139 155335 --> testing pass Upstream job id: Generic-DPDK-Compile-Meson#409839 Test environment and result as below: +------------------------------+--------------------+ | Environment | dpdk_meson_compile | +==============================+====================+ | Red Hat Enterprise Linux 9.5 | PASS | +------------------------------+--------------------+ | Ubuntu 20.04 | PASS | +------------------------------+--------------------+ | Fedora Linux 40 | PASS | +------------------------------+--------------------+ | Fedora Linux 41 | PASS | +------------------------------+--------------------+ | Ubuntu 22.04 | PASS | +------------------------------+--------------------+ | Ubuntu 24.04 | PASS | +------------------------------+--------------------+ | CentOS Stream 9 | PASS | +------------------------------+--------------------+ | CentOS Stream 10 | PASS | +------------------------------+--------------------+ | Debian GNU/Linux 12 | PASS | +------------------------------+--------------------+ Red Hat Enterprise Linux 9.5 Kernel: 5.4 Compiler: gcc gcc (GCC) 11.5.0 20240719 (Red Hat 11.5.0-2) Ubuntu 20.04 Kernel: 5.15 Compiler: aarch64-linux-gnu-gcc gcc (Ubuntu 9.4.0-1ubuntu1~20.04.2) 9.4.0 Fedora Linux 40 Kernel: 5.4 Compiler: gcc gcc (GCC) 14.2.1 20240912 (Red Hat 14.2.1-3) Fedora Linux 41 Kernel: 5.4 Compiler: clang gcc (GCC) 14.3.1 20250523 (Red Hat 14.3.1-1) Ubuntu 22.04 Kernel: 5.4 Compiler: gcc gcc (Ubuntu 11.4.0-1ubuntu1~22.04) 11.4.0 Ubuntu 24.04 Kernel: 5.4 Compiler: gcc gcc (Ubuntu 13.3.0-6ubuntu2~24.04) 13.3.0 CentOS Stream 9 Kernel: 5.4 Compiler: gcc gcc (GCC) 11.5.0 20240719 (Red Hat 11.5.0-7) CentOS Stream 10 Kernel: 5.4 Compiler: gcc gcc (GCC) 14.2.1 20250110 (Red Hat 14.2.1-8) Debian GNU/Linux 12 Kernel: 5.4 Compiler: gcc gcc (Debian 12.2.0-14+deb12u1) 12.2.0 To view detailed results, visit: https://lab.dpdk.org/results/dashboard/patchsets/33690/ UNH-IOL DPDK Community Lab To manage your email subscriptions, visit: https://lab.dpdk.org/results/dashboard/preferences/subscriptions/