From mboxrd@z Thu Jan 1 00:00:00 1970 Return-Path: Received: from mails.dpdk.org (mails.dpdk.org [217.70.189.124]) by inbox.dpdk.org (Postfix) with ESMTP id C248C46BAF for ; Sat, 19 Jul 2025 00:58:08 +0200 (CEST) Received: from mails.dpdk.org (localhost [127.0.0.1]) by mails.dpdk.org (Postfix) with ESMTP id BDC2040288; Sat, 19 Jul 2025 00:58:08 +0200 (CEST) Received: from mail-oa1-f99.google.com (mail-oa1-f99.google.com [209.85.160.99]) by mails.dpdk.org (Postfix) with ESMTP id 8525840288 for ; Sat, 19 Jul 2025 00:58:07 +0200 (CEST) Received: by mail-oa1-f99.google.com with SMTP id 586e51a60fabf-2ef493de975so1633841fac.1 for ; Fri, 18 Jul 2025 15:58:07 -0700 (PDT) DKIM-Signature: v=1; a=rsa-sha256; c=relaxed/relaxed; d=iol.unh.edu; s=unh-iol; t=1752879487; x=1753484287; darn=dpdk.org; h=references:in-reply-to:cc:to:from:subject:message-id:date:from:to :cc:subject:date:message-id:reply-to; bh=4uPasC41abm93AyusvDN3uYUQr9uU+9oxz9zsQ1moRQ=; b=CQlFe83XNuDB11xAnJMIo1PsI5FL4xn+UnVFiETFCpRGc2KYKQuRqLX4B/yxcjQm0E yxtI8UuJhMaoqa8ai6CJUcZhcLj2VGbCffAvxp9RStjTljap3ibhHrcEA6DdLuQR84zU qqsV4u5JX8n+rt6LdVu1Dknt6owSrgilP+nHY= X-Google-DKIM-Signature: v=1; a=rsa-sha256; c=relaxed/relaxed; d=1e100.net; s=20230601; t=1752879487; x=1753484287; h=references:in-reply-to:cc:to:from:subject:message-id:date :x-gm-message-state:from:to:cc:subject:date:message-id:reply-to; bh=4uPasC41abm93AyusvDN3uYUQr9uU+9oxz9zsQ1moRQ=; b=NaJ+517QXqip5MsUrIzxgNPXQGrbF5sefmUkojC+QS6KGriBMkN/npoc0p166Qsfkc 84mvhhW5YXuZPvLqe2hcm0DfhIHzYCo3GwTF7p42IGgdD1dJijOHQo+wO+Dn/j115HaE 7PJnm+Mx0owaT4y7GnrFFncBEJzHN2TG5eGeTGyQT00yYZGlrCmi+Db8UoxsPFOUV2wD N+LMhFtuUcMmjhfs4qnTs1Z7YTeJrSCS98vgIHvPYti91vm42GsdWRKXWAq3o0/bTO4G GW3qK6/X9QRbFdNrMbcj/3RVFeFpSGLlHWtqFmMovdygWvb+P4lFbzvxj0sSB61p0MJV CIjQ== X-Gm-Message-State: AOJu0YzP5GXegdGXdh2i1lnNRBxx0H3vw3jaTwBCEoDMtlf/0I3ErWMJ 05sBhNlnX4oyT5dhm7iSTu4Mwyy7GuRwsh0NlsFxHacRXZ3ThQBZnfRNlNjtsn/qlt3GPONxv6G 8Thts6KKDz0YNH1SFCDREZjnpHC/5TpaAfLw6zjD0GDJXSxrqnCPJR2k6wUMt X-Gm-Gg: ASbGncsFkzGAuShvbR0eJ8xxswK0ggsS08QyjZacOCGZ854a4HCnILPTBV8uJKAjD5u beYMFhOINFmto6XPrdLMvdf5I+Uv/7zFx5WGy4BJvisZy5BriR/T5rBQm72CJaSEPbfca1Ji5TY T5RY5lGWSu2mLWbthx+P70R3iKOtJNtcFv6wUjZ71NydokF7ep3yG7DjS9UMPRqwlJQOkD3p/20 FfTYFYTEEnkvUZmyfhqbeXvmpxp15Db5bONoxufDCceW+3SvzblwhmApOMqmBOvWChw9Sb5mfL2 rBqRVQSH4prlC1Lbm4D3AlDEkND2NzftjiCsNfE01AiQerA6tg== X-Google-Smtp-Source: AGHT+IFnp0+cJt8vz6vkmqTLSQhmDvXoey5GC2Kw358xoSYij5VjQmpFEb3mSHTCuoI7ann4ycFsSTLqhdFA X-Received: by 2002:a05:6870:5b8f:b0:2d5:b914:fe2d with SMTP id 586e51a60fabf-2ffb2475701mr9987720fac.33.1752879486726; Fri, 18 Jul 2025 15:58:06 -0700 (PDT) Received: from postal.iol.unh.edu (postal.iol.unh.edu. [2606:4100:3880:1234::84]) by smtp-relay.gmail.com with ESMTPS id 586e51a60fabf-30105f10e1esm189676fac.17.2025.07.18.15.58.06 (version=TLS1_2 cipher=ECDHE-ECDSA-AES128-GCM-SHA256 bits=128/128); Fri, 18 Jul 2025 15:58:06 -0700 (PDT) X-Relaying-Domain: iol.unh.edu Date: Fri, 18 Jul 2025 15:58:06 -0700 (PDT) Message-ID: <687ad17e.050a0220.15ee6f.9fcaSMTPIN_ADDED_MISSING@mx.google.com> Received: from [172.21.0.4] (unknown [172.18.0.240]) by postal.iol.unh.edu (Postfix) with ESMTP id 42B2D6051830; Fri, 18 Jul 2025 18:58:06 -0400 (EDT) Subject: |SUCCESS| pw155335 [PATCH] [v2] net/intel: fix assumption about tag From: dpdklab@iol.unh.edu To: Test Report Cc: dpdk-test-reports@iol.unh.edu In-Reply-To: <20250718154312.1716432-1-bruce.richardson@intel.com> References: <20250718154312.1716432-1-bruce.richardson@intel.com> Content-Type: text/plain X-BeenThere: test-report@dpdk.org X-Mailman-Version: 2.1.29 Precedence: list List-Id: automatic DPDK test reports List-Unsubscribe: , List-Archive: List-Post: List-Help: List-Subscribe: , Errors-To: test-report-bounces@dpdk.org Test-Label: iol-compile-arm64-testing Test-Status: SUCCESS http://dpdk.org/patch/155335 _Testing PASS_ Submitter: Bruce Richardson Date: Friday, July 18 2025 15:43:12 DPDK git baseline: Repo:dpdk Branch: master CommitID:a6b10031d251fcc7dadede461f7e1d005024b139 155335 --> testing pass Upstream job id: Generic-DPDK-Compile-Meson#409838 Test environment and result as below: +------------------------------+--------------------+ | Environment | dpdk_meson_compile | +==============================+====================+ | Red Hat Enterprise Linux 9.5 | PASS | +------------------------------+--------------------+ | Ubuntu 20.04 | PASS | +------------------------------+--------------------+ | Fedora Linux 40 | PASS | +------------------------------+--------------------+ | Fedora Linux 41 | PASS | +------------------------------+--------------------+ | Ubuntu 22.04 | PASS | +------------------------------+--------------------+ | Ubuntu 24.04 | PASS | +------------------------------+--------------------+ | CentOS Stream 9 | PASS | +------------------------------+--------------------+ | CentOS Stream 10 | PASS | +------------------------------+--------------------+ | Debian GNU/Linux 12 | PASS | +------------------------------+--------------------+ Red Hat Enterprise Linux 9.5 Kernel: 5.4 Compiler: gcc gcc (GCC) 11.5.0 20240719 (Red Hat 11.5.0-2) Ubuntu 20.04 Kernel: 5.15 Compiler: aarch64-linux-gnu-gcc gcc (Ubuntu 9.4.0-1ubuntu1~20.04.2) 9.4.0 Fedora Linux 40 Kernel: 5.4 Compiler: gcc gcc (GCC) 14.2.1 20240912 (Red Hat 14.2.1-3) Fedora Linux 41 Kernel: 5.4 Compiler: clang gcc (GCC) 14.3.1 20250523 (Red Hat 14.3.1-1) Ubuntu 22.04 Kernel: 5.4 Compiler: gcc gcc (Ubuntu 11.4.0-1ubuntu1~22.04) 11.4.0 Ubuntu 24.04 Kernel: 5.4 Compiler: gcc gcc (Ubuntu 13.3.0-6ubuntu2~24.04) 13.3.0 CentOS Stream 9 Kernel: 5.4 Compiler: gcc gcc (GCC) 11.5.0 20240719 (Red Hat 11.5.0-7) CentOS Stream 10 Kernel: 5.4 Compiler: gcc gcc (GCC) 14.2.1 20250110 (Red Hat 14.2.1-8) Debian GNU/Linux 12 Kernel: 5.4 Compiler: gcc gcc (Debian 12.2.0-14+deb12u1) 12.2.0 To view detailed results, visit: https://lab.dpdk.org/results/dashboard/patchsets/33690/ UNH-IOL DPDK Community Lab To manage your email subscriptions, visit: https://lab.dpdk.org/results/dashboard/preferences/subscriptions/