From mboxrd@z Thu Jan 1 00:00:00 1970 Return-Path: Received: from mails.dpdk.org (mails.dpdk.org [217.70.189.124]) by inbox.dpdk.org (Postfix) with ESMTP id 468A646BAF for ; Sat, 19 Jul 2025 01:25:37 +0200 (CEST) Received: from mails.dpdk.org (localhost [127.0.0.1]) by mails.dpdk.org (Postfix) with ESMTP id 1CE8040288; Sat, 19 Jul 2025 01:25:37 +0200 (CEST) Received: from mail-pf1-f225.google.com (mail-pf1-f225.google.com [209.85.210.225]) by mails.dpdk.org (Postfix) with ESMTP id 5D6C940288 for ; Sat, 19 Jul 2025 01:25:35 +0200 (CEST) Received: by mail-pf1-f225.google.com with SMTP id d2e1a72fcca58-739b3fe7ce8so2566013b3a.0 for ; Fri, 18 Jul 2025 16:25:35 -0700 (PDT) DKIM-Signature: v=1; a=rsa-sha256; c=relaxed/relaxed; d=iol.unh.edu; s=unh-iol; t=1752881134; x=1753485934; darn=dpdk.org; h=references:in-reply-to:cc:to:from:subject:message-id:date:from:to :cc:subject:date:message-id:reply-to; bh=SdbPcGhq41LXtxFzU9N6T4uE3VhMYdbhdY5P7lhcoRE=; b=UiYLSL+ESS6gddT+7U9vt01EtMkBoxwviELud2FTBMO9iAasRQwzhPszhAFNuFN77N mUK6nMEkpw5c2BXHmKFmXZgVJnOaDQc7pvja9O7CFH3F6en0p0bSw2ZfPlXwjNuzw0Ws O1eU7l68Emc2fbduPqMXVRT3+C9VkhdbHQyYs= X-Google-DKIM-Signature: v=1; a=rsa-sha256; c=relaxed/relaxed; d=1e100.net; s=20230601; t=1752881134; x=1753485934; h=references:in-reply-to:cc:to:from:subject:message-id:date :x-gm-message-state:from:to:cc:subject:date:message-id:reply-to; bh=SdbPcGhq41LXtxFzU9N6T4uE3VhMYdbhdY5P7lhcoRE=; b=IbKkP+Hvf0d1AB8ERr0dWaichTcay06RL0JL2dD235eWNEc3PT9Zomt5io/5TXDPXa Lpj4QYyIx8SR6VdIpQOr2ItxbUtqwiTQf7martXtlHpksVcseWAkiEBXht5eU6BoykSK yJ8FBbTaB0L85iausSH8zTABOqgT0rdN7qTogUtX5T3CkwCePKIPXuMvefZQODxWS7Pn 9XF+wtQEXWM9h5MySQ5EeuPL54P6usADhqA+eUBPlhr7gyGCQSPM96f8mhKRspLobuVj GRxBgNALrL60C6jX2dISR/GCUYYI0xYcZN1sZDkWAWWOpBMn+JnY9IxcWP/6tcBZOT6u YZ0A== X-Gm-Message-State: AOJu0Yw7LRSnvWg5etODbCezM5jz39F+w84D+atYF4FZPDC8F51df/am MUYk9JwrH7GXMTxJ8OsflO/oO98YrRA4qSo/YMUciCt0Hj6X8MYI2Mi6fN5/3mE3hude7eFuNcE dkZrDGgyhoE75Tih7v2d30pu8+5LNoGILTKj/VV9N+aRCDFjwNL8jLEUGmftg X-Gm-Gg: ASbGnct+pITUARzT/qy6lfvDKf7QWFe8CJD92wPH5Ub0aIP1WdyaKLjWcklaDJdu4rN mmxs+2b/rEKqzUcu9jx4LQUJ63gxXU/54RoKxjP07ImwmqIgzpFG/qVVFLduAlvtJrdjWcwpxyw KlXLxvWWnANw52xvglPOFm9y79FihIU+trn/nWJ1xCAjGwKhQ3kgQFhNcXz/kjCNFXBevNpm3pN lcYgzpajrwS5a6mgfKLJzFJbkXoq6Q7Iykiegm7KSuLXukwXCMEeNGFnkiq/ZcJiHyjlWe8j4i3 FE0x5Gh8Nxg/XZBFJIfcKsBtxy2ZMqD9xtF/JU/9u7ZnUFZxZw== X-Google-Smtp-Source: AGHT+IFVSc8uNBKRhhHJ5XAyB5xi3gI0xv2/Ed3s5nJfywumdOEkPHmJ8+rG+UaRkp31B9v8qZBCI0hPBcum X-Received: by 2002:a17:903:2d1:b0:234:d2fb:2d28 with SMTP id d9443c01a7336-23e24ec73b2mr203763905ad.2.1752881134238; Fri, 18 Jul 2025 16:25:34 -0700 (PDT) Received: from postal.iol.unh.edu (postal.iol.unh.edu. [2606:4100:3880:1234::84]) by smtp-relay.gmail.com with ESMTPS id d9443c01a7336-23e3b6da596sm1308485ad.91.2025.07.18.16.25.34 (version=TLS1_2 cipher=ECDHE-ECDSA-AES128-GCM-SHA256 bits=128/128); Fri, 18 Jul 2025 16:25:34 -0700 (PDT) X-Relaying-Domain: iol.unh.edu Date: Fri, 18 Jul 2025 16:25:34 -0700 (PDT) Message-ID: <687ad7ee.170a0220.77bc6.6bc4SMTPIN_ADDED_MISSING@mx.google.com> Received: from [172.21.0.2] (unknown [172.18.0.240]) by postal.iol.unh.edu (Postfix) with ESMTP id 743D76050A61; Fri, 18 Jul 2025 19:25:33 -0400 (EDT) Subject: |SUCCESS| pw155336-155347 [PATCH] [v5,13/13] pdump: mark API and app From: dpdklab@iol.unh.edu To: Test Report Cc: dpdk-test-reports@iol.unh.edu In-Reply-To: <20250718163236.9870-14-stephen@networkplumber.org> References: <20250718163236.9870-14-stephen@networkplumber.org> Content-Type: text/plain X-BeenThere: test-report@dpdk.org X-Mailman-Version: 2.1.29 Precedence: list List-Id: automatic DPDK test reports List-Unsubscribe: , List-Archive: List-Post: List-Help: List-Subscribe: , Errors-To: test-report-bounces@dpdk.org Test-Label: iol-unit-arm64-testing Test-Status: SUCCESS http://dpdk.org/patch/155347 _Testing PASS_ Submitter: Stephen Hemminger Date: Friday, July 18 2025 16:28:30 DPDK git baseline: Repo:dpdk Branch: master CommitID:20a053a223db35244b6daee98d71fdab631646b6 155336-155347 --> testing pass Upstream job id: Generic-Unit-Test-DPDK#356361 Test environment and result as below: +------------------------------+--------------+---------------------------+------------------------------+----------------+ | Environment | lpm_autotest | cryptodev_sw_zuc_autotest | cryptodev_sw_snow3g_autotest | dpdk_unit_test | +==============================+==============+===========================+==============================+================+ | Ubuntu 20.04 | PASS | SKIPPED | SKIPPED | PASS | +------------------------------+--------------+---------------------------+------------------------------+----------------+ | Debian 12 (arm) | SKIPPED | PASS | PASS | SKIPPED | +------------------------------+--------------+---------------------------+------------------------------+----------------+ | Fedora Linux 40 | SKIPPED | SKIPPED | SKIPPED | PASS | +------------------------------+--------------+---------------------------+------------------------------+----------------+ | Fedora Linux 41 | SKIPPED | SKIPPED | SKIPPED | PASS | +------------------------------+--------------+---------------------------+------------------------------+----------------+ | Debian GNU/Linux 12 | SKIPPED | SKIPPED | SKIPPED | PASS | +------------------------------+--------------+---------------------------+------------------------------+----------------+ | CentOS Stream 10 | SKIPPED | SKIPPED | SKIPPED | PASS | +------------------------------+--------------+---------------------------+------------------------------+----------------+ | CentOS Stream 9 | SKIPPED | SKIPPED | SKIPPED | PASS | +------------------------------+--------------+---------------------------+------------------------------+----------------+ | Ubuntu 22.04 | SKIPPED | SKIPPED | SKIPPED | PASS | +------------------------------+--------------+---------------------------+------------------------------+----------------+ | Ubuntu 24.04 | SKIPPED | SKIPPED | SKIPPED | PASS | +------------------------------+--------------+---------------------------+------------------------------+----------------+ | Red Hat Enterprise Linux 9.5 | SKIPPED | SKIPPED | SKIPPED | PASS | +------------------------------+--------------+---------------------------+------------------------------+----------------+ Ubuntu 20.04 Kernel: 5.4 Compiler: gcc gcc (Ubuntu 9.4.0-1ubuntu1~20.04.2) 9.4.0 Debian 12 (arm) Kernel: Depends on container host Compiler: gcc (Debian 12.2.0-14) 12.2.0 Fedora Linux 40 Kernel: 5.4 Compiler: clang gcc (GCC) 14.2.1 20240912 (Red Hat 14.2.1-3) Fedora Linux 41 Kernel: 5.4 Compiler: gcc gcc (GCC) 14.3.1 20250523 (Red Hat 14.3.1-1) Debian GNU/Linux 12 Kernel: 5.4 Compiler: gcc gcc (Debian 12.2.0-14+deb12u1) 12.2.0 CentOS Stream 10 Kernel: 5.4 Compiler: gcc gcc (GCC) 14.2.1 20250110 (Red Hat 14.2.1-8) CentOS Stream 9 Kernel: 5.4 Compiler: gcc gcc (GCC) 11.5.0 20240719 (Red Hat 11.5.0-7) Ubuntu 22.04 Kernel: 5.4 Compiler: gcc gcc (Ubuntu 11.4.0-1ubuntu1~22.04) 11.4.0 Ubuntu 24.04 Kernel: 5.4 Compiler: gcc gcc (Ubuntu 13.3.0-6ubuntu2~24.04) 13.3.0 Red Hat Enterprise Linux 9.5 Kernel: 5.4 Compiler: gcc gcc (GCC) 11.5.0 20240719 (Red Hat 11.5.0-2) To view detailed results, visit: https://lab.dpdk.org/results/dashboard/patchsets/33691/ UNH-IOL DPDK Community Lab To manage your email subscriptions, visit: https://lab.dpdk.org/results/dashboard/preferences/subscriptions/