From mboxrd@z Thu Jan 1 00:00:00 1970 Return-Path: Received: from mails.dpdk.org (mails.dpdk.org [217.70.189.124]) by inbox.dpdk.org (Postfix) with ESMTP id C720546BB0 for ; Sat, 19 Jul 2025 02:25:18 +0200 (CEST) Received: from mails.dpdk.org (localhost [127.0.0.1]) by mails.dpdk.org (Postfix) with ESMTP id 9DCE0402B2; Sat, 19 Jul 2025 02:25:18 +0200 (CEST) Received: from mail-pg1-f228.google.com (mail-pg1-f228.google.com [209.85.215.228]) by mails.dpdk.org (Postfix) with ESMTP id 24F83402B2 for ; Sat, 19 Jul 2025 02:25:18 +0200 (CEST) Received: by mail-pg1-f228.google.com with SMTP id 41be03b00d2f7-b31d489a76dso2162472a12.1 for ; Fri, 18 Jul 2025 17:25:18 -0700 (PDT) DKIM-Signature: v=1; a=rsa-sha256; c=relaxed/relaxed; d=iol.unh.edu; s=unh-iol; t=1752884717; x=1753489517; darn=dpdk.org; h=references:in-reply-to:cc:to:from:subject:message-id:date:from:to :cc:subject:date:message-id:reply-to; bh=0xgbafWSjBU21rV6oxclXYOcGQW4fGkW0H/fUiYYI08=; b=ARTwWYSnYQbd9LFCIh5uLz5sTl7cJvKQYJwUTMF+OPiGHX4TeotEJJ9gLXz9DdEBTB vQdvrH6Zqalfc4pN80KV5MYjru+EL8fIAooH7V02WkrkFuicRqAgpld9enx/g+CGjlpq Zcc4BppnbNjSUat+gXPzNTNTbRWGfbIJ62P1A= X-Google-DKIM-Signature: v=1; a=rsa-sha256; c=relaxed/relaxed; d=1e100.net; s=20230601; t=1752884717; x=1753489517; h=references:in-reply-to:cc:to:from:subject:message-id:date :x-gm-message-state:from:to:cc:subject:date:message-id:reply-to; bh=0xgbafWSjBU21rV6oxclXYOcGQW4fGkW0H/fUiYYI08=; b=fW8Lp+NOOap6R4Tz+JKANFAciRcLQLKPPcXZhm1jAPrZpL1piypldbbUghD779bAi1 LqpoHXF/PYOgpcEwYiOksWB9TrC/unX59poJ5z5oXIbpfT6iLPRJkJNKkfW/htl4AGBc P7j0NRqqXpR2nwGi6RZ3//nUCYU2Z5GCpfyHooLgRDMhZFB45FEhduZWCTwXINJwEfOm H+YdJVq4hl4ci8fS8K9D4PJXQgB7s49uEyu5htwRJroJX6LH9euEXmFEAVHdAVlfoyX7 MFqkGF2ZxnvIYHyG+otBaIPNCuz3yQz25wVZcfybElg2Bu5zd4BEpb9FtjPE0vxoEwyk G8Dg== X-Gm-Message-State: AOJu0YzgR//bxAu5v23sR8sCGqcoKMQ4OeKP+QofEQ5hiCjGL+4kEWMS N0H5iGBWBIce3AT8OwUhLOERTX049t3K/vuvhHc1sb3P51+89d620dbipN2hAm+DG1Zdnw9zcR/ giblV0VhOgbYTG6F7ej/sJI2F/lyf8/32xdVgNMeQ0fc9 X-Gm-Gg: ASbGncsyD1rkgqV+1SdtMjo16vqbVBMleOXvs/aL1RLlntnhuIL6dGsR9WMTW1yIro1 7OgsxqMbF6nkbne5z55pKFS9vKPDYwLXiMUkUL9PUztxqxPRMRZzg1bIVRHIofkWsXjM4MelUBb Agc20oz20KOpMa3IGr80+fw5X3SG8W0Z4SCQQNkV0vgNBn8YK/TDmeeG7JzKGAJuO3AqkEgf7Ap 5e8VMA0eVj53QRyWILY/SIaOOaiLOP6pQEb8yawcMHgQjxi6qKZNQvb0PSYI8G8abIRIYRNaepe wlcsfjS9tEVHKPpKOVORexwlBXzV5+/yv3vuArzQX5aNmERCsQyTxCcfXxqA1wISSpBDCa9n X-Google-Smtp-Source: AGHT+IEsUw0+SvH5pqszcxUYulHpbKphUa+Rr2GLjHMX1dvZmz0pOSOeanCurLnJPZ75xO3juv2GasxXqP0x X-Received: by 2002:a17:90b:38c8:b0:313:287c:74bd with SMTP id 98e67ed59e1d1-31c9f4c46d3mr18909456a91.33.1752884717246; Fri, 18 Jul 2025 17:25:17 -0700 (PDT) Received: from postal.iol.unh.edu (postal.iol.unh.edu. [132.177.123.84]) by smtp-relay.gmail.com with ESMTPS id d9443c01a7336-23e3b6d8ccesm1409885ad.94.2025.07.18.17.25.17 (version=TLS1_2 cipher=ECDHE-ECDSA-AES128-GCM-SHA256 bits=128/128); Fri, 18 Jul 2025 17:25:17 -0700 (PDT) X-Relaying-Domain: iol.unh.edu Date: Fri, 18 Jul 2025 17:25:17 -0700 (PDT) Message-ID: <687ae5ed.170a0220.60328.73c4SMTPIN_ADDED_MISSING@mx.google.com> Received: from [172.21.0.2] (unknown [172.18.0.240]) by postal.iol.unh.edu (Postfix) with ESMTP id 7C3F06051830; Fri, 18 Jul 2025 20:25:16 -0400 (EDT) Subject: |SUCCESS| pw155349 [PATCH] net/gve: free device resources in gve_dev From: dpdklab@iol.unh.edu To: Test Report Cc: dpdk-test-reports@iol.unh.edu In-Reply-To: <20250718182725.467544-1-jtranoleary@google.com> References: <20250718182725.467544-1-jtranoleary@google.com> Content-Type: text/plain X-BeenThere: test-report@dpdk.org X-Mailman-Version: 2.1.29 Precedence: list List-Id: automatic DPDK test reports List-Unsubscribe: , List-Archive: List-Post: List-Help: List-Subscribe: , Errors-To: test-report-bounces@dpdk.org Test-Label: iol-unit-arm64-testing Test-Status: SUCCESS http://dpdk.org/patch/155349 _Testing PASS_ Submitter: Jasper Tran O'Leary Date: Friday, July 18 2025 18:27:25 DPDK git baseline: Repo:dpdk Branch: master CommitID:9fe9c0b231c8da5435bfccb1963121b4277f961c 155349 --> testing pass Upstream job id: Generic-Unit-Test-DPDK#356371 Test environment and result as below: +------------------------------+----------------+--------------+---------------------------+------------------------------+ | Environment | dpdk_unit_test | lpm_autotest | cryptodev_sw_zuc_autotest | cryptodev_sw_snow3g_autotest | +==============================+================+==============+===========================+==============================+ | CentOS Stream 9 | PASS | SKIPPED | SKIPPED | SKIPPED | +------------------------------+----------------+--------------+---------------------------+------------------------------+ | Debian GNU/Linux 12 | PASS | SKIPPED | SKIPPED | SKIPPED | +------------------------------+----------------+--------------+---------------------------+------------------------------+ | CentOS Stream 10 | PASS | SKIPPED | SKIPPED | SKIPPED | +------------------------------+----------------+--------------+---------------------------+------------------------------+ | Red Hat Enterprise Linux 9.5 | PASS | SKIPPED | SKIPPED | SKIPPED | +------------------------------+----------------+--------------+---------------------------+------------------------------+ | Fedora Linux 40 | PASS | SKIPPED | SKIPPED | SKIPPED | +------------------------------+----------------+--------------+---------------------------+------------------------------+ | Ubuntu 20.04 | PASS | PASS | SKIPPED | SKIPPED | +------------------------------+----------------+--------------+---------------------------+------------------------------+ | Fedora Linux 41 | PASS | SKIPPED | SKIPPED | SKIPPED | +------------------------------+----------------+--------------+---------------------------+------------------------------+ | Ubuntu 24.04 | PASS | SKIPPED | SKIPPED | SKIPPED | +------------------------------+----------------+--------------+---------------------------+------------------------------+ | Ubuntu 22.04 | PASS | SKIPPED | SKIPPED | SKIPPED | +------------------------------+----------------+--------------+---------------------------+------------------------------+ | Debian 12 (arm) | SKIPPED | SKIPPED | PASS | PASS | +------------------------------+----------------+--------------+---------------------------+------------------------------+ CentOS Stream 9 Kernel: 5.4 Compiler: gcc gcc (GCC) 11.5.0 20240719 (Red Hat 11.5.0-7) Debian GNU/Linux 12 Kernel: 5.4 Compiler: gcc gcc (Debian 12.2.0-14+deb12u1) 12.2.0 CentOS Stream 10 Kernel: 5.4 Compiler: gcc gcc (GCC) 14.2.1 20250110 (Red Hat 14.2.1-8) Red Hat Enterprise Linux 9.5 Kernel: 5.4 Compiler: gcc gcc (GCC) 11.5.0 20240719 (Red Hat 11.5.0-2) Fedora Linux 40 Kernel: 5.4 Compiler: gcc gcc (GCC) 14.2.1 20240912 (Red Hat 14.2.1-3) Ubuntu 20.04 Kernel: 5.4 Compiler: gcc gcc (Ubuntu 9.4.0-1ubuntu1~20.04.2) 9.4.0 Fedora Linux 41 Kernel: 5.4 Compiler: clang gcc (GCC) 14.3.1 20250523 (Red Hat 14.3.1-1) Ubuntu 24.04 Kernel: 5.4 Compiler: gcc gcc (Ubuntu 13.3.0-6ubuntu2~24.04) 13.3.0 Ubuntu 22.04 Kernel: 5.4 Compiler: gcc gcc (Ubuntu 11.4.0-1ubuntu1~22.04) 11.4.0 Debian 12 (arm) Kernel: Depends on container host Compiler: gcc (Debian 12.2.0-14) 12.2.0 To view detailed results, visit: https://lab.dpdk.org/results/dashboard/patchsets/33692/ UNH-IOL DPDK Community Lab To manage your email subscriptions, visit: https://lab.dpdk.org/results/dashboard/preferences/subscriptions/