From mboxrd@z Thu Jan 1 00:00:00 1970 Return-Path: Received: from mails.dpdk.org (mails.dpdk.org [217.70.189.124]) by inbox.dpdk.org (Postfix) with ESMTP id 5D41146BB0 for ; Sat, 19 Jul 2025 03:33:38 +0200 (CEST) Received: from mails.dpdk.org (localhost [127.0.0.1]) by mails.dpdk.org (Postfix) with ESMTP id 3C23E402B2; Sat, 19 Jul 2025 03:33:38 +0200 (CEST) Received: from mail-pg1-f227.google.com (mail-pg1-f227.google.com [209.85.215.227]) by mails.dpdk.org (Postfix) with ESMTP id 65696402B2 for ; Sat, 19 Jul 2025 03:33:37 +0200 (CEST) Received: by mail-pg1-f227.google.com with SMTP id 41be03b00d2f7-b390d09e957so2843360a12.1 for ; Fri, 18 Jul 2025 18:33:37 -0700 (PDT) DKIM-Signature: v=1; a=rsa-sha256; c=relaxed/relaxed; d=iol.unh.edu; s=unh-iol; t=1752888816; x=1753493616; darn=dpdk.org; h=references:in-reply-to:cc:to:from:subject:message-id:date:from:to :cc:subject:date:message-id:reply-to; bh=XXPYMawB+XekMWnb0mCAlV0FKZj0SolhoO//Zqz1hDE=; b=WOi0eUFCz3TS3iRLNkH7pW7Wt0QNw5w7vgQ3pxWaUndY3bvAWcAg0rBzaSecyuLHh/ VTCDipq36coZOVVnRBDDhn7X//o1F1mG5rKEVZbVfCMKAOj/ytavGJeUrQQl9dDYszz3 kFfL26jczPcdqTW0QYCMen/KEDwFeSbmnpEvo= X-Google-DKIM-Signature: v=1; a=rsa-sha256; c=relaxed/relaxed; d=1e100.net; s=20230601; t=1752888816; x=1753493616; h=references:in-reply-to:cc:to:from:subject:message-id:date :x-gm-message-state:from:to:cc:subject:date:message-id:reply-to; bh=XXPYMawB+XekMWnb0mCAlV0FKZj0SolhoO//Zqz1hDE=; b=HQL5ssBgp5AmhXTugjyoksOPchyTNM5SLShHGfsNYS1cceslocgNfOsMDBysTEXNkK LVLuSJ2HJNxbJfl+aUItfuxnB3VyvTY39wzib895b7GOh+lbSwPpgLwFQSFabOPvV+Nh TN3cEjA1f5RB5ph/taT+5HpixXgV8w0Rc/5oXwURAZSVzbjZsguNaGE2zxSywHCCJgqY 4kbpk8L2eRCpj1AhQasNp0zVAJGYODScCxY9eWo9LB5FPhFcaQbuJJ40SD5nXGLe8rhH rI8YAosU3Kivoj9t0kD2tfaa1qJWw6RSFxyfEEUd0h1wHKjUewjtGt5Oxj5CHR+fw1A8 Bc/A== X-Gm-Message-State: AOJu0YxwkXxKMTZ6t/KI4JsZXAnwo3dr/xQJF2mWLuYTjgtdaVBAMhPQ rXaSYur0PB27SJprcXBXfsOPw5+GPqFdycVRA2RFfntxQjBVo9MIMQlZibG8nqUynp3sNFCVsAo bLPDbso86sy2lpMSxHhrE0BZMndI77wY2QEOtRye5eKfo X-Gm-Gg: ASbGncv3vWxBKZe8YOedXgMT1VjzQn1GniN/+e7N3KyutHKvRqeW33yW7/KFvwm+3OZ JvKaEv5P3ranlVPyGCGbZMXfGb0ISlBzNbzDHXfAqg0mkUstPclmSWZRyHGpnbTyobGL9wEjebu pTLOMrGHYfuZK7xmlcZQdW+lD21QdE1rzcnqyPefXG6OVK+E9wXWzvDoGnV8S7TXHE/fu6UFXd4 irOBMADZa2bVjeu4cWAkO8OlYpdclnsurmREUSN0SSNPXyqwOHENUvgZdSk1QFfBaqhhtqvpPoG BJ2WTZrJVJpu5Wste1rGJOYaZ3GkiOOeQwHm0vl2qbAjddzOdxUg7wfhLoyBA9c8AY3LTKpF X-Google-Smtp-Source: AGHT+IFfrNyPSYduSAnrMFTCPPwe1Yn0JgQMOGzmUFy+NAEeLfbqBhqtyeNjNX8/1Tghurb1T1uwVxMCDB5m X-Received: by 2002:a05:6a21:5001:b0:238:351a:6440 with SMTP id adf61e73a8af0-238351aa1a9mr13369526637.43.1752888816481; Fri, 18 Jul 2025 18:33:36 -0700 (PDT) Received: from postal.iol.unh.edu (postal.iol.unh.edu. [132.177.123.84]) by smtp-relay.gmail.com with ESMTPS id 41be03b00d2f7-b3f2fe69dfcsm152650a12.6.2025.07.18.18.33.36 (version=TLS1_2 cipher=ECDHE-ECDSA-AES128-GCM-SHA256 bits=128/128); Fri, 18 Jul 2025 18:33:36 -0700 (PDT) X-Relaying-Domain: iol.unh.edu Date: Fri, 18 Jul 2025 18:33:36 -0700 (PDT) Message-ID: <687af5f0.050a0220.6eb63.7d24SMTPIN_ADDED_MISSING@mx.google.com> Received: from [172.21.0.2] (unknown [172.18.0.240]) by postal.iol.unh.edu (Postfix) with ESMTP id AE1D36051830; Fri, 18 Jul 2025 21:33:35 -0400 (EDT) Subject: |SUCCESS| pw155349 [PATCH] net/gve: free device resources in gve_dev From: dpdklab@iol.unh.edu To: Test Report Cc: dpdk-test-reports@iol.unh.edu In-Reply-To: <20250718182725.467544-1-jtranoleary@google.com> References: <20250718182725.467544-1-jtranoleary@google.com> Content-Type: text/plain X-BeenThere: test-report@dpdk.org X-Mailman-Version: 2.1.29 Precedence: list List-Id: automatic DPDK test reports List-Unsubscribe: , List-Archive: List-Post: List-Help: List-Subscribe: , Errors-To: test-report-bounces@dpdk.org Test-Label: iol-compile-arm64-testing Test-Status: SUCCESS http://dpdk.org/patch/155349 _Testing PASS_ Submitter: Jasper Tran O'Leary Date: Friday, July 18 2025 18:27:25 DPDK git baseline: Repo:dpdk Branch: master CommitID:9fe9c0b231c8da5435bfccb1963121b4277f961c 155349 --> testing pass Upstream job id: Generic-DPDK-Compile-Meson#409916 Test environment and result as below: +------------------------------+--------------------+ | Environment | dpdk_meson_compile | +==============================+====================+ | Red Hat Enterprise Linux 9.5 | PASS | +------------------------------+--------------------+ | Ubuntu 20.04 | PASS | +------------------------------+--------------------+ | Debian GNU/Linux 12 | PASS | +------------------------------+--------------------+ | Fedora Linux 40 | PASS | +------------------------------+--------------------+ | Fedora Linux 41 | PASS | +------------------------------+--------------------+ | Ubuntu 22.04 | PASS | +------------------------------+--------------------+ | Ubuntu 24.04 | PASS | +------------------------------+--------------------+ | CentOS Stream 9 | PASS | +------------------------------+--------------------+ | CentOS Stream 10 | PASS | +------------------------------+--------------------+ Red Hat Enterprise Linux 9.5 Kernel: 5.4 Compiler: gcc gcc (GCC) 11.5.0 20240719 (Red Hat 11.5.0-2) Ubuntu 20.04 Kernel: 5.15 Compiler: aarch64-linux-gnu-gcc gcc (Ubuntu 9.4.0-1ubuntu1~20.04.2) 9.4.0 Debian GNU/Linux 12 Kernel: 5.4 Compiler: gcc gcc (Debian 12.2.0-14+deb12u1) 12.2.0 Fedora Linux 40 Kernel: 5.4 Compiler: gcc gcc (GCC) 14.2.1 20240912 (Red Hat 14.2.1-3) Fedora Linux 41 Kernel: 5.4 Compiler: gcc gcc (GCC) 14.3.1 20250523 (Red Hat 14.3.1-1) Ubuntu 22.04 Kernel: 5.4 Compiler: gcc gcc (Ubuntu 11.4.0-1ubuntu1~22.04) 11.4.0 Ubuntu 24.04 Kernel: 5.4 Compiler: gcc gcc (Ubuntu 13.3.0-6ubuntu2~24.04) 13.3.0 CentOS Stream 9 Kernel: 5.4 Compiler: gcc gcc (GCC) 11.5.0 20240719 (Red Hat 11.5.0-7) CentOS Stream 10 Kernel: 5.4 Compiler: gcc gcc (GCC) 14.2.1 20250110 (Red Hat 14.2.1-8) To view detailed results, visit: https://lab.dpdk.org/results/dashboard/patchsets/33692/ UNH-IOL DPDK Community Lab To manage your email subscriptions, visit: https://lab.dpdk.org/results/dashboard/preferences/subscriptions/