From mboxrd@z Thu Jan 1 00:00:00 1970 Return-Path: Received: from mails.dpdk.org (mails.dpdk.org [217.70.189.124]) by inbox.dpdk.org (Postfix) with ESMTP id A373146BB8 for ; Sat, 19 Jul 2025 12:46:11 +0200 (CEST) Received: from mails.dpdk.org (localhost [127.0.0.1]) by mails.dpdk.org (Postfix) with ESMTP id 7D72C400D7; Sat, 19 Jul 2025 12:46:11 +0200 (CEST) Received: from mail-pf1-f227.google.com (mail-pf1-f227.google.com [209.85.210.227]) by mails.dpdk.org (Postfix) with ESMTP id CAEAE400D7 for ; Sat, 19 Jul 2025 12:46:10 +0200 (CEST) Received: by mail-pf1-f227.google.com with SMTP id d2e1a72fcca58-747fba9f962so2814719b3a.0 for ; Sat, 19 Jul 2025 03:46:10 -0700 (PDT) DKIM-Signature: v=1; a=rsa-sha256; c=relaxed/relaxed; d=iol.unh.edu; s=unh-iol; t=1752921970; x=1753526770; darn=dpdk.org; h=references:in-reply-to:cc:to:from:subject:message-id:date:from:to :cc:subject:date:message-id:reply-to; bh=b83PgK6W6IbuIpjgkrud7IGmOrG5KvuU8UOpOupbK08=; b=fMOPWcbKnuB2pljpef0R8o0y4wFc7Et+gAfTa4Movvq2NdJIqObl3GkIFJonzdMmRh R/OuDmKOhRRuwb6bZASsqy2NoxcsIWbsjk1fr0AvdL3vWo5z8CIVja7pJduNW1z95Zmx lXpGilJJ9ckfOg1G8AiCGCl76fBu+jG269F9Q= X-Google-DKIM-Signature: v=1; a=rsa-sha256; c=relaxed/relaxed; d=1e100.net; s=20230601; t=1752921970; x=1753526770; h=references:in-reply-to:cc:to:from:subject:message-id:date :x-gm-message-state:from:to:cc:subject:date:message-id:reply-to; bh=b83PgK6W6IbuIpjgkrud7IGmOrG5KvuU8UOpOupbK08=; b=Go7dzOEYfnVJDQN8G38882c4kF4pRyJNCGix+6HqYwyZYzyFh+10R7m8e9gTAlkZGX 7m0xdjYAmSDNDb4n4O9Uq+axgVTmlsvRxOZG6VpIJpoGTGHc8QhqX+wxRYVg1L+oW84O sWgV/GhWoOhG3J3K6BSQJUnAkegJdUZmjpX2SZCF3PuYWBDtuAKCeMzru6bXiRxM62mh Psvc7KpxG7lERR042JrN8j75LhpMnkeqVTGR6pZPylUCS0BmOJQ4NH/IXBK1Wf0B4mXM KwDExroz6nkLGnCHbDcCPVp5/YegWC0VRqnstD2ajEkiheznZBvq9zYJ1O4USKrehibB Qp+A== X-Gm-Message-State: AOJu0YyEer/ABgAODxR0aQC4M6plj/oqH0JjoYdPnCe1fZBev7rwnKkv ueTXjHVmU2olIrRmQYNK0rTtQCmp5Ob6fZ36zQRGY4fmaB3bttChbD6e7172gZyGB5WCIMMMO1D dv5m3XEAfwq4lOWfN6HqEABge+6xdz+ZLyShA8Lb8ot8wtHVEBLs6wCVHVcQy X-Gm-Gg: ASbGncvlp/L5L60VKdD6hceCAMhctZrxIdumN8i5Dp6vFRXmNYV7KKZm0X87E/v9CXL rKlycCZaP1R/29JyI3x2J3GO4kUtk9Fh0yyAoC+Bk484BcGo22YrjoXd8UF5N3MizS47C9L0bg5 Y+Ern412SgCVPA57acAhIYBrjO8Nr58qNq8DoP8zU3V/35XnQPiIG2jnMzeQIMAVjzNsvuY8Lil LWBiIXhzgazCfGGsLdeRom9k1sRd9kP9naT1jff2/2HUROhblsvsq9nf2MvclcBtYkjheDLmomc +mgdphwUgBeqC4A3EQVxh2/vHl9jK/T8qIT9qUfXoTo2UA9Z/Q== X-Google-Smtp-Source: AGHT+IGRICNgd00LWD0Ezxa9nrqjyZSsCWJy+aP1j8HXDv1kLrYETozw8/Ond75+3sKn0JC9Cl6vornh5nx/ X-Received: by 2002:a05:6a00:ab8a:b0:73b:ac3d:9d6b with SMTP id d2e1a72fcca58-75837584a3amr16118289b3a.4.1752921969754; Sat, 19 Jul 2025 03:46:09 -0700 (PDT) Received: from postal.iol.unh.edu (postal.iol.unh.edu. [2606:4100:3880:1234::84]) by smtp-relay.gmail.com with ESMTPS id d2e1a72fcca58-759c84dae39sm194379b3a.1.2025.07.19.03.46.09 (version=TLS1_2 cipher=ECDHE-ECDSA-AES128-GCM-SHA256 bits=128/128); Sat, 19 Jul 2025 03:46:09 -0700 (PDT) X-Relaying-Domain: iol.unh.edu Date: Sat, 19 Jul 2025 03:46:09 -0700 (PDT) Message-ID: <687b7771.050a0220.14cac1.968dSMTPIN_ADDED_MISSING@mx.google.com> Received: from [172.21.0.2] (unknown [172.18.0.240]) by postal.iol.unh.edu (Postfix) with ESMTP id 0A8CA6051830; Sat, 19 Jul 2025 06:46:09 -0400 (EDT) Subject: |SUCCESS| pw155350-155362 [PATCH] [v10,14/14] net/sxe: add Solve com From: dpdklab@iol.unh.edu To: Test Report Cc: dpdk-test-reports@iol.unh.edu In-Reply-To: <20250719090537.699357-14-liujie5@linkdatatechnology.com> References: <20250719090537.699357-14-liujie5@linkdatatechnology.com> Content-Type: text/plain X-BeenThere: test-report@dpdk.org X-Mailman-Version: 2.1.29 Precedence: list List-Id: automatic DPDK test reports List-Unsubscribe: , List-Archive: List-Post: List-Help: List-Subscribe: , Errors-To: test-report-bounces@dpdk.org Test-Label: iol-unit-arm64-testing Test-Status: SUCCESS http://dpdk.org/patch/155362 _Testing PASS_ Submitter: Jie Liu Date: Saturday, July 19 2025 09:05:37 DPDK git baseline: Repo:dpdk Branch: master CommitID:f6e3473724e7ce31103fa0ecad62b282ec8e7090 155350-155362 --> testing pass Upstream job id: Generic-Unit-Test-DPDK#356468 Test environment and result as below: +------------------------------+----------------+--------------+------------------------------+---------------------------+ | Environment | dpdk_unit_test | lpm_autotest | cryptodev_sw_snow3g_autotest | cryptodev_sw_zuc_autotest | +==============================+================+==============+==============================+===========================+ | Fedora Linux 40 | PASS | SKIPPED | SKIPPED | SKIPPED | +------------------------------+----------------+--------------+------------------------------+---------------------------+ | CentOS Stream 10 | PASS | SKIPPED | SKIPPED | SKIPPED | +------------------------------+----------------+--------------+------------------------------+---------------------------+ | Debian GNU/Linux 12 | PASS | SKIPPED | SKIPPED | SKIPPED | +------------------------------+----------------+--------------+------------------------------+---------------------------+ | CentOS Stream 9 | PASS | SKIPPED | SKIPPED | SKIPPED | +------------------------------+----------------+--------------+------------------------------+---------------------------+ | Fedora Linux 41 | PASS | SKIPPED | SKIPPED | SKIPPED | +------------------------------+----------------+--------------+------------------------------+---------------------------+ | Red Hat Enterprise Linux 9.5 | PASS | SKIPPED | SKIPPED | SKIPPED | +------------------------------+----------------+--------------+------------------------------+---------------------------+ | Ubuntu 20.04 | PASS | PASS | SKIPPED | SKIPPED | +------------------------------+----------------+--------------+------------------------------+---------------------------+ | Ubuntu 22.04 | PASS | SKIPPED | SKIPPED | SKIPPED | +------------------------------+----------------+--------------+------------------------------+---------------------------+ | Ubuntu 24.04 | PASS | SKIPPED | SKIPPED | SKIPPED | +------------------------------+----------------+--------------+------------------------------+---------------------------+ | Debian 12 (arm) | SKIPPED | SKIPPED | PASS | PASS | +------------------------------+----------------+--------------+------------------------------+---------------------------+ Fedora Linux 40 Kernel: 5.4 Compiler: clang gcc (GCC) 14.2.1 20240912 (Red Hat 14.2.1-3) CentOS Stream 10 Kernel: 5.4 Compiler: gcc gcc (GCC) 14.2.1 20250110 (Red Hat 14.2.1-8) Debian GNU/Linux 12 Kernel: 5.4 Compiler: gcc gcc (Debian 12.2.0-14+deb12u1) 12.2.0 CentOS Stream 9 Kernel: 5.4 Compiler: gcc gcc (GCC) 11.5.0 20240719 (Red Hat 11.5.0-7) Fedora Linux 41 Kernel: 5.4 Compiler: gcc gcc (GCC) 14.3.1 20250523 (Red Hat 14.3.1-1) Red Hat Enterprise Linux 9.5 Kernel: 5.4 Compiler: gcc gcc (GCC) 11.5.0 20240719 (Red Hat 11.5.0-2) Ubuntu 20.04 Kernel: 5.4 Compiler: gcc gcc (Ubuntu 9.4.0-1ubuntu1~20.04.2) 9.4.0 Ubuntu 22.04 Kernel: 5.4 Compiler: gcc gcc (Ubuntu 11.4.0-1ubuntu1~22.04) 11.4.0 Ubuntu 24.04 Kernel: 5.4 Compiler: gcc gcc (Ubuntu 13.3.0-6ubuntu2~24.04) 13.3.0 Debian 12 (arm) Kernel: Depends on container host Compiler: gcc (Debian 12.2.0-14) 12.2.0 To view detailed results, visit: https://lab.dpdk.org/results/dashboard/patchsets/33693/ UNH-IOL DPDK Community Lab To manage your email subscriptions, visit: https://lab.dpdk.org/results/dashboard/preferences/subscriptions/